BEGIN:VCALENDAR
VERSION:2.0
PRODID:-//CBS//Publication calendar//en-GB
BEGIN:VTIMEZONE
TZID:Europe/Amsterdam
X-LIC-LOCATION:Europe/Amsterdam
BEGIN:DAYLIGHT
TZOFFSETFROM:+0100
TZOFFSETTO:+0200
TZNAME:CEST
DTSTART:19700329T020000
RRULE:FREQ=YEARLY;INTERVAL=1;BYDAY=-1SU;BYMONTH=3
END:DAYLIGHT
BEGIN:STANDARD
TZOFFSETFROM:+0200
TZOFFSETTO:+0100
TZNAME:CET
DTSTART:19701025T030000
RRULE:FREQ=YEARLY;INTERVAL=1;BYDAY=-1SU;BYMONTH=10
END:STANDARD
END:VTIMEZONE
BEGIN:VEVENT
UID:f0b11c05-3a12-4fe8-aef1-bc2a4dfe9d3d-en-GB@cbs.nl
DTSTAMP:20170712T172359
DTSTART;TZID=Europe/Amsterdam:20171221T150000
DTEND;TZID=Europe/Amsterdam:20171221T151500
DESCRIPTION:Publication date: 21/12/2017 / 15:00\nSubject (title): Investme
 nts\nReporting period: October 2017
SUMMARY:Statistics Netherlands publication: Investments
LOCATION:The Hague / Heerlen
PRIORITY:2
END:VEVENT
END:VCALENDAR
