BEGIN:VCALENDAR
VERSION:2.0
PRODID:-//CBS//Publication calendar//en-GB
BEGIN:VTIMEZONE
TZID:Europe/Amsterdam
X-LIC-LOCATION:Europe/Amsterdam
BEGIN:DAYLIGHT
TZOFFSETFROM:+0100
TZOFFSETTO:+0200
TZNAME:CEST
DTSTART:19700329T020000
RRULE:FREQ=YEARLY;INTERVAL=1;BYDAY=-1SU;BYMONTH=3
END:DAYLIGHT
BEGIN:STANDARD
TZOFFSETFROM:+0200
TZOFFSETTO:+0100
TZNAME:CET
DTSTART:19701025T030000
RRULE:FREQ=YEARLY;INTERVAL=1;BYDAY=-1SU;BYMONTH=10
END:STANDARD
END:VTIMEZONE
BEGIN:VEVENT
UID:7352c137-e2be-4386-a8c3-07141f4769d3-en-GB@cbs.nl
DTSTAMP:20170712T172550
DTSTART;TZID=Europe/Amsterdam:20171222T150000
DTEND;TZID=Europe/Amsterdam:20171222T151500
DESCRIPTION:Publication date: 22/12/2017 / 15:00\nSubject (title): Economic
  growth\, 2nd estimate\nReporting period: Quarter 3 2017
SUMMARY:Statistics Netherlands publication: Economic growth, 2nd estimate
LOCATION:The Hague / Heerlen
PRIORITY:2
END:VEVENT
END:VCALENDAR
