BEGIN:VCALENDAR
VERSION:2.0
PRODID:-//CBS//Publication calendar//en-GB
BEGIN:VTIMEZONE
TZID:Europe/Amsterdam
X-LIC-LOCATION:Europe/Amsterdam
BEGIN:DAYLIGHT
TZOFFSETFROM:+0100
TZOFFSETTO:+0200
TZNAME:CEST
DTSTART:19700329T020000
RRULE:FREQ=YEARLY;INTERVAL=1;BYDAY=-1SU;BYMONTH=3
END:DAYLIGHT
BEGIN:STANDARD
TZOFFSETFROM:+0200
TZOFFSETTO:+0100
TZNAME:CET
DTSTART:19701025T030000
RRULE:FREQ=YEARLY;INTERVAL=1;BYDAY=-1SU;BYMONTH=10
END:STANDARD
END:VTIMEZONE
BEGIN:VEVENT
UID:1612896b-b220-4422-bd68-e560c736bff1-en-GB@cbs.nl
DTSTAMP:20170712T173256
DTSTART;TZID=Europe/Amsterdam:20180115T150000
DTEND;TZID=Europe/Amsterdam:20180115T151500
DESCRIPTION:Publication date: 15/01/2018 / 15:00\nSubject (title): Retail t
 urnover\nReporting period: November 2017
SUMMARY:Statistics Netherlands publication: Retail turnover
LOCATION:The Hague / Heerlen
PRIORITY:2
END:VEVENT
END:VCALENDAR
