Workbook
Name Eerstegetal: #REF!
Name Eerstegetal: #REF!
Name Eerstegetal: #REF!
Name Eerstegetal: #REF!
Name Eerstegetal: #REF!
Name Namen: #REF!
Name Namen: #REF!
Name Namen: #REF!
Name Namen: #REF!
Name Namen: #REF!

Sheet Voorblad
A3: Herhaald beroep bij en verloop van jeugdbescherming en jeugdreclassering, 2015- juni 2026
A41: CBS, Rechtsbescherming en Veiligheid
A42: Oktober 2026

Sheet Inhoud
A1: Inhoud
A3: Werkblad | B3: Inhoud
A5: Toelichting | B5: Toelichting bij de tabellen
A6: Figuren | B6: Figuren bij de tabellen
A7: Tabel 1. | B7: Terugkeer na afgesloten aansluitende episodes van jeugdbeschermings- en/of jeugdreclasseringsmaatregelen naar duur van de episode, 2015-2025
A8: Tabel 2. | B8: Jeugdhulp voorafgaand aan gestarte aansluitende episodes van jeugdbeschermings- en/of jeugdreclasseringsmaatregelen, 2016-2026
A9: Tabel 3.0 | B9: Afgesloten aansluitende episodes van jeugdbeschermings- en/of jeugdreclasseringsmaatregelen, 2016-2025
A10: Tabel 3.1 | B10: Jeugdhulp voorafgaand aan afgesloten aansluitende episodes van jeugdbeschermings- en/of jeugdreclasseringsmaatregelen, 2016-2026
A11: Tabel 3.2 | B11: Jeugdhulp tijdens afgesloten aansluitende episodes van jeugdbeschermings- en/of jeugdreclasseringsmaatregelen, 2015-2026
A12: Tabel 3.3 | B12: Jeugdhulp na afgesloten aansluitende episodes van jeugdbeschermings- en/of jeugdreclasseringsmaatregelen, 2015-2025
A41: Verklaring van tekens
A42: niets (blanco) = het cijfer kan op logische gronden niet voorkomen
A43: . = het cijfer is onbekend, onvoldoende betrouwbaar of geheim
A44: * = voorlopige cijfers
A45: ** = nader voorlopige cijfers
A46: 2019–2020 = 2019 tot en met 2020
A47: 2019/2020 = het gemiddelde over de jaren 2019 tot en met 2020
A48: 2019/’20 = oogstjaar, boekjaar, schooljaar enz., beginnend in 2019 en eindigend in 2020
A49: 2017/’18–2019/’20 = oogstjaar, boekjaar enz., 2017/’18 tot en met 2019/’20
A50: In geval van afronding kan het voorkomen dat het weergegeven totaal niet overeenstemt met de som van de getallen.
A52: Vragen over deze publicatie kunnen gestuurd worden aan CBS op Maat onder vermelding van het referentienummer PR0000300. Het e-mailadres is maatwerk@cbs.nl.

Sheet Toelichting
A1: Toelichting bij de tabellen
A3: Inleiding
A4: In het kader van de Beleidsinformatie Jeugd verzamelt CBS tweemaal per jaar gegevens over jeugdhulp, jeugdbescherming en jeugdreclassering. In aanvulling op de reguliere StatLine-tabellen en rapportages die CBS daarover publiceert, zijn op verzoek van het Ministerie van Justitie en Veiligheid (J&V) en het Ministerie van Volksgezondheid, Welzijn en Sport (VWS) tabellen samengesteld over de terugkeer van jongeren in de jeugdbescherming en/of jeugdreclassering en over het al dan niet hebben van jeugdhulp voor, tijdens en/of na de jeugdbescherming en/of jeugdreclassering.
A6: Sinds de invoering van de Jeugdwet in 2015, zijn gemeenten verantwoordelijk voor de jeugdbescherming en jeugdreclassering. Gecertificeerde instellingen (GI) voeren de jeugdbeschermings- en jeugdreclasseringsmaatregelen uit. Jongeren kunnen na een afgesloten maatregel op een later moment weer terugkeren in de jeugdbescherming- en of jeugdreclassering. Tevens kunnen zij voor, tijdens en/of na een maatregel ook jeugdhulp ontvangen. In deze tabellen wordt deze terugkeer en de combinatie met jeugdhulp cijfermatig in beeld gebracht, in samenhang met de duur van de afgesloten maatregel.
A8: Populatie
A9: De populatie is opgebouwd uit alle jeugdbeschermings- en jeugdreclasseringsmaatregelen in de periode 2015 tot en met juni 2026 van personen die teruggevonden kunnen worden in de Basisregistratie Personen (BRP). Op basis van deze maatregelen zijn episodes aangemaakt waarin een jongere, overlappend aan elkaar, aansluitend op elkaar of met maximaal 3 dagen tussen opeenvolgende maatregelen, één of meerdere maatregelen had lopen. Deze episodes vormen de populatie van de tabellen.
A11: In tabel 1 wordt gekeken naar afgesloten episodes van 2016 tot en met juni 2025. Met behulp van deze episodes is gekeken naar de duur daarvan en of er na deze episode weer een nieuwe episode is gestart en hoeveel tijd er vervolgens tussen deze episodes zat.
A12: In tabel 2 wordt gekeken naar gestarte episodes van 2016 tot en met juni 2026 en of de betreffende jongere ook jeugdhulp ontving in de 12 maanden voor de start van de episode. De gestarte episodes van 2015 zijn niet opgenomen in deze tabel, omdat er geen jeugdhulpgegevens beschikbaar zijn over de volledige 12 maanden voorafgaand aan deze episodes.
A13: In tabel 3.0 wordt gekeken naar afgesloten episodes van 2016 tot en met juni 2025 en wordt aangegeven bij hoeveel daarvan er geen jeugdhulp was in de 12 maanden voor de start en de 12 maanden na afloop van de episode. De afgesloten episodes van 2015 en na juni 2025 zijn niet opgenomen in deze tabel, omdat er geen jeugdhulpgegevens beschikbaar zijn over de volledige 12 maanden voorafgaand aan en na afloop van deze episodes. Om diezelfde reden zijn ook afgesloten episodes die gestart zijn vóór 2016 niet meegenomen in de tabel.
A14: In tabel 3.1 wordt gekeken naar afgesloten episodes van 2016 tot en met juni 2026 en wordt aangegeven bij hoeveel er al dan niet sprake is van jeugdhulp in de 12 maanden voorafgaand aan de start van de episode. De afgesloten episodes van 2015 zijn niet opgenomen in deze tabel, omdat er geen jeugdhulpgegevens beschikbaar zijn over de volledige 12 maanden voorafgaand aan deze episodes. Om diezelfde reden zijn ook afgesloten episodes die gestart zijn vóór 2016 niet meegenomen in de tabel.
A15: In tabel 3.2 wordt gekeken naar afgesloten episodes van 2015 tot en met juni 2026 en wordt aangegeven bij hoeveel er sprake is van een jeugdhulptraject dat start en eindigt binnen de duur van de episode. Om meer vergelijkbaarheid in de cijfers te krijgen, is er uitgesplitst naar de totale duur van de episode. Omdat er geen jeugdhulpgegevens beschikbaar zijn over de periode vóór 2015, zijn afgesloten episodes die gestart zijn vóór 2015 niet meegenomen in de tabel.
A16: In tabel 3.3 wordt gekeken naar afgesloten episodes van 2015 tot en met juni 2025 en wordt aangegeven bij hoeveel er al dan niet sprake is van jeugdhulp in de 12 maanden na afloop van de episode. De afgesloten episodes na juni 2025 zijn niet opgenomen in deze tabel, omdat er geen jeugdhulpgegevens beschikbaar zijn over de volledige 12 maanden na afloop van deze episodes.
... A85: https://www.cbs.nl/nl-nl/onze-diensten/methoden/onderzoeksomschrijvingen/korte-onderzoeksbeschrijvingen/beleidsinformatie-jeugd

Sheet Figuren
A1: Figuren op basis van tabel 1. | M1: Figuren op basis van tabel 2. | X1: Figuren op basis van tabel 3.0 | AH1: Figuren op basis van tabel 3.1 | AS1: Figuren op basis van tabel 3.2 | BC1: Figuren op basis van tabel 3.3
A68: * De categorie 'na 12 maanden' is niet goed vergelijkbaar over de tijd, zie ook de toelichting.

Sheet Tabel 1
A1: Tabel 1.
A2: Terugkeer na afgesloten aansluitende episodes van jeugdbeschermings- en/of jeugdreclasseringsmaatregelen naar duur van de episode, 2015-2025
C3: Aantal afgesloten episodes van maatregelen | D3: Aantal jongeren met afgesloten episodes van maatregelen | F3: Aantal episodes van maatregelen met terugkeer totaal | R3: Aantal episodes van maatregelen met terugkeer binnen 1 maand | T3: Aantal episodes van maatregelen met terugkeer tussen de 1 en 6 maanden | AF3: Aantal episodes van maatregelen met terugkeer tussen de 6 en 12 maanden | AR3: Aantal episodes van maatregelen met terugkeer na 12 maanden
H4: waarvan duur van de episode | P4: Gemiddelde duur in dagen | V4: waarvan duur van de episode | AD4: Gemiddelde duur in dagen | AH4: waarvan duur van de episode | AP4: Gemiddelde duur in dagen | AT4: waarvan duur van de episode | BB4: Gemiddelde duur in dagen
C5: Totaal | D5: Totaal | F5: Totaal | H5: 0 tot 3 maanden | I5: 3 tot 6 maanden | J5: 6 tot 12 maanden | K5: 1 tot 2 jaar | L5: 2 tot 3 jaar | M5: 3 tot 4 jaar | N5: 4 jaar of langer | R5: Totaal | T5: Totaal | V5: 0 tot 3 maanden | W5: 3 tot 6 maanden | X5: 6 tot 12 maanden | Y5: 1 tot 2 jaar | Z5: 2 tot 3 jaar | AA5: 3 tot 4 jaar | AB5: 4 jaar of langer | AF5: Totaal | AH5: 0 tot 3 maanden | AI5: 3 tot 6 maanden | AJ5: 6 tot 12 maanden | AK5: 1 tot 2 jaar | AL5: 2 tot 3 jaar | AM5: 3 tot 4 jaar | AN5: 4 jaar of langer | AR5: Totaal | AT5: 0 tot 3 maanden | AU5: 3 tot 6 maanden | AV5: 6 tot 12 maanden | AW5: 1 tot 2 jaar | AX5: 2 tot 3 jaar | AY5: 3 tot 4 jaar | AZ5: 4 jaar of langer
C7: Aantal | H7: % | P7: Aantal | V7: % | AD7: Aantal | AH7: % | AP7: Aantal | AT7: % | BB7: Aantal
A9: Totaal | B9: 1e halfjaar 2015 | C9: 7040 | D9: 7040 | F9: 1220 | H9: 5 | I9: 10 | J9: 24 | K9: 27 | L9: 13 | M9: 8 | N9: 13 | P9: 808 | R9: 95 | T9: 205 | V9: 10 | W9: 21 | X9: 25 | Y9: 25 | Z9: 9 | AA9: . | AB9: 9 | AD9: 599 | AF9: 165 | AH9: . | AI9: 9 | AJ9: 31 | AK9: 24 | AL9: 12 | AM9: 6 | AN9: 13 | AP9: 760 | AR9: 760 | AT9: 2 | AU9: 6 | AV9: 22 | AW9: 30 | AX9: 15 | AY9: 10 | AZ9: 15 | BB9: 909
B10: 2e halfjaar 2015 | C10: 7630 | D10: 7625 | F10: 1230 | H10: 4 | I10: 8 | J10: 22 | K10: 26 | L10: 12 | M10: 11 | N10: 17 | P10: 912 | R10: 90 | T10: 220 | V10: 7 | W10: 12 | X10: 31 | Y10: 19 | Z10: 9 | AA10: 8 | AB10: 14 | AD10: 765 | AF10: 150 | AH10: . | AI10: 9 | AJ10: 22 | AK10: 27 | AL10: 13 | AM10: 9 | AN10: 15 | AP10: 884 | AR10: 770 | AT10: 1 | AU10: 5 | AV10: 21 | AW10: 28 | AX10: 14 | AY10: 12 | AZ10: 18 | BB10: 969
B11: 1e halfjaar 2016 | C11: 6360 | D11: 6360 | F11: 1120 | H11: 7 | I11: 10 | J11: 17 | K11: 28 | L11: 14 | M11: 8 | N11: 16 | P11: 875 | R11: 125 | T11: 185 | V11: 10 | W11: 14 | X11: 15 | Y11: 26 | Z11: 12 | AA11: . | AB11: 21 | AD11: 855 | AF11: 145 | AH11: 7 | AI11: 16 | AJ11: 22 | AK11: 24 | AL11: 8 | AM11: 8 | AN11: 15 | AP11: 815 | AR11: 665 | AT11: 2 | AU11: 6 | AV11: 18 | AW11: 31 | AX11: 16 | AY11: 9 | AZ11: 17 | BB11: 946
B12: 2e halfjaar 2016 | C12: 6420 | D12: 6410 | F12: 1065 | H12: 6 | I12: 11 | J12: 18 | K12: 27 | L12: 16 | M12: 9 | N12: 13 | P12: 827 | R12: 115 | T12: 230 | V12: 12 | W12: 16 | X12: 18 | Y12: 22 | Z12: 14 | AA12: 8 | AB12: 10 | AD12: 701 | AF12: 120 | AH12: . | AI12: 15 | AJ12: 18 | AK12: 34 | AL12: 14 | AM12: 7 | AN12: 8 | AP12: 694 | AR12: 600 | AT12: 1 | AU12: 6 | AV12: 19 | AW12: 30 | AX12: 18 | AY12: 10 | AZ12: 16 | BB12: 928
B13: 1e halfjaar 2017 | C13: 6150 | D13: 6145 | F13: 1110 | H13: 7 | I13: 10 | J13: 22 | K13: 23 | L13: 17 | M13: 7 | N13: 14 | P13: 822 | R13: 160 | T13: 225 | V13: 10 | W13: 13 | X13: 23 | Y13: 23 | Z13: 15 | AA13: 6 | AB13: 9 | AD13: 713 | AF13: 140 | AH13: . | AI13: 13 | AJ13: 28 | AK13: 18 | AL13: 17 | AM13: 6 | AN13: 15 | AP13: 826 | AR13: 585 | AT13: 4 | AU13: 8 | AV13: 20 | AW13: 26 | AX13: 19 | AY13: 7 | AZ13: 16 | BB13: 886
B14: 2e halfjaar 2017 | C14: 6145 | D14: 6115 | F14: 1040 | H14: 9 | I14: 10 | J14: 23 | K14: 22 | L14: 16 | M14: 9 | N14: 11 | P14: 737 | R14: 220 | T14: 245 | V14: 18 | W14: 13 | X14: 21 | Y14: 18 | Z14: 14 | AA14: 6 | AB14: 10 | AD14: 636 | AF14: 95 | AH14: 10 | AI14: 18 | AJ14: 19 | AK14: 26 | AL14: 11 | AM14: . | AN14: 11 | AP14: 684 | AR14: 480 | AT14: 2 | AU14: 7 | AV14: 24 | AW14: 22 | AX14: 19 | AY14: 13 | AZ14: 12 | BB14: 859
B15: 1e halfjaar 2018 | C15: 5935 | D15: 5925 | F15: 895 | H15: 7 | I15: 12 | J15: 22 | K15: 26 | L15: 15 | M15: 8 | N15: 12 | P15: 764 | R15: 185 | T15: 155 | V15: 11 | W15: 17 | X15: 15 | Y15: 28 | Z15: 15 | AA15: 6 | AB15: 8 | AD15: 646 | AF15: 100 | AH15: . | AI15: 11 | AJ15: 22 | AK15: 28 | AL15: 14 | AM15: 9 | AN15: 11 | AP15: 762 | AR15: 455 | AT15: 3 | AU15: 8 | AV15: 24 | AW15: 26 | AX15: 17 | AY15: 9 | AZ15: 14 | BB15: 882
B16: 2e halfjaar 2018 | C16: 6080 | D16: 6065 | F16: 1035 | H16: 7 | I16: 12 | J16: 27 | K16: 24 | L16: 12 | M16: 6 | N16: 11 | P16: 711 | R16: 215 | T16: 190 | V16: 8 | W16: 16 | X16: 26 | Y16: 17 | Z16: 10 | AA16: 6 | AB16: 16 | AD16: 815 | AF16: 125 | AH16: 8 | AI16: 13 | AJ16: 32 | AK16: 15 | AL16: 13 | AM16: 8 | AN16: 11 | AP16: 685 | AR16: 505 | AT16: 2 | AU16: 8 | AV16: 25 | AW16: 31 | AX16: 15 | AY16: 7 | AZ16: 12 | BB16: 794
B17: 1e halfjaar 2019 | C17: 6060 | D17: 6050 | F17: 960 | H17: 7 | I17: 11 | J17: 20 | K17: 28 | L17: 16 | M17: 6 | N17: 12 | P17: 770 | R17: 195 | T17: 200 | V17: 13 | W17: 14 | X17: 17 | Y17: 26 | Z17: 16 | AA17: 5 | AB17: 10 | AD17: 736 | AF17: 100 | AH17: . | AI17: 12 | AJ17: 12 | AK17: 32 | AL17: 24 | AM17: 7 | AN17: 10 | AP17: 763 | AR17: 470 | AT17: 3 | AU17: 6 | AV17: 22 | AW17: 32 | AX17: 16 | AY17: 7 | AZ17: 13 | BB17: 855
B18: 2e halfjaar 2019 | C18: 6075 | D18: 6060 | F18: 975 | H18: 8 | I18: 12 | J18: 25 | K18: 23 | L18: 15 | M18: 6 | N18: 11 | P18: 721 | R18: 225 | T18: 185 | V18: 11 | W18: 14 | X18: 27 | Y18: 15 | Z18: 17 | AA18: 4 | AB18: 11 | AD18: 715 | AF18: 100 | AH18: 7 | AI18: 13 | AJ18: 30 | AK18: 19 | AL18: 15 | AM18: 11 | AN18: . | AP18: 651 | AR18: 465 | AT18: 5 | AU18: 8 | AV18: 22 | AW18: 27 | AX18: 16 | AY18: 8 | AZ18: 15 | BB18: 854
B19: 1e halfjaar 2020 | C19: 5545 | D19: 5540 | F19: 765 | H19: 10 | I19: 12 | J19: 23 | K19: 26 | L19: 13 | M19: 7 | N19: 9 | P19: 682 | R19: 150 | T19: 155 | V19: 19 | W19: 17 | X19: 19 | Y19: 16 | Z19: 15 | AA19: 6 | AB19: 7 | AD19: 588 | AF19: 85 | AH19: 14 | AI19: 10 | AJ19: 17 | AK19: 29 | AL19: 16 | AM19: 8 | AN19: . | AP19: 663 | AR19: 370 | AT19: 4 | AU19: 9 | AV19: 23 | AW19: 30 | AX19: 14 | AY19: 8 | AZ19: 12 | BB19: 807
B20: 2e halfjaar 2020 | C20: 6100 | D20: 6090 | F20: 880 | H20: 8 | I20: 8 | J20: 24 | K20: 26 | L20: 16 | M20: 6 | N20: 12 | P20: 779 | R20: 245 | T20: 170 | V20: 11 | W20: 8 | X20: 25 | Y20: 22 | Z20: 17 | AA20: 5 | AB20: 12 | AD20: 800 | AF20: 80 | AH20: . | AI20: 10 | AJ20: 19 | AK20: 20 | AL20: 14 | AM20: 15 | AN20: 18 | AP20: 990 | AR20: 385 | AT20: 5 | AU20: 5 | AV20: 17 | AW20: 33 | AX20: 21 | AY20: 4 | AZ20: 15 | BB20: 884
B21: 1e halfjaar 2021 | C21: 6280 | D21: 6275 | F21: 830 | H21: 6 | I21: 10 | J21: 25 | K21: 26 | L21: 17 | M21: 7 | N21: 9 | P21: 722 | R21: 230 | T21: 140 | V21: 9 | W21: 9 | X21: 28 | Y21: 18 | Z21: 20 | AA21: 9 | AB21: 7 | AD21: 703 | AF21: 80 | AH21: 9 | AI21: 10 | AJ21: 20 | AK21: 25 | AL21: 19 | AM21: . | AN21: 10 | AP21: 721 | AR21: 380 | AT21: . | AU21: 6 | AV21: 21 | AW21: 31 | AX21: 19 | AY21: 10 | AZ21: 12 | BB21: 869
B22: 2e halfjaar 2021 | C22: 6075 | D22: 6045 | F22: 830 | H22: 9 | I22: 11 | J22: 22 | K22: 24 | L22: 13 | M22: 10 | N22: 11 | P22: 781 | R22: 240 | T22: 160 | V22: 15 | W22: 11 | X22: 21 | Y22: 19 | Z22: 14 | AA22: 5 | AB22: 16 | AD22: 799 | AF22: 75 | AH22: 9 | AI22: 13 | AJ22: 25 | AK22: 21 | AL22: 9 | AM22: 9 | AN22: 12 | AP22: 742 | AR22: 355 | AT22: 2 | AU22: 7 | AV22: 19 | AW22: 28 | AX22: 16 | AY22: 15 | AZ22: 13 | BB22: 932
B23: 1e halfjaar 2022 | C23: 6195 | D23: 6175 | F23: 830 | H23: 10 | I23: 12 | J23: 21 | K23: 24 | L23: 13 | M23: 9 | N23: 11 | P23: 734 | R23: 225 | T23: 155 | V23: 16 | W23: 15 | X23: 25 | Y23: 15 | Z23: 14 | AA23: 6 | AB23: 8 | AD23: 600 | AF23: 95 | AH23: . | AI23: 8 | AJ23: 33 | AK23: 26 | AL23: 11 | AM23: . | AN23: 13 | AP23: 733 | AR23: 350 | AT23: 3 | AU23: 5 | AV23: 17 | AW23: 30 | AX23: 16 | AY23: 13 | AZ23: 16 | BB23: 927
B24: 2e halfjaar 2022 | C24: 6260 | D24: 6235 | F24: 820 | H24: 9 | I24: 9 | J24: 19 | K24: 26 | L24: 16 | M24: 10 | N24: 11 | P24: 816 | R24: 235 | T24: 155 | V24: 14 | W24: 9 | X24: 18 | Y24: 22 | Z24: 14 | AA24: 13 | AB24: 10 | AD24: 801 | AF24: 90 | AH24: 9 | AI24: 12 | AJ24: 13 | AK24: 25 | AL24: 10 | AM24: 13 | AN24: 18 | AP24: 1004 | AR24: 340 | AT24: 3 | AU24: 3 | AV24: 17 | AW24: 31 | AX24: 21 | AY24: 10 | AZ24: 15 | BB24: 953
B25: 1e halfjaar 2023 | C25: 5800 | D25: 5775 | F25: 710 | H25: 10 | I25: 10 | J25: 23 | K25: 24 | L25: 12 | M25: 8 | N25: 13 | P25: 745 | R25: 260 | T25: 130 | V25: 9 | W25: 13 | X25: 22 | Y25: 21 | Z25: 15 | AA25: 9 | AB25: 11 | AD25: 756 | AF25: 70 | AH25: 14 | AI25: . | AJ25: 21 | AK25: 20 | AL25: 10 | AM25: . | AN25: 20 | AP25: 890 | AR25: 250 | AT25: 4 | AU25: 6 | AV25: 19 | AW25: 29 | AX25: 13 | AY25: 13 | AZ25: 16 | BB25: 921
B26: 2e halfjaar 2023 | C26: 5385 | D26: 5370 | F26: 700 | H26: 13 | I26: 14 | J26: 20 | K26: 19 | L26: 14 | M26: 6 | N26: 15 | P26: 777 | R26: 215 | T26: 215 | V26: 17 | W26: 14 | X26: 20 | Y26: 14 | Z26: 14 | AA26: 5 | AB26: 17 | AD26: 770 | AF26: 75 | AH26: . | AI26: 16 | AJ26: 19 | AK26: . | AL26: 25 | AM26: . | AN26: 22 | AP26: 977 | AR26: 195 | AT26: 5 | AU26: 7 | AV26: 15 | AW26: 26 | AX26: 16 | AY26: 10 | AZ26: 22 | BB26: 997
B27: 1e halfjaar 2024 | C27: 5425 | D27: 5405 | F27: 590 | H27: 12 | I27: 10 | J27: 23 | K27: 23 | L27: 11 | M27: 9 | N27: 12 | P27: 765 | R27: 210 | T27: 160 | V27: 17 | W27: 6 | X27: 25 | Y27: 20 | Z27: 11 | AA27: 9 | AB27: 12 | AD27: 808 | AF27: 80 | AH27: . | AI27: 11 | AJ27: 20 | AK27: 21 | AL27: 11 | AM27: 15 | AN27: 18 | AP27: 1025 | AR27: 135 | AT27: . | AU27: 6 | AV27: 17 | AW27: 26 | AX27: 20 | AY27: 13 | AZ27: 17 | BB27: 984
B28: 2e halfjaar 2024 | C28: 5215 | D28: 5195 | F28: 540 | H28: 9 | I28: 14 | J28: 26 | K28: 22 | L28: 12 | M28: 9 | N28: 10 | P28: 723 | R28: 200 | T28: 145 | V28: 10 | W28: 11 | X28: 20 | Y28: 22 | Z28: 14 | AA28: 14 | AB28: 10 | AD28: 822 | AF28: 100 | AH28: 8 | AI28: . | AJ28: 20 | AK28: 20 | AL28: 20 | AM28: 10 | AN28: 15 | AP28: 932 | AR28: 95 | AT28: . | AU28: 13 | AV28: 27 | AW28: 21 | AX28: 13 | AY28: 9 | AZ28: 13 | BB28: 806
B29: 1e halfjaar 2025 | C29: 5015 | D29: 5005 | F29: 385 | H29: 13 | I29: 14 | J29: 27 | K29: 19 | L29: 10 | M29: 7 | N29: 10 | P29: 653 | R29: 160 | T29: 110 | V29: 17 | W29: 10 | X29: 26 | Y29: 20 | Z29: 12 | AA29: 6 | AB29: 9 | AD29: 665 | AF29: 90 | AH29: . | AI29: 10 | AJ29: 27 | AK29: 16 | AL29: 9 | AM29: 14 | AN29: 18 | AP29: 979 | AR29: 30 | AT29: . | AU29: . | AV29: . | AW29: . | AX29: 38 | AY29: . | AZ29: . | BB29: 967
A31: Episodes met alleen ondertoezichtstelling | B31: 1e halfjaar 2015 | C31: 4620 | D31: 4620 | F31: 965 | H31: 3 | I31: 3 | J31: 25 | K31: 29 | L31: 15 | M31: 9 | N31: 15 | P31: 889 | R31: 50 | T31: 105 | V31: . | W31: . | X31: 39 | Y31: 27 | Z31: 12 | AA31: . | AB31: 13 | AD31: 772 | AF31: 120 | AH31: . | AI31: . | AJ31: 33 | AK31: 25 | AL31: 14 | AM31: 8 | AN31: 18 | AP31: 892 | AR31: 690 | AT31: 1 | AU31: 4 | AV31: 23 | AW31: 31 | AX31: 15 | AY31: 10 | AZ31: 15 | BB31: 920
B32: 2e halfjaar 2015 | C32: 4700 | D32: 4695 | F32: 985 | H32: 3 | I32: 4 | J32: 22 | K32: 26 | L32: 13 | M32: 13 | N32: 19 | P32: 986 | R32: 45 | T32: 135 | V32: 7 | W32: 6 | X32: 36 | Y32: 15 | Z32: . | AA32: 12 | AB32: 21 | AD32: 913 | AF32: 100 | AH32: . | AI32: . | AJ32: 23 | AK32: 25 | AL32: 17 | AM32: 11 | AN32: 19 | AP32: 978 | AR32: 700 | AT32: . | AU32: 4 | AV32: 21 | AW32: 28 | AX32: 15 | AY32: 13 | AZ32: 19 | BB32: 993
B33: 1e halfjaar 2016 | C33: 3800 | D33: 3800 | F33: 850 | H33: 5 | I33: 5 | J33: 17 | K33: 31 | L33: 16 | M33: 9 | N33: 18 | P33: 955 | R33: 60 | T33: 95 | V33: . | W33: . | X33: 15 | Y33: 26 | Z33: 17 | AA33: . | AB33: 28 | AD33: 1079 | AF33: 90 | AH33: . | AI33: . | AJ33: 25 | AK33: 27 | AL33: 10 | AM33: 10 | AN33: 16 | AP33: 920 | AR33: 605 | AT33: 2 | AU33: 4 | AV33: 17 | AW33: 33 | AX33: 18 | AY33: 9 | AZ33: 17 | BB33: 964
B34: 2e halfjaar 2016 | C34: 3625 | D34: 3620 | F34: 745 | H34: 4 | I34: 5 | J34: 18 | K34: 30 | L34: 19 | M34: 10 | N34: 15 | P34: 910 | R34: 60 | T34: 95 | V34: 10 | W34: . | X34: 15 | Y34: 27 | Z34: 18 | AA34: 12 | AB34: 12 | AD34: 860 | AF34: 70 | AH34: . | AI34: . | AJ34: 20 | AK34: 39 | AL34: 17 | AM34: . | AN34: 11 | AP34: 853 | AR34: 515 | AT34: . | AU34: 4 | AV34: 19 | AW34: 31 | AX34: 20 | AY34: 10 | AZ34: 15 | BB34: 924
B35: 1e halfjaar 2017 | C35: 3460 | D35: 3460 | F35: 780 | H35: 4 | I35: 6 | J35: 24 | K35: 26 | L35: 18 | M35: 8 | N35: 14 | P35: 854 | R35: 65 | T35: 120 | V35: . | W35: 8 | X35: 29 | Y35: 31 | Z35: 12 | AA35: 7 | AB35: 9 | AD35: 740 | AF35: 85 | AH35: . | AI35: . | AJ35: 28 | AK35: 22 | AL35: 18 | AM35: 8 | AN35: 18 | AP35: 934 | AR35: 510 | AT35: 3 | AU35: 5 | AV35: 21 | AW35: 28 | AX35: 21 | AY35: 8 | AZ35: 14 | BB35: 868
B36: 2e halfjaar 2017 | C36: 3420 | D36: 3420 | F36: 650 | H36: 7 | I36: 4 | J36: 25 | K36: 24 | L36: 19 | M36: 10 | N36: 12 | P36: 832 | R36: 75 | T36: 120 | V36: 17 | W36: . | X36: 22 | Y36: 21 | Z36: 16 | AA36: 7 | AB36: 13 | AD36: 782 | AF36: 50 | AH36: . | AI36: . | AJ36: 15 | AK36: 40 | AL36: . | AM36: . | AN36: 15 | AP36: 878 | AR36: 405 | AT36: 2 | AU36: 3 | AV36: 26 | AW36: 23 | AX36: 22 | AY36: 12 | AZ36: 12 | BB36: 869
B37: 1e halfjaar 2018 | C37: 3350 | D37: 3350 | F37: 570 | H37: 5 | I37: 6 | J37: 23 | K37: 29 | L37: 15 | M37: 9 | N37: 13 | P37: 825 | R37: 50 | T37: 65 | V37: . | W37: 11 | X37: 15 | Y37: 41 | Z37: 14 | AA37: . | AB37: . | AD37: 746 | AF37: 65 | AH37: . | AI37: . | AJ37: 25 | AK37: 32 | AL37: 11 | AM37: 13 | AN37: 13 | AP37: 817 | AR37: 390 | AT37: 3 | AU37: 6 | AV37: 25 | AW37: 27 | AX37: 17 | AY37: 9 | AZ37: 13 | BB37: 854
B38: 2e halfjaar 2018 | C38: 3535 | D38: 3535 | F38: 705 | H38: 6 | I38: 6 | J38: 28 | K38: 27 | L38: 14 | M38: 8 | N38: 11 | P38: 772 | R38: 60 | T38: 110 | V38: 7 | W38: . | X38: 33 | Y38: 22 | Z38: 11 | AA38: 7 | AB38: 16 | AD38: 847 | AF38: 90 | AH38: 10 | AI38: . | AJ38: 37 | AK38: 16 | AL38: 13 | AM38: 8 | AN38: 10 | AP38: 657 | AR38: 445 | AT38: 2 | AU38: 6 | AV38: 26 | AW38: 32 | AX38: 15 | AY38: 8 | AZ38: 11 | BB38: 807
B39: 1e halfjaar 2019 | C39: 3540 | D39: 3540 | F39: 640 | H39: 5 | I39: 4 | J39: 20 | K39: 35 | L39: 17 | M39: 7 | N39: 12 | P39: 822 | R39: 50 | T39: 120 | V39: 10 | W39: 7 | X39: 13 | Y39: 34 | Z39: 19 | AA39: 8 | AB39: 9 | AD39: 823 | AF39: 70 | AH39: . | AI39: . | AJ39: 15 | AK39: 37 | AL39: 24 | AM39: . | AN39: 13 | AP39: 840 | AR39: 400 | AT39: 2 | AU39: 4 | AV39: 24 | AW39: 35 | AX39: 16 | AY39: 7 | AZ39: 11 | BB39: 815
B40: 2e halfjaar 2019 | C40: 3580 | D40: 3575 | F40: 665 | H40: 5 | I40: 5 | J40: 26 | K40: 27 | L40: 17 | M40: 8 | N40: 12 | P40: 802 | R40: 80 | T40: 110 | V40: . | W40: . | X40: 34 | Y40: 19 | Z40: 18 | AA40: 6 | AB40: 15 | AD40: 880 | AF40: 65 | AH40: . | AI40: . | AJ40: 33 | AK40: 26 | AL40: 15 | AM40: 11 | AN40: . | AP40: 772 | AR40: 410 | AT40: 4 | AU40: 5 | AV40: 23 | AW40: 29 | AX40: 17 | AY40: 9 | AZ40: 12 | BB40: 812
B41: 1e halfjaar 2020 | C41: 3245 | D41: 3245 | F41: 515 | H41: 6 | I41: 5 | J41: 24 | K41: 31 | L41: 16 | M41: 8 | N41: 10 | P41: 789 | R41: 50 | T41: 85 | V41: 10 | W41: 9 | X41: 25 | Y41: 22 | Z41: 20 | AA41: . | AB41: . | AD41: 720 | AF41: 55 | AH41: . | AI41: . | AJ41: 15 | AK41: 39 | AL41: 19 | AM41: . | AN41: . | AP41: 765 | AR41: 330 | AT41: 3 | AU41: 5 | AV41: 25 | AW41: 32 | AX41: 15 | AY41: 9 | AZ41: 11 | BB41: 815
B42: 2e halfjaar 2020 | C42: 3445 | D42: 3445 | F42: 490 | H42: 5 | I42: 2 | J42: 20 | K42: 30 | L42: 21 | M42: 9 | N42: 13 | P42: 876 | R42: 50 | T42: 70 | V42: . | W42: . | X42: 26 | Y42: 29 | Z42: 23 | AA42: . | AB42: 10 | AD42: 928 | AF42: 50 | AH42: . | AI42: . | AJ42: 23 | AK42: 17 | AL42: . | AM42: 21 | AN42: 19 | AP42: 1048 | AR42: 325 | AT42: 4 | AU42: 2 | AV42: 18 | AW42: 35 | AX42: 23 | AY42: 4 | AZ42: 14 | BB42: 867
B43: 1e halfjaar 2021 | C43: 3755 | D43: 3755 | F43: 490 | H43: 3 | I43: 4 | J43: 26 | K43: 30 | L43: 21 | M43: 8 | N43: 8 | P43: 761 | R43: 50 | T43: 70 | V43: 10 | W43: . | X43: 38 | Y43: 15 | Z43: 22 | AA43: 10 | AB43: . | AD43: 601 | AF43: 35 | AH43: . | AI43: . | AJ43: 28 | AK43: 28 | AL43: 31 | AM43: . | AN43: . | AP43: 734 | AR43: 335 | AT43: . | AU43: 5 | AV43: 23 | AW43: 33 | AX43: 19 | AY43: 9 | AZ43: 10 | BB43: 803
...

Sheet Tabel 2_Voor
A1: Tabel 2.
A2: Jeugdhulp voorafgaand aan gestarte aansluitende episodes van jeugdbeschermings- en/of jeugdreclasseringsmaatregelen, 2016-2026
C3: Aantal gestarte episodes van maatregelen | E3: waarvan1
E4: zonder jeugdhulp in de 12 maanden voorafgaand aan de start van de episode | G4: met één of meerdere jeugdhulptrajecten in de 12 maanden voorafgaand aan de start van de episode die allen geëindigd zijn voor aanvang van de episode | R4: met één of meerdere jeugdhulptrajecten in de 12 maanden voorafgaand aan de start van de episode waarvan er minstens één niet is geëindigd voor aanvang van de episode | AC4: zonder jeugdhulp in de 12 maanden voorafgaand aan de start van de episode | AE4: met één of meerdere jeugdhulptrajecten in de 12 maanden voorafgaand aan de start van de episode die allen geëindigd zijn voor aanvang van de episode | AG4: met één of meerdere jeugdhulptrajecten in de 12 maanden voorafgaand aan de start van de episode waarvan er minstens één niet is geëindigd voor aanvang van de episode
G5: Totaal | H5: waaronder | S5: waaronder | AC5: Totaal | AE5: Totaal | AG5: Totaal
H6: jeugdhulp met verblijf | N6: jeugdhulp zonder verblijf | R6: Totaal | S6: jeugdhulp met verblijf | Y6: jeugdhulp zonder verblijf
H7: totaal | I7: pleegzorg | J7: gezinsgericht | K7: gesloten plaatsing | L7: overig | N7: totaal | O7: door wijkteam | P7: overig | S7: totaal | T7: pleegzorg | U7: gezinsgericht | V7: gesloten plaatsing | W7: overig | Y7: totaal | Z7: door wijkteam | AA7: overig
C9: Aantal | AC9: %
A11: Totaal | B11: 1e halfjaar 2016 | C11: 6050 | E11: 2580 | G11: 845 | H11: 135 | I11: 35 | J11: 15 | K11: 15 | L11: 85 | N11: 800 | O11: 95 | P11: 735 | R11: 2625 | S11: 1055 | T11: 475 | U11: 115 | V11: 75 | W11: 590 | Y11: 2390 | Z11: 720 | AA11: 2125 | AC11: 43 | AE11: 14 | AG11: 43
B12: 2e halfjaar 2016 | C12: 6030 | E12: 2405 | G12: 830 | H12: 120 | I12: 35 | J12: 15 | K12: 10 | L12: 80 | N12: 785 | O12: 100 | P12: 715 | R12: 2795 | S12: 1070 | T12: 465 | U12: 110 | V12: 95 | W12: 620 | Y12: 2575 | Z12: 845 | AA12: 2260 | AC12: 40 | AE12: 14 | AG12: 46
B13: 1e halfjaar 2017 | C13: 6320 | E13: 2475 | G13: 925 | H13: 145 | I13: 30 | J13: 10 | K13: 20 | L13: 105 | N13: 860 | O13: 160 | P13: 750 | R13: 2925 | S13: 1080 | T13: 450 | U13: 125 | V13: 100 | W13: 630 | Y13: 2650 | Z13: 970 | AA13: 2290 | AC13: 39 | AE13: 15 | AG13: 46
B14: 2e halfjaar 2017 | C14: 6105 | E14: 2345 | G14: 835 | H14: 135 | I14: 35 | J14: 10 | K14: 20 | L14: 85 | N14: 780 | O14: 155 | P14: 670 | R14: 2925 | S14: 1100 | T14: 455 | U14: 140 | V14: 95 | W14: 650 | Y14: 2690 | Z14: 1025 | AA14: 2310 | AC14: 38 | AE14: 14 | AG14: 48
B15: 1e halfjaar 2018 | C15: 6100 | E15: 2315 | G15: 955 | H15: 140 | I15: 30 | J15: 15 | K15: 20 | L15: 85 | N15: 900 | O15: 245 | P15: 750 | R15: 2830 | S15: 1040 | T15: 460 | U15: 130 | V15: 85 | W15: 590 | Y15: 2585 | Z15: 1055 | AA15: 2225 | AC15: 38 | AE15: 16 | AG15: 46
B16: 2e halfjaar 2018 | C16: 6005 | E16: 2330 | G16: 790 | H16: 130 | I16: 20 | J16: 15 | K16: 10 | L16: 90 | N16: 725 | O16: 175 | P16: 605 | R16: 2890 | S16: 1015 | T16: 440 | U16: 150 | V16: 100 | W16: 555 | Y16: 2670 | Z16: 960 | AA16: 2350 | AC16: 39 | AE16: 13 | AG16: 48
B17: 1e halfjaar 2019 | C17: 6415 | E17: 2475 | G17: 870 | H17: 135 | I17: 35 | J17: 5 | K17: 20 | L17: 95 | N17: 800 | O17: 165 | P17: 685 | R17: 3070 | S17: 995 | T17: 435 | U17: 150 | V17: 85 | W17: 535 | Y17: 2835 | Z17: 1080 | AA17: 2455 | AC17: 39 | AE17: 14 | AG17: 48
B18: 2e halfjaar 2019 | C18: 6495 | E18: 2500 | G18: 870 | H18: 125 | I18: 25 | J18: 10 | K18: 15 | L18: 85 | N18: 800 | O18: 190 | P18: 670 | R18: 3125 | S18: 1055 | T18: 420 | U18: 180 | V18: 105 | W18: 575 | Y18: 2895 | Z18: 985 | AA18: 2580 | AC18: 39 | AE18: 13 | AG18: 48
B19: 1e halfjaar 2020 | C19: 5610 | E19: 2300 | G19: 795 | H19: 100 | I19: 20 | J19: 5 | K19: 15 | L19: 70 | N19: 750 | O19: 175 | P19: 625 | R19: 2510 | S19: 805 | T19: 310 | U19: 150 | V19: 60 | W19: 450 | Y19: 2310 | Z19: 830 | AA19: 2045 | AC19: 41 | AE19: 14 | AG19: 45
B20: 2e halfjaar 2020 | C20: 5920 | E20: 2375 | G20: 725 | H20: 95 | I20: 20 | J20: 10 | K20: 5 | L20: 70 | N20: 685 | O20: 190 | P20: 550 | R20: 2815 | S20: 870 | T20: 365 | U20: 125 | V20: 80 | W20: 475 | Y20: 2615 | Z20: 890 | AA20: 2300 | AC20: 40 | AE20: 12 | AG20: 48
B21: 1e halfjaar 2021 | C21: 5885 | E21: 2320 | G21: 725 | H21: 85 | I21: 15 | J21: 10 | K21: 10 | L21: 60 | N21: 675 | O21: 170 | P21: 550 | R21: 2840 | S21: 815 | T21: 340 | U21: 115 | V21: 60 | W21: 435 | Y21: 2655 | Z21: 815 | AA21: 2370 | AC21: 39 | AE21: 12 | AG21: 48
B22: 2e halfjaar 2021 | C22: 5240 | E22: 2005 | G22: 715 | H22: 90 | I22: 15 | J22: 10 | K22: 10 | L22: 60 | N22: 680 | O22: 150 | P22: 580 | R22: 2515 | S22: 885 | T22: 330 | U22: 135 | V22: 70 | W22: 520 | Y22: 2325 | Z22: 700 | AA22: 2095 | AC22: 38 | AE22: 14 | AG22: 48
B23: 1e halfjaar 2022 | C23: 4640 | E23: 1770 | G23: 640 | H23: 80 | I23: 15 | J23: 15 | K23: 10 | L23: 50 | N23: 605 | O23: 105 | P23: 530 | R23: 2230 | S23: 700 | T23: 275 | U23: 95 | V23: 60 | W23: 420 | Y23: 2105 | Z23: 645 | AA23: 1915 | AC23: 38 | AE23: 14 | AG23: 48
... B26: 2e halfjaar 2023 | C26: 4870 | E26: 1845 | G26: 635 | H26: 80 | I26: 20 | J26: 10 | K26: 10 | L26: 50 | N26: 590 | O26: 110 | P26: 510 | R26: 2390 | S26: 740 | T26: 225 | U26: 105 | V26: 70 | W26: 490 | Y26: 2245 | Z26: 765 | AA26: 1985 | AC26: 38 | AE26: 13 | AG26: 49
B27: 1e halfjaar 2024 | C27: 4985 | E27: 1875 | G27: 625 | H27: 70 | I27: 15 | J27: . | K27: . | L27: 50 | N27: 585 | O27: 130 | P27: 485 | R27: 2485 | S27: 790 | T27: 295 | U27: 130 | V27: 60 | W27: 460 | Y27: 2335 | Z27: 780 | AA27: 2065 | AC27: 38 | AE27: 13 | AG27: 50
B28: 2e halfjaar 2024 | C28: 4925 | E28: 1945 | G28: 595 | H28: 80 | I28: 20 | J28: 10 | K28: 5 | L28: 50 | N28: 550 | O28: 100 | P28: 495 | R28: 2385 | S28: 730 | T28: 220 | U28: 125 | V28: 70 | W28: 485 | Y28: 2260 | Z28: 790 | AA28: 2010 | AC28: 39 | AE28: 12 | AG28: 48
B29: 1e halfjaar 2025 | C29: 4745 | E29: 1885 | G29: 585 | H29: 70 | I29: 10 | J29: 15 | K29: . | L29: 50 | N29: 550 | O29: 95 | P29: 485 | R29: 2275 | S29: 680 | T29: 230 | U29: 120 | V29: 40 | W29: 415 | Y29: 2160 | Z29: 730 | AA29: 1945 | AC29: 40 | AE29: 12 | AG29: 48
B30: 2e halfjaar 2025 | C30: 4800 | E30: 1875 | G30: 635 | H30: 85 | I30: 25 | J30: 10 | K30: . | L30: 55 | N30: 585 | O30: 125 | P30: 505 | R30: 2290 | S30: 700 | T30: 220 | U30: 105 | V30: 50 | W30: 445 | Y30: 2170 | Z30: 765 | AA30: 1910 | AC30: 39 | AE30: 13 | AG30: 48
B31: 1e halfjaar 2026 | C31: 4725 | E31: 1900 | G31: 660 | H31: 100 | I31: 20 | J31: . | K31: 10 | L31: 80 | N31: 615 | O31: 150 | P31: 510 | R31: 2160 | S31: 615 | T31: 155 | U31: 100 | V31: 45 | W31: 425 | Y31: 2040 | Z31: 715 | AA31: 1780 | AC31: 40 | AE31: 14 | AG31: 46
A33: Episode met alleen ondertoezichtstelling | B33: 1e halfjaar 2016 | C33: 3450 | E33: 1420 | G33: 500 | H33: 50 | I33: 20 | J33: . | K33: . | L33: 30 | N33: 485 | O33: 55 | P33: 450 | R33: 1530 | S33: 575 | T33: 240 | U33: 65 | V33: 40 | W33: 350 | Y33: 1415 | Z33: 455 | AA33: 1250 | AC33: 41 | AE33: 15 | AG33: 44
B34: 2e halfjaar 2016 | C34: 3620 | E34: 1365 | G34: 535 | H34: 60 | I34: 25 | J34: 10 | K34: . | L34: 35 | N34: 515 | O34: 65 | P34: 475 | R34: 1720 | S34: 565 | T34: 215 | U34: 60 | V34: 50 | W34: 340 | Y34: 1625 | Z34: 540 | AA34: 1420 | AC34: 38 | AE34: 15 | AG34: 47
B35: 1e halfjaar 2017 | C35: 3805 | E35: 1390 | G35: 570 | H35: 70 | I35: 10 | J35: . | K35: . | L35: 60 | N35: 540 | O35: 110 | P35: 455 | R35: 1845 | S35: 575 | T35: 230 | U35: 70 | V35: 45 | W35: 355 | Y35: 1725 | Z35: 665 | AA35: 1485 | AC35: 37 | AE35: 15 | AG35: 48
B36: 2e halfjaar 2017 | C36: 3675 | E36: 1335 | G36: 525 | H36: 65 | I36: 25 | J36: . | K36: . | L36: 35 | N36: 495 | O36: 85 | P36: 435 | R36: 1815 | S36: 585 | T36: 225 | U36: 65 | V36: 45 | W36: 365 | Y36: 1710 | Z36: 680 | AA36: 1465 | AC36: 36 | AE36: 14 | AG36: 49
B37: 1e halfjaar 2018 | C37: 3795 | E37: 1320 | G37: 600 | H37: 60 | I37: 20 | J37: 10 | K37: . | L37: 35 | N37: 575 | O37: 145 | P37: 485 | R37: 1875 | S37: 565 | T37: 245 | U37: 80 | V37: 45 | W37: 320 | Y37: 1765 | Z37: 740 | AA37: 1505 | AC37: 35 | AE37: 16 | AG37: 49
B38: 2e halfjaar 2018 | C38: 3870 | E38: 1430 | G38: 505 | H38: 70 | I38: 15 | J38: 10 | K38: . | L38: 50 | N38: 470 | O38: 105 | P38: 395 | R38: 1935 | S38: 605 | T38: 260 | U38: 80 | V38: 55 | W38: 340 | Y38: 1825 | Z38: 660 | AA38: 1595 | AC38: 37 | AE38: 13 | AG38: 50
B39: 1e halfjaar 2019 | C39: 4100 | E39: 1470 | G39: 565 | H39: 65 | I39: 30 | J39: . | K39: . | L39: 35 | N39: 540 | O39: 95 | P39: 475 | R39: 2065 | S39: 580 | T39: 225 | U39: 85 | V39: 50 | W39: 330 | Y39: 1960 | Z39: 750 | AA39: 1710 | AC39: 36 | AE39: 14 | AG39: 50
B40: 2e halfjaar 2019 | C40: 4155 | E40: 1530 | G40: 545 | H40: 50 | I40: 15 | J40: 10 | K40: . | L40: 30 | N40: 510 | O40: 110 | P40: 430 | R40: 2085 | S40: 605 | T40: 245 | U40: 100 | V40: 50 | W40: 330 | Y40: 1965 | Z40: 645 | AA40: 1765 | AC40: 37 | AE40: 13 | AG40: 50
B41: 1e halfjaar 2020 | C41: 3765 | E41: 1455 | G41: 555 | H41: 50 | I41: 15 | J41: . | K41: . | L41: 30 | N41: 530 | O41: 110 | P41: 450 | R41: 1755 | S41: 490 | T41: 165 | U41: 100 | V41: 30 | W41: 295 | Y41: 1660 | Z41: 605 | AA41: 1470 | AC41: 39 | AE41: 15 | AG41: 47
B42: 2e halfjaar 2020 | C42: 4045 | E42: 1550 | G42: 480 | H42: 45 | I42: 15 | J42: . | K42: . | L42: 30 | N42: 460 | O42: 125 | P42: 375 | R42: 2015 | S42: 545 | T42: 235 | U42: 75 | V42: 30 | W42: 300 | Y42: 1915 | Z42: 660 | AA42: 1675 | AC42: 38 | AE42: 12 | AG42: 50
B43: 1e halfjaar 2021 | C43: 4035 | E43: 1455 | G43: 495 | H43: 45 | I43: 10 | J43: . | K43: . | L43: 30 | N43: 465 | O43: 115 | P43: 380 | R43: 2085 | S43: 520 | T43: 230 | U43: 70 | V43: 30 | W43: 265 | Y43: 1985 | Z43: 615 | AA43: 1765 | AC43: 36 | AE43: 12 | AG43: 52
B44: 2e halfjaar 2021 | C44: 3510 | E44: 1230 | G44: 460 | H44: 40 | I44: 10 | J44: 5 | K44: . | L44: 25 | N44: 440 | O44: 85 | P44: 380 | R44: 1820 | S44: 620 | T44: 235 | U44: 90 | V44: 35 | W44: 365 | Y44: 1695 | Z44: 505 | AA44: 1525 | AC44: 35 | AE44: 13 | AG44: 52
B45: 1e halfjaar 2022 | C45: 2985 | E45: 995 | G45: 425 | H45: 30 | I45: 10 | J45: . | K45: . | L45: 15 | N45: 410 | O45: 55 | P45: 365 | R45: 1565 | S45: 455 | T45: 195 | U45: 65 | V45: 20 | W45: 255 | Y45: 1480 | Z45: 455 | AA45: 1350 | AC45: 33 | AE45: 14 | AG45: 52
...

Sheet Tabel 3.0_Algemeen
A1: Tabel 3.0
A2: Afgesloten aansluitende episodes van jeugdbeschermings- en/of jeugdreclasseringsmaatregelen, 2016-2025
C3: Aantal afgesloten episodes van maatregelen | E3: Aantal afgesloten episodes van maatregelen die starten vanaf 20161 | G3: waaronder
G4: zonder jeugdhulp tussen 12 maanden voorafgaand aan de start van de episode en 12 maanden na afloop van het eind van de episode | I4: zonder jeugdhulp tussen 12 maanden voorafgaand aan de start van de episode en 12 maanden na afloop van het eind van de episode
C6: Aantal | I6: %
A8: Totaal | B8: 1e halfjaar 2016 | C8: 6360 | E8: 140 | G8: 45 | I8: 31
B9: 2e halfjaar 2016 | C9: 6420 | E9: 860 | G9: 295 | I9: 34
B10: 1e halfjaar 2017 | C10: 6150 | E10: 1955 | G10: 555 | I10: 28
B11: 2e halfjaar 2017 | C11: 6145 | E11: 2615 | G11: 655 | I11: 25
B12: 1e halfjaar 2018 | C12: 5935 | E12: 3600 | G12: 850 | I12: 24
B13: 2e halfjaar 2018 | C13: 6080 | E13: 4080 | G13: 885 | I13: 22
B14: 1e halfjaar 2019 | C14: 6060 | E14: 4500 | G14: 850 | I14: 19
B15: 2e halfjaar 2019 | C15: 6075 | E15: 4710 | G15: 910 | I15: 19
B16: 1e halfjaar 2020 | C16: 5545 | E16: 4585 | G16: 855 | I16: 19
B17: 2e halfjaar 2020 | C17: 6100 | E17: 5055 | G17: 885 | I17: 17
B18: 1e halfjaar 2021 | C18: 6280 | E18: 5350 | G18: 870 | I18: 16
B19: 2e halfjaar 2021 | C19: 6075 | E19: 5325 | G19: 885 | I19: 17
B20: 1e halfjaar 2022 | C20: 6195 | E20: 5535 | G20: 855 | I20: 15
... B26: 1e halfjaar 2025 | C26: 5015 | E26: 4645 | G26: 620 | I26: 13
A28: Episode met alleen ondertoezichtstelling | B28: 1e halfjaar 2016 | C28: 3800 | E28: 65 | G28: 15 | I28: 22
B29: 2e halfjaar 2016 | C29: 3625 | E29: 355 | G29: 95 | I29: 26
B30: 1e halfjaar 2017 | C30: 3460 | E30: 1220 | G30: 300 | I30: 24
B31: 2e halfjaar 2017 | C31: 3420 | E31: 1615 | G31: 310 | I31: 19
B32: 1e halfjaar 2018 | C32: 3350 | E32: 2205 | G32: 375 | I32: 17
B33: 2e halfjaar 2018 | C33: 3535 | E33: 2555 | G33: 420 | I33: 16
B34: 1e halfjaar 2019 | C34: 3540 | E34: 2875 | G34: 385 | I34: 13
B35: 2e halfjaar 2019 | C35: 3580 | E35: 3035 | G35: 425 | I35: 14
B36: 1e halfjaar 2020 | C36: 3245 | E36: 2915 | G36: 425 | I36: 15
B37: 2e halfjaar 2020 | C37: 3445 | E37: 3105 | G37: 400 | I37: 13
B38: 1e halfjaar 2021 | C38: 3755 | E38: 3470 | G38: 450 | I38: 13
B39: 2e halfjaar 2021 | C39: 3685 | E39: 3495 | G39: 470 | I39: 13
B40: 1e halfjaar 2022 | C40: 4110 | E40: 3955 | G40: 460 | I40: 12
... B46: 1e halfjaar 2025 | C46: 2940 | E46: 2915 | G46: 230 | I46: 8
A48: Episode met alleen voogdij | B48: 1e halfjaar 2016 | C48: 575 | E48: 25 | G48: 10 | I48: 33
B49: 2e halfjaar 2016 | C49: 550 | E49: 40 | G49: 10 | I49: 24
B50: 1e halfjaar 2017 | C50: 565 | E50: 70 | G50: 15 | I50: 22
B51: 2e halfjaar 2017 | C51: 535 | E51: 85 | G51: 15 | I51: 15
B52: 1e halfjaar 2018 | C52: 525 | E52: 105 | G52: 15 | I52: 13
B53: 2e halfjaar 2018 | C53: 475 | E53: 95 | G53: 20 | I53: 19
B54: 1e halfjaar 2019 | C54: 500 | E54: 100 | G54: 15 | I54: 14
...

Sheet Tabel 3.1_Voor
A1: Tabel 3.1
A2: Jeugdhulp voorafgaand aan afgesloten aansluitende episodes van jeugdbeschermings- en/of jeugdreclasseringsmaatregelen, 2016-2026
C3: Aantal afgesloten episodes van maatregelen | E3: Aantal afgesloten episodes van maatregelen die starten vanaf 20161 | G3: waarvan2
G4: zonder jeugdhulp in de 12 maanden voorafgaand aan de start van de episode | I4: met één of meerdere jeugdhulptrajecten in de 12 maanden voorafgaand aan de start van de episode die allen geëindigd zijn voor aanvang van de episode | T4: met één of meerdere jeugdhulptrajecten in de 12 maanden voorafgaand aan de start van de episode waarvan er minstens één niet is geëindigd voor aanvang van de episode | AE4: zonder jeugdhulp in de 12 maanden voorafgaand aan de start van de episode | AG4: met één of meerdere jeugdhulptrajecten in de 12 maanden voorafgaand aan de start van de episode die allen geëindigd zijn voor aanvang van de episode | AI4: met één of meerdere jeugdhulptrajecten in de 12 maanden voorafgaand aan de start van de episode waarvan er minstens één niet is geëindigd voor aanvang van de episode
I5: Totaal | J5: waaronder | T5: Totaal | U5: waaronder | AE5: Totaal | AG5: Totaal | AI5: Totaal
J6: jeugdhulp met verblijf | P6: jeugdhulp zonder verblijf | U6: jeugdhulp met verblijf | AA6: jeugdhulp zonder verblijf
J7: totaal | K7: pleegzorg | L7: gezinsgericht | M7: gesloten plaatsing | N7: overig | P7: totaal | Q7: door wijkteam | R7: overig | U7: totaal | V7: pleegzorg | W7: gezinsgericht | X7: gesloten plaatsing | Y7: overig | AA7: totaal | AB7: door wijkteam | AC7: overig
C9: Aantal | AE9: %
A11: Totaal | B11: 1e halfjaar 2016 | C11: 6360 | E11: 140 | G11: 80 | I11: 10 | J11: . | K11: . | L11: . | M11: . | N11: . | P11: 10 | Q11: . | R11: 5 | T11: 50 | U11: 15 | V11: . | W11: . | X11: . | Y11: 10 | AA11: 40 | AB11: 15 | AC11: 35 | AE11: 57 | AG11: 8 | AI11: 35
B12: 2e halfjaar 2016 | C12: 6420 | E12: 860 | G12: 445 | I12: 120 | J12: 25 | K12: 5 | L12: . | M12: . | N12: 15 | P12: 110 | Q12: 15 | R12: 100 | T12: 300 | U12: 100 | V12: 35 | W12: 10 | X12: 10 | Y12: 70 | AA12: 280 | AB12: 85 | AC12: 245 | AE12: 51 | AG12: 14 | AI12: 35
B13: 1e halfjaar 2017 | C13: 6150 | E13: 1955 | G13: 940 | I13: 270 | J13: 40 | K13: 10 | L13: . | M13: . | N13: 30 | P13: 255 | Q13: 35 | R13: 235 | T13: 750 | U13: 260 | V13: 75 | W13: 20 | X13: 20 | Y13: 185 | AA13: 680 | AB13: 230 | AC13: 600 | AE13: 48 | AG13: 14 | AI13: 38
B14: 2e halfjaar 2017 | C14: 6145 | E14: 2615 | G14: 1165 | I14: 385 | J14: 65 | K14: 15 | L14: . | M14: 15 | N14: 40 | P14: 365 | Q14: 55 | R14: 335 | T14: 1070 | U14: 370 | V14: 115 | W14: 35 | X14: 50 | Y14: 245 | AA14: 1000 | AB14: 360 | AC14: 845 | AE14: 44 | AG14: 15 | AI14: 41
B15: 1e halfjaar 2018 | C15: 5935 | E15: 3600 | G15: 1530 | I15: 520 | J15: 85 | K15: 15 | L15: 10 | M15: 15 | N15: 60 | P15: 485 | Q15: 90 | R15: 420 | T15: 1550 | U15: 565 | V15: 185 | W15: 65 | X15: 65 | Y15: 380 | AA15: 1455 | AB15: 520 | AC15: 1265 | AE15: 43 | AG15: 14 | AI15: 43
B16: 2e halfjaar 2018 | C16: 6080 | E16: 4080 | G16: 1650 | I16: 645 | J16: 95 | K16: 15 | L16: 10 | M16: 20 | N16: 60 | P16: 600 | Q16: 95 | R16: 530 | T16: 1785 | U16: 610 | V16: 200 | W16: 55 | X16: 65 | Y16: 405 | AA16: 1660 | AB16: 630 | AC16: 1430 | AE16: 40 | AG16: 16 | AI16: 44
B17: 1e halfjaar 2019 | C17: 6060 | E17: 4500 | G17: 1800 | I17: 725 | J17: 135 | K17: 25 | L17: 10 | M17: 15 | N17: 90 | P17: 670 | Q17: 145 | R17: 565 | T17: 1975 | U17: 675 | V17: 215 | W17: 95 | X17: 65 | Y17: 450 | AA17: 1850 | AB17: 690 | AC17: 1590 | AE17: 40 | AG17: 16 | AI17: 44
B18: 2e halfjaar 2019 | C18: 6075 | E18: 4710 | G18: 1930 | I18: 660 | J18: 110 | K18: 20 | L18: 10 | M18: 10 | N18: 85 | P18: 610 | Q18: 145 | R18: 515 | T18: 2120 | U18: 735 | V18: 245 | W18: 100 | X18: 90 | Y18: 480 | AA18: 2025 | AB18: 785 | AC18: 1755 | AE18: 41 | AG18: 14 | AI18: 45
B19: 1e halfjaar 2020 | C19: 5545 | E19: 4585 | G19: 1805 | I19: 685 | J19: 95 | K19: 25 | L19: 10 | M19: 15 | N19: 65 | P19: 635 | Q19: 145 | R19: 540 | T19: 2095 | U19: 680 | V19: 250 | W19: 90 | X19: 65 | Y19: 410 | AA19: 1960 | AB19: 700 | AC19: 1730 | AE19: 39 | AG19: 15 | AI19: 46
B20: 2e halfjaar 2020 | C20: 6100 | E20: 5055 | G20: 2005 | I20: 735 | J20: 105 | K20: 20 | L20: 10 | M20: 15 | N20: 70 | P20: 685 | Q20: 165 | R20: 570 | T20: 2315 | U20: 780 | V20: 245 | W20: 95 | X20: 100 | Y20: 510 | AA20: 2175 | AB20: 770 | AC20: 1885 | AE20: 40 | AG20: 15 | AI20: 46
B21: 1e halfjaar 2021 | C21: 6280 | E21: 5350 | G21: 2095 | I21: 780 | J21: 120 | K21: 30 | L21: 15 | M21: 15 | N21: 80 | P21: 730 | Q21: 180 | R21: 610 | T21: 2475 | U21: 775 | V21: 275 | W21: 100 | X21: 80 | Y21: 470 | AA21: 2325 | AB21: 840 | AC21: 2035 | AE21: 39 | AG21: 15 | AI21: 46
B22: 2e halfjaar 2021 | C22: 6075 | E22: 5325 | G22: 2140 | I22: 725 | J22: 110 | K22: 20 | L22: . | M22: 20 | N22: 80 | P22: 680 | Q22: 170 | R22: 565 | T22: 2460 | U22: 750 | V22: 265 | W22: 100 | X22: 80 | Y22: 455 | AA22: 2315 | AB22: 825 | AC22: 2055 | AE22: 40 | AG22: 14 | AI22: 46
B23: 1e halfjaar 2022 | C23: 6195 | E23: 5535 | G23: 2235 | I23: 755 | J23: 100 | K23: 25 | L23: 10 | M23: 15 | N23: 65 | P23: 705 | Q23: 150 | R23: 600 | T23: 2545 | U23: 725 | V23: 265 | W23: 85 | X23: 80 | Y23: 435 | AA23: 2375 | AB23: 785 | AC23: 2070 | AE23: 40 | AG23: 14 | AI23: 46
B24: 2e halfjaar 2022 | C24: 6260 | E24: 5590 | G24: 2185 | I24: 760 | J24: 110 | K24: 20 | L24: 10 | M24: 10 | N24: 75 | P24: 700 | Q24: 135 | R24: 610 | T24: 2650 | U24: 855 | V24: 320 | W24: 130 | X24: 80 | Y24: 515 | AA24: 2475 | AB24: 845 | AC24: 2195 | AE24: 39 | AG24: 14 | AI24: 47
B25: 1e halfjaar 2023 | C25: 5800 | E25: 5250 | G25: 1985 | I25: 750 | J25: 100 | K25: 15 | L25: . | M25: 5 | N25: 75 | P25: 700 | Q25: 140 | R25: 600 | T25: 2515 | U25: 780 | V25: 300 | W25: 105 | X25: 75 | Y25: 460 | AA25: 2350 | AB25: 750 | AC25: 2110 | AE25: 38 | AG25: 14 | AI25: 48
B26: 2e halfjaar 2023 | C26: 5385 | E26: 4935 | G26: 1895 | I26: 720 | J26: 80 | K26: 20 | L26: 15 | M26: 10 | N26: 45 | P26: 680 | Q26: 150 | R26: 580 | T26: 2320 | U26: 705 | V26: 250 | W26: 115 | X26: 75 | Y26: 410 | AA26: 2170 | AB26: 715 | AC26: 1945 | AE26: 38 | AG26: 15 | AI26: 47
B27: 1e halfjaar 2024 | C27: 5425 | E27: 4935 | G27: 1855 | I27: 660 | J27: 85 | K27: 30 | L27: 10 | M27: 10 | N27: 45 | P27: 615 | Q27: 125 | R27: 525 | T27: 2420 | U27: 775 | V27: 320 | W27: 100 | X27: 60 | Y27: 455 | AA27: 2250 | AB27: 735 | AC27: 1995 | AE27: 38 | AG27: 13 | AI27: 49
B28: 2e halfjaar 2024 | C28: 5215 | E28: 4790 | G28: 1860 | I28: 615 | J28: 75 | K28: 20 | L28: 10 | M28: . | N28: 45 | P28: 570 | Q28: 115 | R28: 495 | T28: 2315 | U28: 735 | V28: 280 | W28: 105 | X28: 80 | Y28: 415 | AA28: 2160 | AB28: 700 | AC28: 1935 | AE28: 39 | AG28: 13 | AI28: 48
B29: 1e halfjaar 2025 | C29: 5015 | E29: 4645 | G29: 1780 | I29: 610 | J29: 70 | K29: 15 | L29: . | M29: . | N29: 50 | P29: 570 | Q29: 120 | R29: 485 | T29: 2260 | U29: 715 | V29: 265 | W29: 115 | X29: 60 | Y29: 430 | AA29: 2120 | AB29: 695 | AC29: 1880 | AE29: 38 | AG29: 13 | AI29: 49
B30: 2e halfjaar 2025 | C30: 5205 | E30: 4835 | G30: 1890 | I30: 620 | J30: 65 | K30: 10 | L30: . | M30: . | N30: 50 | P30: 585 | Q30: 115 | R30: 505 | T30: 2325 | U30: 715 | V30: 235 | W30: 120 | X30: 55 | Y30: 455 | AA30: 2185 | AB30: 695 | AC30: 1945 | AE30: 39 | AG30: 13 | AI30: 48
B31: 1e halfjaar 2026 | C31: 4735 | E31: 4440 | G31: 1750 | I31: 605 | J31: 65 | K31: 10 | L31: . | M31: . | N31: 50 | P31: 565 | Q31: 105 | R31: 495 | T31: 2085 | U31: 685 | V31: 240 | W31: 90 | X31: 50 | Y31: 440 | AA31: 1965 | AB31: 640 | AC31: 1770 | AE31: 39 | AG31: 14 | AI31: 47
A33: Episode met alleen ondertoezichtstelling | B33: 1e halfjaar 2016 | C33: 3800 | E33: 65 | G33: 40 | I33: . | J33: . | K33: . | L33: . | M33: . | N33: . | P33: . | Q33: . | R33: . | T33: 25 | U33: 10 | V33: . | W33: . | X33: . | Y33: . | AA33: 20 | AB33: 5 | AC33: 15 | AE33: 57 | AG33: . | AI33: 36
B34: 2e halfjaar 2016 | C34: 3625 | E34: 355 | G34: 160 | I34: 50 | J34: 10 | K34: . | L34: . | M34: . | N34: . | P34: 50 | Q34: 10 | R34: 40 | T34: 145 | U34: 60 | V34: 25 | W34: . | X34: . | Y34: 40 | AA34: 130 | AB34: 50 | AC34: 110 | AE34: 45 | AG34: 15 | AI34: 41
B35: 1e halfjaar 2017 | C35: 3460 | E35: 1220 | G35: 575 | I35: 180 | J35: 20 | K35: 5 | L35: . | M35: . | N35: 10 | P35: 170 | Q35: 25 | R35: 155 | T35: 470 | U35: 160 | V35: 55 | W35: 15 | X35: 5 | Y35: 110 | AA35: 425 | AB35: 150 | AC35: 370 | AE35: 47 | AG35: 15 | AI35: 38
B36: 2e halfjaar 2017 | C36: 3420 | E36: 1615 | G36: 670 | I36: 235 | J36: 35 | K36: 5 | L36: . | M36: . | N36: 25 | P36: 225 | Q36: 30 | R36: 210 | T36: 710 | U36: 255 | V36: 85 | W36: 25 | X36: 30 | Y36: 160 | AA36: 665 | AB36: 250 | AC36: 560 | AE36: 41 | AG36: 15 | AI36: 44
B37: 1e halfjaar 2018 | C37: 3350 | E37: 2205 | G37: 835 | I37: 315 | J37: 35 | K37: . | L37: . | M37: . | N37: 25 | P37: 305 | Q37: 55 | R37: 265 | T37: 1050 | U37: 375 | V37: 120 | W37: 35 | X37: 40 | Y37: 255 | AA37: 1000 | AB37: 385 | AC37: 870 | AE37: 38 | AG37: 14 | AI37: 48
B38: 2e halfjaar 2018 | C38: 3535 | E38: 2555 | G38: 940 | I38: 385 | J38: 50 | K38: 15 | L38: . | M38: . | N38: 30 | P38: 365 | Q38: 50 | R38: 330 | T38: 1230 | U38: 410 | V38: 150 | W38: 35 | X38: 45 | Y38: 265 | AA38: 1145 | AB38: 460 | AC38: 970 | AE38: 37 | AG38: 15 | AI38: 48
B39: 1e halfjaar 2019 | C39: 3540 | E39: 2875 | G39: 1055 | I39: 425 | J39: 70 | K39: 20 | L39: 5 | M39: . | N39: 45 | P39: 400 | Q39: 85 | R39: 335 | T39: 1390 | U39: 470 | V39: 170 | W39: 70 | X39: 35 | Y39: 295 | AA39: 1310 | AB39: 510 | AC39: 1120 | AE39: 37 | AG39: 15 | AI39: 48
B40: 2e halfjaar 2019 | C40: 3580 | E40: 3035 | G40: 1145 | I40: 455 | J40: 65 | K40: 15 | L40: 10 | M40: . | N40: 50 | P40: 425 | Q40: 95 | R40: 370 | T40: 1440 | U40: 485 | V40: 180 | W40: 60 | X40: 50 | Y40: 305 | AA40: 1380 | AB40: 555 | AC40: 1190 | AE40: 38 | AG40: 15 | AI40: 47
B41: 1e halfjaar 2020 | C41: 3245 | E41: 2915 | G41: 1075 | I41: 420 | J41: 45 | K41: 20 | L41: . | M41: . | N41: 30 | P41: 400 | Q41: 85 | R41: 345 | T41: 1420 | U41: 440 | V41: 170 | W41: 65 | X41: 35 | Y41: 255 | AA41: 1340 | AB41: 495 | AC41: 1190 | AE41: 37 | AG41: 14 | AI41: 49
B42: 2e halfjaar 2020 | C42: 3445 | E42: 3105 | G42: 1140 | I42: 445 | J42: 35 | K42: 15 | L42: . | M42: . | N42: 25 | P42: 420 | Q42: 90 | R42: 360 | T42: 1520 | U42: 465 | V42: 160 | W42: 60 | X42: 50 | Y42: 290 | AA42: 1435 | AB42: 510 | AC42: 1250 | AE42: 37 | AG42: 14 | AI42: 49
B43: 1e halfjaar 2021 | C43: 3755 | E43: 3470 | G43: 1270 | I43: 515 | J43: 60 | K43: 25 | L43: 5 | M43: . | N43: 35 | P43: 490 | Q43: 115 | R43: 410 | T43: 1685 | U43: 500 | V43: 200 | W43: 65 | X43: 35 | Y43: 285 | AA43: 1595 | AB43: 560 | AC43: 1405 | AE43: 37 | AG43: 15 | AI43: 49
...

Sheet Tabel 3.2_Tijdens
A1: Tabel 3.2
A2: Jeugdhulp tijdens afgesloten aansluitende episodes van jeugdbeschermings- en/of jeugdreclasseringsmaatregelen, 2015-2026
C3: Aantal afgesloten episodes van maatregelen | E3: Totaal aantal afgesloten episodes van maatregelen die starten vanaf 20151 | O3: waaronder
E4: Totaal | G4: waarvan duur van de episode | O4: met jeugdhulp die start en eindigt tijdens de episode | CP4: met jeugdhulp die start en eindigt tijdens de episode
G5: 0 tot 3 maanden | H5: 3 tot 6 maanden | I5: 6 tot 12 maaanden | J5: 1 tot 2 jaar | K5: 2 tot 3 jaar | L5: 3 tot 4 jaar | M5: 4 jaar en langer | O5: Totaal | Q5: waarvan duur van de episode | CP5: Totaal | CR5: waarvan duur van de episode
Q6: 0 tot 3 maanden | AB6: 3 tot 6 maanden | AM6: 6 tot 12 maanden | AX6: 1 tot 2 jaar | BI6: 2 tot 3 jaar | BT6: 3 tot 4 jaar | CE6: 4 jaar of langer | CR6: 0 tot 3 maanden | CS6: 3 tot 6 maanden | CT6: 6 tot 12 maaanden | CU6: 1 tot 2 jaar | CV6: 2 tot 3 jaar | CW6: 3 tot 4 jaar | CX6: 4 jaar en langer
Q7: Totaal | R7: jeugdhulp met verblijf | X7: jeugdhulp zonder verblijf | AB7: Totaal | AC7: jeugdhulp met verblijf | AI7: jeugdhulp zonder verblijf | AM7: Totaal | AN7: jeugdhulp met verblijf | AT7: jeugdhulp zonder verblijf | AX7: Totaal | AY7: jeugdhulp met verblijf | BE7: jeugdhulp zonder verblijf | BI7: Totaal | BJ7: jeugdhulp met verblijf | BP7: jeugdhulp zonder verblijf | BT7: Totaal | BU7: jeugdhulp met verblijf | CA7: jeugdhulp zonder verblijf | CE7: Totaal | CF7: jeugdhulp met verblijf | CL7: jeugdhulp zonder verblijf
R8: totaal | S8: pleegzorg | T8: gezinsgericht | U8: gesloten plaatsing | V8: overig | X8: totaal | Y8: door wijkteam | Z8: overig | AC8: totaal | AD8: pleegzorg | AE8: gezinsgericht | AF8: gesloten plaatsing | AG8: overig | AI8: totaal | AJ8: door wijkteam | AK8: overig | AN8: totaal | AO8: pleegzorg | AP8: gezinsgericht | AQ8: gesloten plaatsing | AR8: overig | AT8: totaal | AU8: door wijkteam | AV8: overig | AY8: totaal | AZ8: pleegzorg | BA8: gezinsgericht | BB8: gesloten plaatsing | BC8: overig | BE8: totaal | BF8: door wijkteam | BG8: overig | BJ8: totaal | BK8: pleegzorg | BL8: gezinsgericht | BM8: gesloten plaatsing | BN8: overig | BP8: totaal | BQ8: door wijkteam | BR8: overig | BU8: totaal | BV8: pleegzorg | BW8: gezinsgericht | BX8: gesloten plaatsing | BY8: overig | CA8: totaal | CB8: door wijkteam | CC8: overig | CF8: totaal | CG8: pleegzorg | CH8: gezinsgericht | CI8: gesloten plaatsing | CJ8: overig | CL8: totaal | CM8: door wijkteam | CN8: overig
C10: Aantal | CP10: %
A12: Totaal | B12: 1e halfjaar 2015 | C12: 7040 | E12: 90 | G12: 80 | H12: 10 | I12: . | J12: . | K12: . | L12: . | M12: . | O12: 15 | Q12: 15 | R12: 10 | S12: 5 | T12: . | U12: . | V12: . | X12: 10 | Y12: . | Z12: 10 | AB12: . | AC12: . | AD12: . | AE12: . | AF12: . | AG12: . | AI12: . | AJ12: . | AK12: . | AM12: . | AN12: . | AO12: . | AP12: . | AQ12: . | AR12: . | AT12: . | AU12: . | AV12: . | AX12: . | AY12: . | AZ12: . | BA12: . | BB12: . | BC12: . | BE12: . | BF12: . | BG12: . | BI12: . | BJ12: . | BK12: . | BL12: . | BM12: . | BN12: . | BP12: . | BQ12: . | BR12: . | BT12: . | BU12: . | BV12: . | BW12: . | BX12: . | BY12: . | CA12: . | CB12: . | CC12: . | CE12: . | CF12: . | CG12: . | CH12: . | CI12: . | CJ12: . | CL12: . | CM12: . | CN12: . | CP12: 17 | CR12: 19 | CS12: . | CT12: . | CU12: . | CV12: . | CW12: . | CX12: .
B13: 2e halfjaar 2015 | C13: 7630 | E13: 785 | G13: 115 | H13: 380 | I13: 290 | J13: . | K13: . | L13: . | M13: . | O13: 90 | Q13: 25 | R13: 20 | S13: 5 | T13: . | U13: . | V13: . | X13: 10 | Y13: . | Z13: 10 | AB13: 30 | AC13: 10 | AD13: . | AE13: . | AF13: . | AG13: 5 | AI13: 20 | AJ13: . | AK13: 20 | AM13: 35 | AN13: 20 | AO13: 10 | AP13: . | AQ13: . | AR13: 5 | AT13: 20 | AU13: . | AV13: 15 | AX13: . | AY13: . | AZ13: . | BA13: . | BB13: . | BC13: . | BE13: . | BF13: . | BG13: . | BI13: . | BJ13: . | BK13: . | BL13: . | BM13: . | BN13: . | BP13: . | BQ13: . | BR13: . | BT13: . | BU13: . | BV13: . | BW13: . | BX13: . | BY13: . | CA13: . | CB13: . | CC13: . | CE13: . | CF13: . | CG13: . | CH13: . | CI13: . | CJ13: . | CL13: . | CM13: . | CN13: . | CP13: 11 | CR13: 21 | CS13: 7 | CT13: 13 | CU13: . | CV13: . | CW13: . | CX13: .
B14: 1e halfjaar 2016 | C14: 6360 | E14: 1740 | G14: 165 | H14: 420 | I14: 910 | J14: 245 | K14: . | L14: . | M14: . | O14: 295 | Q14: 45 | R14: 35 | S14: 20 | T14: . | U14: . | V14: 10 | X14: 20 | Y14: . | Z14: 20 | AB14: 25 | AC14: 10 | AD14: . | AE14: . | AF14: . | AG14: . | AI14: 15 | AJ14: . | AK14: 15 | AM14: 155 | AN14: 65 | AO14: 20 | AP14: . | AQ14: 15 | AR14: 35 | AT14: 110 | AU14: 15 | AV14: 105 | AX14: 75 | AY14: 50 | AZ14: 25 | BA14: . | BB14: 15 | BC14: 15 | BE14: 45 | BF14: . | BG14: 40 | BI14: . | BJ14: . | BK14: . | BL14: . | BM14: . | BN14: . | BP14: . | BQ14: . | BR14: . | BT14: . | BU14: . | BV14: . | BW14: . | BX14: . | BY14: . | CA14: . | CB14: . | CC14: . | CE14: . | CF14: . | CG14: . | CH14: . | CI14: . | CJ14: . | CL14: . | CM14: . | CN14: . | CP14: 17 | CR14: 26 | CS14: 6 | CT14: 17 | CU14: 30 | CV14: . | CW14: . | CX14: .
B15: 2e halfjaar 2016 | C15: 6420 | E15: 2415 | G15: 165 | H15: 425 | I15: 1060 | J15: 765 | K15: . | L15: . | M15: . | O15: 430 | Q15: 25 | R15: 20 | S15: 10 | T15: . | U15: . | V15: 10 | X15: 10 | Y15: . | Z15: 10 | AB15: 25 | AC15: 10 | AD15: . | AE15: . | AF15: . | AG15: . | AI15: 15 | AJ15: . | AK15: 15 | AM15: 135 | AN15: 60 | AO15: 20 | AP15: 10 | AQ15: 20 | AR15: 20 | AT15: 85 | AU15: 10 | AV15: 75 | AX15: 245 | AY15: 130 | AZ15: 55 | BA15: 10 | BB15: 40 | BC15: 50 | BE15: 165 | BF15: 15 | BG15: 155 | BI15: . | BJ15: . | BK15: . | BL15: . | BM15: . | BN15: . | BP15: . | BQ15: . | BR15: . | BT15: . | BU15: . | BV15: . | BW15: . | BX15: . | BY15: . | CA15: . | CB15: . | CC15: . | CE15: . | CF15: . | CG15: . | CH15: . | CI15: . | CJ15: . | CL15: . | CM15: . | CN15: . | CP15: 18 | CR15: 16 | CS15: 5 | CT15: 13 | CU15: 32 | CV15: . | CW15: . | CX15: .
B16: 1e halfjaar 2017 | C16: 6150 | E16: 3430 | G16: 190 | H16: 420 | I16: 1080 | J16: 1435 | K16: 300 | L16: . | M16: . | O16: 875 | Q16: 30 | R16: 20 | S16: 5 | T16: . | U16: 5 | V16: 10 | X16: 10 | Y16: . | Z16: 10 | AB16: 30 | AC16: 15 | AD16: . | AE16: . | AF16: . | AG16: 10 | AI16: 15 | AJ16: . | AK16: 15 | AM16: 160 | AN16: 65 | AO16: 20 | AP16: 5 | AQ16: 20 | AR16: 30 | AT16: 105 | AU16: 10 | AV16: 100 | AX16: 530 | AY16: 245 | AZ16: 85 | BA16: 35 | BB16: 60 | BC16: 110 | BE16: 385 | BF16: 50 | BG16: 355 | BI16: 125 | BJ16: 50 | BK16: 10 | BL16: . | BM16: 15 | BN16: 30 | BP16: 100 | BQ16: 15 | BR16: 90 | BT16: . | BU16: . | BV16: . | BW16: . | BX16: . | BY16: . | CA16: . | CB16: . | CC16: . | CE16: . | CF16: . | CG16: . | CH16: . | CI16: . | CJ16: . | CL16: . | CM16: . | CN16: . | CP16: 26 | CR16: 15 | CS16: 7 | CT16: 15 | CU16: 37 | CV16: 42 | CW16: . | CX16: .
B17: 2e halfjaar 2017 | C17: 6145 | E17: 4040 | G17: 215 | H17: 450 | I17: 1125 | J17: 1470 | K17: 785 | L17: . | M17: . | O17: 1120 | Q17: 30 | R17: 25 | S17: 15 | T17: . | U17: . | V17: . | X17: 15 | Y17: . | Z17: 10 | AB17: 35 | AC17: 20 | AD17: . | AE17: . | AF17: . | AG17: 5 | AI17: 20 | AJ17: . | AK17: 15 | AM17: 175 | AN17: 85 | AO17: 30 | AP17: 10 | AQ17: 20 | AR17: 35 | AT17: 105 | AU17: 15 | AV17: 90 | AX17: 520 | AY17: 240 | AZ17: 70 | BA17: 30 | BB17: 65 | BC17: 120 | BE17: 380 | BF17: 50 | BG17: 340 | BI17: 360 | BJ17: 170 | BK17: 50 | BL17: 25 | BM17: 45 | BN17: 100 | BP17: 285 | BQ17: 35 | BR17: 260 | BT17: . | BU17: . | BV17: . | BW17: . | BX17: . | BY17: . | CA17: . | CB17: . | CC17: . | CE17: . | CF17: . | CG17: . | CH17: . | CI17: . | CJ17: . | CL17: . | CM17: . | CN17: . | CP17: 28 | CR17: 15 | CS17: 8 | CT17: 15 | CU17: 35 | CV17: 46 | CW17: . | CX17: .
B18: 1e halfjaar 2018 | C18: 5935 | E18: 4420 | G18: 165 | H18: 415 | I18: 1115 | J18: 1580 | K18: 1040 | L18: 105 | M18: . | O18: 1465 | Q18: 20 | R18: 20 | S18: 5 | T18: . | U18: . | V18: 10 | X18: . | Y18: . | Z18: . | AB18: 35 | AC18: 15 | AD18: . | AE18: . | AF18: . | AG18: 5 | AI18: 25 | AJ18: . | AK18: 20 | AM18: 205 | AN18: 90 | AO18: 30 | AP18: 5 | AQ18: 25 | AR18: 40 | AT18: 125 | AU18: 20 | AV18: 105 | AX18: 570 | AY18: 260 | AZ18: 85 | BA18: 30 | BB18: 60 | BC18: 140 | BE18: 405 | BF18: 50 | BG18: 370 | BI18: 565 | BJ18: 275 | BK18: 85 | BL18: 40 | BM18: 75 | BN18: 170 | BP18: 435 | BQ18: 65 | BR18: 395 | BT18: 75 | BU18: 35 | BV18: 10 | BW18: . | BX18: 15 | BY18: 25 | CA18: 55 | CB18: 10 | CC18: 50 | CE18: . | CF18: . | CG18: . | CH18: . | CI18: . | CJ18: . | CL18: . | CM18: . | CN18: . | CP18: 33 | CR18: 13 | CS18: 8 | CT18: 18 | CU18: 36 | CV18: 54 | CW18: 69 | CX18: .
B19: 2e halfjaar 2018 | C19: 6080 | E19: 4735 | G19: 170 | H19: 420 | I19: 1135 | J19: 1640 | K19: 1050 | L19: 320 | M19: . | O19: 1570 | Q19: 35 | R19: 25 | S19: 15 | T19: . | U19: . | V19: 5 | X19: 15 | Y19: . | Z19: 15 | AB19: 25 | AC19: 15 | AD19: 10 | AE19: . | AF19: . | AG19: . | AI19: 10 | AJ19: . | AK19: 10 | AM19: 165 | AN19: 75 | AO19: 25 | AP19: 5 | AQ19: 20 | AR19: 30 | AT19: 110 | AU19: 20 | AV19: 95 | AX19: 600 | AY19: 255 | AZ19: 90 | BA19: 30 | BB19: 70 | BC19: 115 | BE19: 450 | BF19: 65 | BG19: 415 | BI19: 540 | BJ19: 260 | BK19: 80 | BL19: 25 | BM19: 70 | BN19: 165 | BP19: 415 | BQ19: 60 | BR19: 375 | BT19: 210 | BU19: 100 | BV19: 25 | BW19: 10 | BX19: 40 | BY19: 70 | CA19: 165 | CB19: 30 | CC19: 155 | CE19: . | CF19: . | CG19: . | CH19: . | CI19: . | CJ19: . | CL19: . | CM19: . | CN19: . | CP19: 33 | CR19: 20 | CS19: 6 | CT19: 14 | CU19: 37 | CV19: 51 | CW19: 66 | CX19: .
B20: 1e halfjaar 2019 | C20: 6060 | E20: 4945 | G20: 210 | H20: 435 | I20: 1055 | J20: 1620 | K20: 1040 | L20: 510 | M20: 70 | O20: 1890 | Q20: 40 | R20: 35 | S20: 15 | T20: . | U20: 10 | V20: 10 | X20: 10 | Y20: . | Z20: 10 | AB20: 30 | AC20: 15 | AD20: 10 | AE20: . | AF20: . | AG20: . | AI20: 15 | AJ20: . | AK20: 15 | AM20: 170 | AN20: 65 | AO20: 20 | AP20: 10 | AQ20: 15 | AR20: 30 | AT20: 115 | AU20: 25 | AV20: 100 | AX20: 650 | AY20: 270 | AZ20: 95 | BA20: 45 | BB20: 60 | BC20: 125 | BE20: 480 | BF20: 75 | BG20: 430 | BI20: 585 | BJ20: 300 | BK20: 105 | BL20: 55 | BM20: 80 | BN20: 170 | BP20: 440 | BQ20: 75 | BR20: 400 | BT20: 360 | BU20: 190 | BV20: 55 | BW20: 35 | BX20: 55 | BY20: 125 | CA20: 295 | CB20: 45 | CC20: 270 | CE20: 50 | CF20: 25 | CG20: 10 | CH20: 10 | CI20: 10 | CJ20: 15 | CL20: 45 | CM20: 10 | CN20: 45 | CP20: 38 | CR20: 20 | CS20: 7 | CT20: 16 | CU20: 40 | CV20: 56 | CW20: 71 | CX20: 71
B21: 2e halfjaar 2019 | C21: 6075 | E21: 5040 | G21: 225 | H21: 405 | I21: 1055 | J21: 1555 | K21: 1110 | L21: 505 | M21: 185 | O21: 1825 | Q21: 35 | R21: 15 | S21: . | T21: . | U21: 5 | V21: . | X21: 20 | Y21: . | Z21: 20 | AB21: 20 | AC21: 10 | AD21: . | AE21: . | AF21: 5 | AG21: . | AI21: 15 | AJ21: . | AK21: 15 | AM21: 165 | AN21: 65 | AO21: 20 | AP21: . | AQ21: 20 | AR21: 30 | AT21: 110 | AU21: 10 | AV21: 105 | AX21: 565 | AY21: 260 | AZ21: 100 | BA21: 35 | BB21: 80 | BC21: 85 | BE21: 390 | BF21: 60 | BG21: 340 | BI21: 575 | BJ21: 245 | BK21: 70 | BL21: 40 | BM21: 80 | BN21: 130 | BP21: 440 | BQ21: 55 | BR21: 415 | BT21: 340 | BU21: 180 | BV21: 45 | BW21: 45 | BX21: 50 | BY21: 115 | CA21: 265 | CB21: 45 | CC21: 240 | CE21: 120 | CF21: 70 | CG21: 25 | CH21: . | CI21: 25 | CJ21: 45 | CL21: 105 | CM21: 20 | CN21: 95 | CP21: 36 | CR21: 15 | CS21: 5 | CT21: 16 | CU21: 36 | CV21: 52 | CW21: 67 | CX21: 67
B22: 1e halfjaar 2020 | C22: 5545 | E22: 4770 | G22: 195 | H22: 405 | I22: 985 | J22: 1475 | K22: 985 | L22: 495 | M22: 235 | O22: 1785 | Q22: 25 | R22: 15 | S22: 10 | T22: . | U22: . | V22: 10 | X22: 10 | Y22: . | Z22: 10 | AB22: 25 | AC22: 10 | AD22: . | AE22: . | AF22: . | AG22: . | AI22: 15 | AJ22: . | AK22: 10 | AM22: 155 | AN22: 55 | AO22: 20 | AP22: . | AQ22: 15 | AR22: 20 | AT22: 105 | AU22: 10 | AV22: 100 | AX22: 525 | AY22: 225 | AZ22: 75 | BA22: 35 | BB22: 60 | BC22: 100 | BE22: 380 | BF22: 50 | BG22: 345 | BI22: 535 | BJ22: 245 | BK22: 85 | BL22: 35 | BM22: 70 | BN22: 130 | BP22: 405 | BQ22: 65 | BR22: 370 | BT22: 340 | BU22: 185 | BV22: 45 | BW22: 45 | BX22: 45 | BY22: 120 | CA22: 265 | CB22: 55 | CC22: 240 | CE22: 180 | CF22: 100 | CG22: 30 | CH22: 25 | CI22: 30 | CJ22: 65 | CL22: 155 | CM22: 35 | CN22: 140 | CP22: 37 | CR22: 12 | CS22: 6 | CT22: 16 | CU22: 36 | CV22: 54 | CW22: 69 | CX22: 77
