Workbook
Name Eerstegetal: #REF!
Name Eerstegetal: #REF!
Name Eerstegetal: #REF!
Name Eerstegetal: #REF!
Name Eerstegetal: #REF!
Name Namen: #REF!
Name Namen: #REF!
Name Namen: #REF!
Name Namen: #REF!
Name Namen: #REF!

Sheet Voorblad
A3: Herhaald beroep bij en verloop van jeugdbescherming en jeugdreclassering, 2015- juni 2026
A41: CBS, Rechtsbescherming en Veiligheid
A42: Oktober 2026

Sheet Inhoud
A1: Inhoud
A3: Werkblad | B3: Inhoud
A5: Toelichting | B5: Toelichting bij de tabellen
A6: Figuren | B6: Figuren bij de tabellen
A7: Tabel 1. | B7: Terugkeer na afgesloten aansluitende episodes van jeugdbeschermings- en/of jeugdreclasseringsmaatregelen naar duur van de episode, 2015-2025
A8: Tabel 2. | B8: Jeugdhulp voorafgaand aan gestarte aansluitende episodes van jeugdbeschermings- en/of jeugdreclasseringsmaatregelen, 2016-2026
A9: Tabel 3.0 | B9: Afgesloten aansluitende episodes van jeugdbeschermings- en/of jeugdreclasseringsmaatregelen, 2016-2025
A10: Tabel 3.1 | B10: Jeugdhulp voorafgaand aan afgesloten aansluitende episodes van jeugdbeschermings- en/of jeugdreclasseringsmaatregelen, 2016-2026
A11: Tabel 3.2 | B11: Jeugdhulp tijdens afgesloten aansluitende episodes van jeugdbeschermings- en/of jeugdreclasseringsmaatregelen, 2015-2026
A12: Tabel 3.3 | B12: Jeugdhulp na afgesloten aansluitende episodes van jeugdbeschermings- en/of jeugdreclasseringsmaatregelen, 2015-2025
A41: Verklaring van tekens
A42: niets (blanco) = het cijfer kan op logische gronden niet voorkomen
A43: . = het cijfer is onbekend, onvoldoende betrouwbaar of geheim
A44: * = voorlopige cijfers
A45: ** = nader voorlopige cijfers
A46: 2019–2020 = 2019 tot en met 2020
A47: 2019/2020 = het gemiddelde over de jaren 2019 tot en met 2020
A48: 2019/’20 = oogstjaar, boekjaar, schooljaar enz., beginnend in 2019 en eindigend in 2020
A49: 2017/’18–2019/’20 = oogstjaar, boekjaar enz., 2017/’18 tot en met 2019/’20
A50: In geval van afronding kan het voorkomen dat het weergegeven totaal niet overeenstemt met de som van de getallen.
A52: Vragen over deze publicatie kunnen gestuurd worden aan CBS op Maat onder vermelding van het referentienummer PR0000300. Het e-mailadres is maatwerk@cbs.nl.

Sheet Toelichting
A1: Toelichting bij de tabellen
A3: Inleiding
A4: In het kader van de Beleidsinformatie Jeugd verzamelt CBS tweemaal per jaar gegevens over jeugdhulp, jeugdbescherming en jeugdreclassering. In aanvulling op de reguliere StatLine-tabellen en rapportages die CBS daarover publiceert, zijn op verzoek van het Ministerie van Justitie en Veiligheid (J&V) en het Ministerie van Volksgezondheid, Welzijn en Sport (VWS) tabellen samengesteld over de terugkeer van jongeren in de jeugdbescherming en/of jeugdreclassering en over het al dan niet hebben van jeugdhulp voor, tijdens en/of na de jeugdbescherming en/of jeugdreclassering.
A6: Sinds de invoering van de Jeugdwet in 2015, zijn gemeenten verantwoordelijk voor de jeugdbescherming en jeugdreclassering. Gecertificeerde instellingen (GI) voeren de jeugdbeschermings- en jeugdreclasseringsmaatregelen uit. Jongeren kunnen na een afgesloten maatregel op een later moment weer terugkeren in de jeugdbescherming- en of jeugdreclassering. Tevens kunnen zij voor, tijdens en/of na een maatregel ook jeugdhulp ontvangen. In deze tabellen wordt deze terugkeer en de combinatie met jeugdhulp cijfermatig in beeld gebracht, in samenhang met de duur van de afgesloten maatregel.
A8: Populatie
A9: De populatie is opgebouwd uit alle jeugdbeschermings- en jeugdreclasseringsmaatregelen in de periode 2015 tot en met juni 2026 van personen die teruggevonden kunnen worden in de Basisregistratie Personen (BRP). Op basis van deze maatregelen zijn episodes aangemaakt waarin een jongere, overlappend aan elkaar, aansluitend op elkaar of met maximaal 3 dagen tussen opeenvolgende maatregelen, één of meerdere maatregelen had lopen. Deze episodes vormen de populatie van de tabellen.
A11: In tabel 1 wordt gekeken naar afgesloten episodes van 2016 tot en met juni 2025. Met behulp van deze episodes is gekeken naar de duur daarvan en of er na deze episode weer een nieuwe episode is gestart en hoeveel tijd er vervolgens tussen deze episodes zat.
A12: In tabel 2 wordt gekeken naar gestarte episodes van 2016 tot en met juni 2026 en of de betreffende jongere ook jeugdhulp ontving in de 12 maanden voor de start van de episode. De gestarte episodes van 2015 zijn niet opgenomen in deze tabel, omdat er geen jeugdhulpgegevens beschikbaar zijn over de volledige 12 maanden voorafgaand aan deze episodes.
A13: In tabel 3.0 wordt gekeken naar afgesloten episodes van 2016 tot en met juni 2025 en wordt aangegeven bij hoeveel daarvan er geen jeugdhulp was in de 12 maanden voor de start en de 12 maanden na afloop van de episode. De afgesloten episodes van 2015 en na juni 2025 zijn niet opgenomen in deze tabel, omdat er geen jeugdhulpgegevens beschikbaar zijn over de volledige 12 maanden voorafgaand aan en na afloop van deze episodes. Om diezelfde reden zijn ook afgesloten episodes die gestart zijn vóór 2016 niet meegenomen in de tabel.
A14: In tabel 3.1 wordt gekeken naar afgesloten episodes van 2016 tot en met juni 2026 en wordt aangegeven bij hoeveel er al dan niet sprake is van jeugdhulp in de 12 maanden voorafgaand aan de start van de episode. De afgesloten episodes van 2015 zijn niet opgenomen in deze tabel, omdat er geen jeugdhulpgegevens beschikbaar zijn over de volledige 12 maanden voorafgaand aan deze episodes. Om diezelfde reden zijn ook afgesloten episodes die gestart zijn vóór 2016 niet meegenomen in de tabel.
A15: In tabel 3.2 wordt gekeken naar afgesloten episodes van 2015 tot en met juni 2026 en wordt aangegeven bij hoeveel er sprake is van een jeugdhulptraject dat start en eindigt binnen de duur van de episode. Om meer vergelijkbaarheid in de cijfers te krijgen, is er uitgesplitst naar de totale duur van de episode. Omdat er geen jeugdhulpgegevens beschikbaar zijn over de periode vóór 2015, zijn afgesloten episodes die gestart zijn vóór 2015 niet meegenomen in de tabel.
A16: In tabel 3.3 wordt gekeken naar afgesloten episodes van 2015 tot en met juni 2025 en wordt aangegeven bij hoeveel er al dan niet sprake is van jeugdhulp in de 12 maanden na afloop van de episode. De afgesloten episodes na juni 2025 zijn niet opgenomen in deze tabel, omdat er geen jeugdhulpgegevens beschikbaar zijn over de volledige 12 maanden na afloop van deze episodes.
... A85: https://www.cbs.nl/nl-nl/onze-diensten/methoden/onderzoeksomschrijvingen/korte-onderzoeksbeschrijvingen/beleidsinformatie-jeugd

Sheet Figuren
A1: Figuren op basis van tabel 1. | M1: Figuren op basis van tabel 2. | X1: Figuren op basis van tabel 3.0 | AH1: Figuren op basis van tabel 3.1 | AS1: Figuren op basis van tabel 3.2 | BC1: Figuren op basis van tabel 3.3
A68: * De categorie 'na 12 maanden' is niet goed vergelijkbaar over de tijd, zie ook de toelichting.

Sheet Tabel 1
A1: Tabel 1.
A2: Terugkeer na afgesloten aansluitende episodes van jeugdbeschermings- en/of jeugdreclasseringsmaatregelen naar duur van de episode, 2015-2025
C3: Aantal afgesloten episodes van maatregelen | D3: Aantal jongeren met afgesloten episodes van maatregelen | F3: Aantal episodes van maatregelen met terugkeer totaal | R3: Aantal episodes van maatregelen met terugkeer binnen 1 maand | T3: Aantal episodes van maatregelen met terugkeer tussen de 1 en 6 maanden | AF3: Aantal episodes van maatregelen met terugkeer tussen de 6 en 12 maanden | AR3: Aantal episodes van maatregelen met terugkeer na 12 maanden
H4: waarvan duur van de episode | P4: Gemiddelde duur in dagen | V4: waarvan duur van de episode | AD4: Gemiddelde duur in dagen | AH4: waarvan duur van de episode | AP4: Gemiddelde duur in dagen | AT4: waarvan duur van de episode | BB4: Gemiddelde duur in dagen
C5: Totaal | D5: Totaal | F5: Totaal | H5: 0 tot 3 maanden | I5: 3 tot 6 maanden | J5: 6 tot 12 maanden | K5: 1 tot 2 jaar | L5: 2 tot 3 jaar | M5: 3 tot 4 jaar | N5: 4 jaar of langer | R5: Totaal | T5: Totaal | V5: 0 tot 3 maanden | W5: 3 tot 6 maanden | X5: 6 tot 12 maanden | Y5: 1 tot 2 jaar | Z5: 2 tot 3 jaar | AA5: 3 tot 4 jaar | AB5: 4 jaar of langer | AF5: Totaal | AH5: 0 tot 3 maanden | AI5: 3 tot 6 maanden | AJ5: 6 tot 12 maanden | AK5: 1 tot 2 jaar | AL5: 2 tot 3 jaar | AM5: 3 tot 4 jaar | AN5: 4 jaar of langer | AR5: Totaal | AT5: 0 tot 3 maanden | AU5: 3 tot 6 maanden | AV5: 6 tot 12 maanden | AW5: 1 tot 2 jaar | AX5: 2 tot 3 jaar | AY5: 3 tot 4 jaar | AZ5: 4 jaar of langer
C7: Aantal | H7: % | P7: Aantal | V7: % | AD7: Aantal | AH7: % | AP7: Aantal | AT7: % | BB7: Aantal
A9: Totaal | B9: 1e halfjaar 2015 | C9: 7040 | D9: 7040 | F9: 1220 | H9: 5 | I9: 10 | J9: 24 | K9: 27 | L9: 13 | M9: 8 | N9: 13 | P9: 808 | R9: 95 | T9: 205 | V9: 10 | W9: 21 | X9: 25 | Y9: 25 | Z9: 9 | AA9: . | AB9: 9 | AD9: 599 | AF9: 165 | AH9: . | AI9: 9 | AJ9: 31 | AK9: 24 | AL9: 12 | AM9: 6 | AN9: 13 | AP9: 760 | AR9: 760 | AT9: 2 | AU9: 6 | AV9: 22 | AW9: 30 | AX9: 15 | AY9: 10 | AZ9: 15 | BB9: 909
B10: 2e halfjaar 2015 | C10: 7630 | D10: 7625 | F10: 1230 | H10: 4 | I10: 8 | J10: 22 | K10: 26 | L10: 12 | M10: 11 | N10: 17 | P10: 912 | R10: 90 | T10: 220 | V10: 7 | W10: 12 | X10: 31 | Y10: 19 | Z10: 9 | AA10: 8 | AB10: 14 | AD10: 765 | AF10: 150 | AH10: . | AI10: 9 | AJ10: 22 | AK10: 27 | AL10: 13 | AM10: 9 | AN10: 15 | AP10: 884 | AR10: 770 | AT10: 1 | AU10: 5 | AV10: 21 | AW10: 28 | AX10: 14 | AY10: 12 | AZ10: 18 | BB10: 969
B11: 1e halfjaar 2016 | C11: 6360 | D11: 6360 | F11: 1120 | H11: 7 | I11: 10 | J11: 17 | K11: 28 | L11: 14 | M11: 8 | N11: 16 | P11: 875 | R11: 125 | T11: 185 | V11: 10 | W11: 14 | X11: 15 | Y11: 26 | Z11: 12 | AA11: . | AB11: 21 | AD11: 855 | AF11: 145 | AH11: 7 | AI11: 16 | AJ11: 22 | AK11: 24 | AL11: 8 | AM11: 8 | AN11: 15 | AP11: 815 | AR11: 665 | AT11: 2 | AU11: 6 | AV11: 18 | AW11: 31 | AX11: 16 | AY11: 9 | AZ11: 17 | BB11: 946
B12: 2e halfjaar 2016 | C12: 6420 | D12: 6410 | F12: 1065 | H12: 6 | I12: 11 | J12: 18 | K12: 27 | L12: 16 | M12: 9 | N12: 13 | P12: 827 | R12: 115 | T12: 230 | V12: 12 | W12: 16 | X12: 18 | Y12: 22 | Z12: 14 | AA12: 8 | AB12: 10 | AD12: 701 | AF12: 120 | AH12: . | AI12: 15 | AJ12: 18 | AK12: 34 | AL12: 14 | AM12: 7 | AN12: 8 | AP12: 694 | AR12: 600 | AT12: 1 | AU12: 6 | AV12: 19 | AW12: 30 | AX12: 18 | AY12: 10 | AZ12: 16 | BB12: 928
B13: 1e halfjaar 2017 | C13: 6150 | D13: 6145 | F13: 1110 | H13: 7 | I13: 10 | J13: 22 | K13: 23 | L13: 17 | M13: 7 | N13: 14 | P13: 822 | R13: 160 | T13: 225 | V13: 10 | W13: 13 | X13: 23 | Y13: 23 | Z13: 15 | AA13: 6 | AB13: 9 | AD13: 713 | AF13: 140 | AH13: . | AI13: 13 | AJ13: 28 | AK13: 18 | AL13: 17 | AM13: 6 | AN13: 15 | AP13: 826 | AR13: 585 | AT13: 4 | AU13: 8 | AV13: 20 | AW13: 26 | AX13: 19 | AY13: 7 | AZ13: 16 | BB13: 886
B14: 2e halfjaar 2017 | C14: 6145 | D14: 6115 | F14: 1040 | H14: 9 | I14: 10 | J14: 23 | K14: 22 | L14: 16 | M14: 9 | N14: 11 | P14: 737 | R14: 220 | T14: 245 | V14: 18 | W14: 13 | X14: 21 | Y14: 18 | Z14: 14 | AA14: 6 | AB14: 10 | AD14: 636 | AF14: 95 | AH14: 10 | AI14: 18 | AJ14: 19 | AK14: 26 | AL14: 11 | AM14: . | AN14: 11 | AP14: 684 | AR14: 480 | AT14: 2 | AU14: 7 | AV14: 24 | AW14: 22 | AX14: 19 | AY14: 13 | AZ14: 12 | BB14: 859
B15: 1e halfjaar 2018 | C15: 5935 | D15: 5925 | F15: 895 | H15: 7 | I15: 12 | J15: 22 | K15: 26 | L15: 15 | M15: 8 | N15: 12 | P15: 764 | R15: 185 | T15: 155 | V15: 11 | W15: 17 | X15: 15 | Y15: 28 | Z15: 15 | AA15: 6 | AB15: 8 | AD15: 646 | AF15: 100 | AH15: . | AI15: 11 | AJ15: 22 | AK15: 28 | AL15: 14 | AM15: 9 | AN15: 11 | AP15: 762 | AR15: 455 | AT15: 3 | AU15: 8 | AV15: 24 | AW15: 26 | AX15: 17 | AY15: 9 | AZ15: 14 | BB15: 882
B16: 2e halfjaar 2018 | C16: 6080 | D16: 6065 | F16: 1035 | H16: 7 | I16: 12 | J16: 27 | K16: 24 | L16: 12 | M16: 6 | N16: 11 | P16: 711 | R16: 215 | T16: 190 | V16: 8 | W16: 16 | X16: 26 | Y16: 17 | Z16: 10 | AA16: 6 | AB16: 16 | AD16: 815 | AF16: 125 | AH16: 8 | AI16: 13 | AJ16: 32 | AK16: 15 | AL16: 13 | AM16: 8 | AN16: 11 | AP16: 685 | AR16: 505 | AT16: 2 | AU16: 8 | AV16: 25 | AW16: 31 | AX16: 15 | AY16: 7 | AZ16: 12 | BB16: 794
B17: 1e halfjaar 2019 | C17: 6060 | D17: 6050 | F17: 960 | H17: 7 | I17: 11 | J17: 20 | K17: 28 | L17: 16 | M17: 6 | N17: 12 | P17: 770 | R17: 195 | T17: 200 | V17: 13 | W17: 14 | X17: 17 | Y17: 26 | Z17: 16 | AA17: 5 | AB17: 10 | AD17: 736 | AF17: 100 | AH17: . | AI17: 12 | AJ17: 12 | AK17: 32 | AL17: 24 | AM17: 7 | AN17: 10 | AP17: 763 | AR17: 470 | AT17: 3 | AU17: 6 | AV17: 22 | AW17: 32 | AX17: 16 | AY17: 7 | AZ17: 13 | BB17: 855
B18: 2e halfjaar 2019 | C18: 6075 | D18: 6060 | F18: 975 | H18: 8 | I18: 12 | J18: 25 | K18: 23 | L18: 15 | M18: 6 | N18: 11 | P18: 721 | R18: 225 | T18: 185 | V18: 11 | W18: 14 | X18: 27 | Y18: 15 | Z18: 17 | AA18: 4 | AB18: 11 | AD18: 715 | AF18: 100 | AH18: 7 | AI18: 13 | AJ18: 30 | AK18: 19 | AL18: 15 | AM18: 11 | AN18: . | AP18: 651 | AR18: 465 | AT18: 5 | AU18: 8 | AV18: 22 | AW18: 27 | AX18: 16 | AY18: 8 | AZ18: 15 | BB18: 854
B19: 1e halfjaar 2020 | C19: 5545 | D19: 5540 | F19: 765 | H19: 10 | I19: 12 | J19: 23 | K19: 26 | L19: 13 | M19: 7 | N19: 9 | P19: 682 | R19: 150 | T19: 155 | V19: 19 | W19: 17 | X19: 19 | Y19: 16 | Z19: 15 | AA19: 6 | AB19: 7 | AD19: 588 | AF19: 85 | AH19: 14 | AI19: 10 | AJ19: 17 | AK19: 29 | AL19: 16 | AM19: 8 | AN19: . | AP19: 663 | AR19: 370 | AT19: 4 | AU19: 9 | AV19: 23 | AW19: 30 | AX19: 14 | AY19: 8 | AZ19: 12 | BB19: 807
B20: 2e halfjaar 2020 | C20: 6100 | D20: 6090 | F20: 880 | H20: 8 | I20: 8 | J20: 24 | K20: 26 | L20: 16 | M20: 6 | N20: 12 | P20: 779 | R20: 245 | T20: 170 | V20: 11 | W20: 8 | X20: 25 | Y20: 22 | Z20: 17 | AA20: 5 | AB20: 12 | AD20: 800 | AF20: 80 | AH20: . | AI20: 10 | AJ20: 19 | AK20: 20 | AL20: 14 | AM20: 15 | AN20: 18 | AP20: 990 | AR20: 385 | AT20: 5 | AU20: 5 | AV20: 17 | AW20: 33 | AX20: 21 | AY20: 4 | AZ20: 15 | BB20: 884
B21: 1e halfjaar 2021 | C21: 6280 | D21: 6275 | F21: 830 | H21: 6 | I21: 10 | J21: 25 | K21: 26 | L21: 17 | M21: 7 | N21: 9 | P21: 722 | R21: 230 | T21: 140 | V21: 9 | W21: 9 | X21: 28 | Y21: 18 | Z21: 20 | AA21: 9 | AB21: 7 | AD21: 703 | AF21: 80 | AH21: 9 | AI21: 10 | AJ21: 20 | AK21: 25 | AL21: 19 | AM21: . | AN21: 10 | AP21: 721 | AR21: 380 | AT21: . | AU21: 6 | AV21: 21 | AW21: 31 | AX21: 19 | AY21: 10 | AZ21: 12 | BB21: 869
B22: 2e halfjaar 2021 | C22: 6075 | D22: 6045 | F22: 830 | H22: 9 | I22: 11 | J22: 22 | K22: 24 | L22: 13 | M22: 10 | N22: 11 | P22: 781 | R22: 240 | T22: 160 | V22: 15 | W22: 11 | X22: 21 | Y22: 19 | Z22: 14 | AA22: 5 | AB22: 16 | AD22: 799 | AF22: 75 | AH22: 9 | AI22: 13 | AJ22: 25 | AK22: 21 | AL22: 9 | AM22: 9 | AN22: 12 | AP22: 742 | AR22: 355 | AT22: 2 | AU22: 7 | AV22: 19 | AW22: 28 | AX22: 16 | AY22: 15 | AZ22: 13 | BB22: 932
B23: 1e halfjaar 2022 | C23: 6195 | D23: 6175 | F23: 830 | H23: 10 | I23: 12 | J23: 21 | K23: 24 | L23: 13 | M23: 9 | N23: 11 | P23: 734 | R23: 225 | T23: 155 | V23: 16 | W23: 15 | X23: 25 | Y23: 15 | Z23: 14 | AA23: 6 | AB23: 8 | AD23: 600 | AF23: 95 | AH23: . | AI23: 8 | AJ23: 33 | AK23: 26 | AL23: 11 | AM23: . | AN23: 13 | AP23: 733 | AR23: 350 | AT23: 3 | AU23: 5 | AV23: 17 | AW23: 30 | AX23: 16 | AY23: 13 | AZ23: 16 | BB23: 927
B24: 2e halfjaar 2022 | C24: 6260 | D24: 6235 | F24: 820 | H24: 9 | I24: 9 | J24: 19 | K24: 26 | L24: 16 | M24: 10 | N24: 11 | P24: 816 | R24: 235 | T24: 155 | V24: 14 | W24: 9 | X24: 18 | Y24: 22 | Z24: 14 | AA24: 13 | AB24: 10 | AD24: 801 | AF24: 90 | AH24: 9 | AI24: 12 | AJ24: 13 | AK24: 25 | AL24: 10 | AM24: 13 | AN24: 18 | AP24: 1004 | AR24: 340 | AT24: 3 | AU24: 3 | AV24: 17 | AW24: 31 | AX24: 21 | AY24: 10 | AZ24: 15 | BB24: 953
B25: 1e halfjaar 2023 | C25: 5800 | D25: 5775 | F25: 710 | H25: 10 | I25: 10 | J25: 23 | K25: 24 | L25: 12 | M25: 8 | N25: 13 | P25: 745 | R25: 260 | T25: 130 | V25: 9 | W25: 13 | X25: 22 | Y25: 21 | Z25: 15 | AA25: 9 | AB25: 11 | AD25: 756 | AF25: 70 | AH25: 14 | AI25: . | AJ25: 21 | AK25: 20 | AL25: 10 | AM25: . | AN25: 20 | AP25: 890 | AR25: 250 | AT25: 4 | AU25: 6 | AV25: 19 | AW25: 29 | AX25: 13 | AY25: 13 | AZ25: 16 | BB25: 921
B26: 2e halfjaar 2023 | C26: 5385 | D26: 5370 | F26: 700 | H26: 13 | I26: 14 | J26: 20 | K26: 19 | L26: 14 | M26: 6 | N26: 15 | P26: 777 | R26: 215 | T26: 215 | V26: 17 | W26: 14 | X26: 20 | Y26: 14 | Z26: 14 | AA26: 5 | AB26: 17 | AD26: 770 | AF26: 75 | AH26: . | AI26: 16 | AJ26: 19 | AK26: . | AL26: 25 | AM26: . | AN26: 22 | AP26: 977 | AR26: 195 | AT26: 5 | AU26: 7 | AV26: 15 | AW26: 26 | AX26: 16 | AY26: 10 | AZ26: 22 | BB26: 997
B27: 1e halfjaar 2024 | C27: 5425 | D27: 5405 | F27: 590 | H27: 12 | I27: 10 | J27: 23 | K27: 23 | L27: 11 | M27: 9 | N27: 12 | P27: 765 | R27: 210 | T27: 160 | V27: 17 | W27: 6 | X27: 25 | Y27: 20 | Z27: 11 | AA27: 9 | AB27: 12 | AD27: 808 | AF27: 80 | AH27: . | AI27: 11 | AJ27: 20 | AK27: 21 | AL27: 11 | AM27: 15 | AN27: 18 | AP27: 1025 | AR27: 135 | AT27: . | AU27: 6 | AV27: 17 | AW27: 26 | AX27: 20 | AY27: 13 | AZ27: 17 | BB27: 984
B28: 2e halfjaar 2024 | C28: 5215 | D28: 5195 | F28: 540 | H28: 9 | I28: 14 | J28: 26 | K28: 22 | L28: 12 | M28: 9 | N28: 10 | P28: 723 | R28: 200 | T28: 145 | V28: 10 | W28: 11 | X28: 20 | Y28: 22 | Z28: 14 | AA28: 14 | AB28: 10 | AD28: 822 | AF28: 100 | AH28: 8 | AI28: . | AJ28: 20 | AK28: 20 | AL28: 20 | AM28: 10 | AN28: 15 | AP28: 932 | AR28: 95 | AT28: . | AU28: 13 | AV28: 27 | AW28: 21 | AX28: 13 | AY28: 9 | AZ28: 13 | BB28: 806
B29: 1e halfjaar 2025 | C29: 5015 | D29: 5005 | F29: 385 | H29: 13 | I29: 14 | J29: 27 | K29: 19 | L29: 10 | M29: 7 | N29: 10 | P29: 653 | R29: 160 | T29: 110 | V29: 17 | W29: 10 | X29: 26 | Y29: 20 | Z29: 12 | AA29: 6 | AB29: 9 | AD29: 665 | AF29: 90 | AH29: . | AI29: 10 | AJ29: 27 | AK29: 16 | AL29: 9 | AM29: 14 | AN29: 18 | AP29: 979 | AR29: 30 | AT29: . | AU29: . | AV29: . | AW29: . | AX29: 38 | AY29: . | AZ29: . | BB29: 967
A31: Episodes met alleen ondertoezichtstelling | B31: 1e halfjaar 2015 | C31: 4620 | D31: 4620 | F31: 965 | H31: 3 | I31: 3 | J31: 25 | K31: 29 | L31: 15 | M31: 9 | N31: 15 | P31: 889 | R31: 50 | T31: 105 | V31: . | W31: . | X31: 39 | Y31: 27 | Z31: 12 | AA31: . | AB31: 13 | AD31: 772 | AF31: 120 | AH31: . | AI31: . | AJ31: 33 | AK31: 25 | AL31: 14 | AM31: 8 | AN31: 18 | AP31: 892 | AR31: 690 | AT31: 1 | AU31: 4 | AV31: 23 | AW31: 31 | AX31: 15 | AY31: 10 | AZ31: 15 | BB31: 920
B32: 2e halfjaar 2015 | C32: 4700 | D32: 4695 | F32: 985 | H32: 3 | I32: 4 | J32: 22 | K32: 26 | L32: 13 | M32: 13 | N32: 19 | P32: 986 | R32: 45 | T32: 135 | V32: 7 | W32: 6 | X32: 36 | Y32: 15 | Z32: . | AA32: 12 | AB32: 21 | AD32: 913 | AF32: 100 | AH32: . | AI32: . | AJ32: 23 | AK32: 25 | AL32: 17 | AM32: 11 | AN32: 19 | AP32: 978 | AR32: 700 | AT32: . | AU32: 4 | AV32: 21 | AW32: 28 | AX32: 15 | AY32: 13 | AZ32: 19 | BB32: 993
B33: 1e halfjaar 2016 | C33: 3800 | D33: 3800 | F33: 850 | H33: 5 | I33: 5 | J33: 17 | K33: 31 | L33: 16 | M33: 9 | N33: 18 | P33: 955 | R33: 60 | T33: 95 | V33: . | W33: . | X33: 15 | Y33: 26 | Z33: 17 | AA33: . | AB33: 28 | AD33: 1079 | AF33: 90 | AH33: . | AI33: . | AJ33: 25 | AK33: 27 | AL33: 10 | AM33: 10 | AN33: 16 | AP33: 920 | AR33: 605 | AT33: 2 | AU33: 4 | AV33: 17 | AW33: 33 | AX33: 18 | AY33: 9 | AZ33: 17 | BB33: 964
B34: 2e halfjaar 2016 | C34: 3625 | D34: 3620 | F34: 745 | H34: 4 | I34: 5 | J34: 18 | K34: 30 | L34: 19 | M34: 10 | N34: 15 | P34: 910 | R34: 60 | T34: 95 | V34: 10 | W34: . | X34: 15 | Y34: 27 | Z34: 18 | AA34: 12 | AB34: 12 | AD34: 860 | AF34: 70 | AH34: . | AI34: . | AJ34: 20 | AK34: 39 | AL34: 17 | AM34: . | AN34: 11 | AP34: 853 | AR34: 515 | AT34: . | AU34: 4 | AV34: 19 | AW34: 31 | AX34: 20 | AY34: 10 | AZ34: 15 | BB34: 924
B35: 1e halfjaar 2017 | C35: 3460 | D35: 3460 | F35: 780 | H35: 4 | I35: 6 | J35: 24 | K35: 26 | L35: 18 | M35: 8 | N35: 14 | P35: 854 | R35: 65 | T35: 120 | V35: . | W35: 8 | X35: 29 | Y35: 31 | Z35: 12 | AA35: 7 | AB35: 9 | AD35: 740 | AF35: 85 | AH35: . | AI35: . | AJ35: 28 | AK35: 22 | AL35: 18 | AM35: 8 | AN35: 18 | AP35: 934 | AR35: 510 | AT35: 3 | AU35: 5 | AV35: 21 | AW35: 28 | AX35: 21 | AY35: 8 | AZ35: 14 | BB35: 868
B36: 2e halfjaar 2017 | C36: 3420 | D36: 3420 | F36: 650 | H36: 7 | I36: 4 | J36: 25 | K36: 24 | L36: 19 | M36: 10 | N36: 12 | P36: 832 | R36: 75 | T36: 120 | V36: 17 | W36: . | X36: 22 | Y36: 21 | Z36: 16 | AA36: 7 | AB36: 13 | AD36: 782 | AF36: 50 | AH36: . | AI36: . | AJ36: 15 | AK36: 40 | AL36: . | AM36: . | AN36: 15 | AP36: 878 | AR36: 405 | AT36: 2 | AU36: 3 | AV36: 26 | AW36: 23 | AX36: 22 | AY36: 12 | AZ36: 12 | BB36: 869
B37: 1e halfjaar 2018 | C37: 3350 | D37: 3350 | F37: 570 | H37: 5 | I37: 6 | J37: 23 | K37: 29 | L37: 15 | M37: 9 | N37: 13 | P37: 825 | R37: 50 | T37: 65 | V37: . | W37: 11 | X37: 15 | Y37: 41 | Z37: 14 | AA37: . | AB37: . | AD37: 746 | AF37: 65 | AH37: . | AI37: . | AJ37: 25 | AK37: 32 | AL37: 11 | AM37: 13 | AN37: 13 | AP37: 817 | AR37: 390 | AT37: 3 | AU37: 6 | AV37: 25 | AW37: 27 | AX37: 17 | AY37: 9 | AZ37: 13 | BB37: 854
B38: 2e halfjaar 2018 | C38: 3535 | D38: 3535 | F38: 705 | H38: 6 | I38: 6 | J38: 28 | K38: 27 | L38: 14 | M38: 8 | N38: 11 | P38: 772 | R38: 60 | T38: 110 | V38: 7 | W38: . | X38: 33 | Y38: 22 | Z38: 11 | AA38: 7 | AB38: 16 | AD38: 847 | AF38: 90 | AH38: 10 | AI38: . | AJ38: 37 | AK38: 16 | AL38: 13 | AM38: 8 | AN38: 10 | AP38: 657 | AR38: 445 | AT38: 2 | AU38: 6 | AV38: 26 | AW38: 32 | AX38: 15 | AY38: 8 | AZ38: 11 | BB38: 807
B39: 1e halfjaar 2019 | C39: 3540 | D39: 3540 | F39: 640 | H39: 5 | I39: 4 | J39: 20 | K39: 35 | L39: 17 | M39: 7 | N39: 12 | P39: 822 | R39: 50 | T39: 120 | V39: 10 | W39: 7 | X39: 13 | Y39: 34 | Z39: 19 | AA39: 8 | AB39: 9 | AD39: 823 | AF39: 70 | AH39: . | AI39: . | AJ39: 15 | AK39: 37 | AL39: 24 | AM39: . | AN39: 13 | AP39: 840 | AR39: 400 | AT39: 2 | AU39: 4 | AV39: 24 | AW39: 35 | AX39: 16 | AY39: 7 | AZ39: 11 | BB39: 815
B40: 2e halfjaar 2019 | C40: 3580 | D40: 3575 | F40: 665 | H40: 5 | I40: 5 | J40: 26 | K40: 27 | L40: 17 | M40: 8 | N40: 12 | P40: 802 | R40: 80 | T40: 110 | V40: . | W40: . | X40: 34 | Y40: 19 | Z40: 18 | AA40: 6 | AB40: 15 | AD40: 880 | AF40: 65 | AH40: . | AI40: . | AJ40: 33 | AK40: 26 | AL40: 15 | AM40: 11 | AN40: . | AP40: 772 | AR40: 410 | AT40: 4 | AU40: 5 | AV40: 23 | AW40: 29 | AX40: 17 | AY40: 9 | AZ40: 12 | BB40: 812
B41: 1e halfjaar 2020 | C41: 3245 | D41: 3245 | F41: 515 | H41: 6 | I41: 5 | J41: 24 | K41: 31 | L41: 16 | M41: 8 | N41: 10 | P41: 789 | R41: 50 | T41: 85 | V41: 10 | W41: 9 | X41: 25 | Y41: 22 | Z41: 20 | AA41: . | AB41: . | AD41: 720 | AF41: 55 | AH41: . | AI41: . | AJ41: 15 | AK41: 39 | AL41: 19 | AM41: . | AN41: . | AP41: 765 | AR41: 330 | AT41: 3 | AU41: 5 | AV41: 25 | AW41: 32 | AX41: 15 | AY41: 9 | AZ41: 11 | BB41: 815
B42: 2e halfjaar 2020 | C42: 3445 | D42: 3445 | F42: 490 | H42: 5 | I42: 2 | J42: 20 | K42: 30 | L42: 21 | M42: 9 | N42: 13 | P42: 876 | R42: 50 | T42: 70 | V42: . | W42: . | X42: 26 | Y42: 29 | Z42: 23 | AA42: . | AB42: 10 | AD42: 928 | AF42: 50 | AH42: . | AI42: . | AJ42: 23 | AK42: 17 | AL42: . | AM42: 21 | AN42: 19 | AP42: 1048 | AR42: 325 | AT42: 4 | AU42: 2 | AV42: 18 | AW42: 35 | AX42: 23 | AY42: 4 | AZ42: 14 | BB42: 867
B43: 1e halfjaar 2021 | C43: 3755 | D43: 3755 | F43: 490 | H43: 3 | I43: 4 | J43: 26 | K43: 30 | L43: 21 | M43: 8 | N43: 8 | P43: 761 | R43: 50 | T43: 70 | V43: 10 | W43: . | X43: 38 | Y43: 15 | Z43: 22 | AA43: 10 | AB43: . | AD43: 601 | AF43: 35 | AH43: . | AI43: . | AJ43: 28 | AK43: 28 | AL43: 31 | AM43: . | AN43: . | AP43: 734 | AR43: 335 | AT43: . | AU43: 5 | AV43: 23 | AW43: 33 | AX43: 19 | AY43: 9 | AZ43: 10 | BB43: 803
B44: 2e halfjaar 2021 | C44: 3685 | D44: 3685 | F44: 500 | H44: 5 | I44: 4 | J44: 20 | K44: 30 | L44: 15 | M44: 15 | N44: 11 | P44: 870 | R44: 65 | T44: 85 | V44: 9 | W44: . | X44: 21 | Y44: 27 | Z44: 17 | AA44: . | AB44: 16 | AD44: 907 | AF44: 40 | AH44: . | AI44: . | AJ44: 27 | AK44: 24 | AL44: . | AM44: . | AN44: . | AP44: 753 | AR44: 310 | AT44: 2 | AU44: 4 | AV44: 20 | AW44: 30 | AX44: 17 | AY44: 17 | AZ44: 10 | BB44: 880
B45: 1e halfjaar 2022 | C45: 4110 | D45: 4110 | F45: 500 | H45: 5 | I45: 3 | J45: 24 | K45: 29 | L45: 15 | M45: 13 | N45: 11 | P45: 826 | R45: 55 | T45: 75 | V45: 10 | W45: . | X45: 40 | Y45: 14 | Z45: 16 | AA45: 14 | AB45: . | AD45: 668 | AF45: 65 | AH45: . | AI45: . | AJ45: 35 | AK45: 34 | AL45: . | AM45: . | AN45: 17 | AP45: 821 | AR45: 305 | AT45: 2 | AU45: 4 | AV45: 18 | AW45: 32 | AX45: 17 | AY45: 14 | AZ45: 13 | BB45: 891
B46: 2e halfjaar 2022 | C46: 3890 | D46: 3885 | F46: 500 | H46: 3 | I46: 1 | J46: 17 | K46: 32 | L46: 20 | M46: 14 | N46: 13 | P46: 932 | R46: 65 | T46: 80 | V46: . | W46: . | X46: 20 | Y46: 28 | Z46: 19 | AA46: 23 | AB46: 9 | AD46: 917 | AF46: 60 | AH46: . | AI46: . | AJ46: 13 | AK46: 30 | AL46: 12 | AM46: 18 | AN46: 15 | AP46: 974 | AR46: 300 | AT46: 3 | AU46: . | AV46: 17 | AW46: 32 | AX46: 22 | AY46: 12 | AZ46: 14 | BB46: 939
B47: 1e halfjaar 2023 | C47: 3630 | D47: 3625 | F47: 380 | H47: 7 | I47: 4 | J47: 20 | K47: 28 | L47: 14 | M47: 12 | N47: 15 | P47: 867 | R47: 70 | T47: 60 | V47: . | W47: . | X47: 21 | Y47: 23 | Z47: 19 | AA47: 15 | AB47: . | AD47: 742 | AF47: 45 | AH47: . | AI47: . | AJ47: 27 | AK47: 18 | AL47: . | AM47: . | AN47: 18 | AP47: 913 | AR47: 205 | AT47: 3 | AU47: . | AV47: 19 | AW47: 30 | AX47: 13 | AY47: 15 | AZ47: 16 | BB47: 925
B48: 2e halfjaar 2023 | C48: 3400 | D48: 3400 | F48: 410 | H48: 12 | I48: 6 | J48: 17 | K48: 20 | L48: 20 | M48: 8 | N48: 17 | P48: 863 | R48: 60 | T48: 140 | V48: 19 | W48: 10 | X48: 21 | Y48: 11 | Z48: 18 | AA48: 5 | AB48: 15 | AD48: 746 | AF48: 45 | AH48: . | AI48: . | AJ48: 17 | AK48: . | AL48: 39 | AM48: . | AN48: 20 | AP48: 963 | AR48: 165 | AT48: . | AU48: . | AV48: 13 | AW48: 29 | AX48: 17 | AY48: 12 | AZ48: 23 | BB48: 1039
B49: 1e halfjaar 2024 | C49: 3295 | D49: 3290 | F49: 290 | H49: 10 | I49: 3 | J49: 19 | K49: 25 | L49: 15 | M49: 14 | N49: 14 | P49: 853 | R49: 50 | T49: 85 | V49: 17 | W49: . | X49: 23 | Y49: 22 | Z49: 14 | AA49: 14 | AB49: 8 | AD49: 737 | AF49: 45 | AH49: . | AI49: . | AJ49: 20 | AK49: 22 | AL49: . | AM49: 20 | AN49: 17 | AP49: 963 | AR49: 115 | AT49: . | AU49: . | AV49: 18 | AW49: 26 | AX49: 19 | AY49: 15 | AZ49: 18 | BB49: 979
B50: 2e halfjaar 2024 | C50: 3060 | D50: 3060 | F50: 230 | H50: 4 | I50: 4 | J50: 24 | K50: 21 | L50: 19 | M50: 15 | N50: 12 | P50: 873 | R50: 40 | T50: 70 | V50: . | W50: . | X50: 25 | Y50: 23 | Z50: 14 | AA50: 21 | AB50: 10 | AD50: 881 | AF50: 60 | AH50: . | AI50: . | AJ50: 21 | AK50: 19 | AL50: 27 | AM50: 13 | AN50: 15 | AP50: 945 | AR50: 60 | AT50: . | AU50: . | AV50: 28 | AW50: 23 | AX50: 18 | AY50: . | AZ50: 15 | BB50: 881
B51: 1e halfjaar 2025 | C51: 2940 | D51: 2940 | F51: 160 | H51: 18 | I51: . | J51: 25 | K51: 18 | L51: 14 | M51: 10 | N51: 12 | P51: 705 | R51: 20 | T51: 65 | V51: 19 | W51: . | X51: 30 | Y51: 25 | Z51: 13 | AA51: . | AB51: . | AD51: 574 | AF51: 55 | AH51: . | AI51: . | AJ51: 30 | AK51: 16 | AL51: . | AM51: 20 | AN51: 18 | AP51: 887 | AR51: 25 | AT51: . | AU51: . | AV51: . | AW51: . | AX51: 38 | AY51: . | AZ51: . | BB51: 879
A53: Episodes met alleen voogdij | B53: 1e halfjaar 2015 | C53: 555 | D53: 555 | F53: 50 | H53: 22 | I53: . | J53: . | K53: . | L53: 16 | M53: . | N53: 24 | P53: 1072 | R53: . | T53: 15 | V53: . | W53: . | X53: . | Y53: . | Z53: . | AA53: . | AB53: . | AD53: 689 | AF53: . | AH53: . | AI53: . | AJ53: . | AK53: . | AL53: . | AM53: . | AN53: . | AP53: . | AR53: 30 | AT53: . | AU53: . | AV53: . | AW53: . | AX53: . | AY53: . | AZ53: 32 | BB53: 1451
B54: 2e halfjaar 2015 | C54: 645 | D54: 645 | F54: 40 | H54: 18 | I54: . | J54: . | K54: . | L54: 18 | M54: . | N54: 35 | P54: 1398 | R54: . | T54: . | V54: . | W54: . | X54: . | Y54: . | Z54: . | AA54: . | AB54: . | AD54: . | AF54: . | AH54: . | AI54: . | AJ54: . | AK54: . | AL54: . | AM54: . | AN54: . | AP54: . | AR54: 25 | AT54: . | AU54: . | AV54: . | AW54: . | AX54: . | AY54: . | AZ54: 30 | BB54: 1245
B55: 1e halfjaar 2016 | C55: 575 | D55: 575 | F55: 45 | H55: 26 | I55: . | J55: . | K55: . | L55: . | M55: . | N55: 28 | P55: 1093 | R55: 10 | T55: 15 | V55: 50 | W55: . | X55: . | Y55: . | Z55: . | AA55: . | AB55: . | AD55: 592 | AF55: . | AH55: . | AI55: . | AJ55: . | AK55: . | AL55: . | AM55: . | AN55: . | AP55: . | AR55: 15 | AT55: . | AU55: . | AV55: . | AW55: . | AX55: . | AY55: . | AZ55: . | BB55: 1472
B56: 2e halfjaar 2016 | C56: 550 | D56: 550 | F56: 45 | H56: 20 | I56: . | J56: . | K56: . | L56: . | M56: . | N56: 41 | P56: 1331 | R56: . | T56: 15 | V56: . | W56: . | X56: . | Y56: . | Z56: . | AA56: . | AB56: . | AD56: 1206 | AF56: . | AH56: . | AI56: . | AJ56: . | AK56: . | AL56: . | AM56: . | AN56: . | AP56: . | AR56: 25 | AT56: . | AU56: . | AV56: . | AW56: . | AX56: . | AY56: . | AZ56: 48 | BB56: 1655
B57: 1e halfjaar 2017 | C57: 565 | D57: 565 | F57: 55 | H57: 40 | I57: . | J57: . | K57: . | L57: . | M57: . | N57: 49 | P57: 1656 | R57: 15 | T57: 10 | V57: . | W57: . | X57: . | Y57: . | Z57: . | AA57: . | AB57: . | AD57: 1652 | AF57: 5 | AH57: . | AI57: . | AJ57: . | AK57: . | AL57: . | AM57: . | AN57: . | AP57: 1925 | AR57: 20 | AT57: . | AU57: . | AV57: . | AW57: . | AX57: . | AY57: . | AZ57: 71 | BB57: 2170
B58: 2e halfjaar 2017 | C58: 535 | D58: 535 | F58: 40 | H58: 38 | I58: . | J58: . | K58: . | L58: . | M58: 21 | N58: 28 | P58: 1107 | R58: . | T58: 15 | V58: 73 | W58: . | X58: . | Y58: . | Z58: . | AA58: . | AB58: . | AD58: 440 | AF58: . | AH58: . | AI58: . | AJ58: . | AK58: . | AL58: . | AM58: . | AN58: . | AP58: . | AR58: 15 | AT58: . | AU58: . | AV58: . | AW58: . | AX58: . | AY58: . | AZ58: 50 | BB58: 2004
B59: 1e halfjaar 2018 | C59: 525 | D59: 525 | F59: 35 | H59: 22 | I59: . | J59: . | K59: . | L59: . | M59: . | N59: 35 | P59: 1214 | R59: . | T59: 15 | V59: . | W59: . | X59: . | Y59: . | Z59: . | AA59: . | AB59: . | AD59: 397 | AF59: . | AH59: . | AI59: . | AJ59: . | AK59: . | AL59: . | AM59: . | AN59: . | AP59: . | AR59: 15 | AT59: . | AU59: . | AV59: . | AW59: . | AX59: . | AY59: . | AZ59: 56 | BB59: 1841
B60: 2e halfjaar 2018 | C60: 475 | D60: 475 | F60: 25 | H60: 28 | I60: . | J60: . | K60: . | L60: . | M60: . | N60: 36 | P60: 1315 | R60: . | T60: 10 | V60: . | W60: . | X60: . | Y60: . | Z60: . | AA60: . | AB60: . | AD60: 1231 | AF60: . | AH60: . | AI60: . | AJ60: . | AK60: . | AL60: . | AM60: . | AN60: . | AP60: . | AR60: 5 | AT60: . | AU60: . | AV60: . | AW60: . | AX60: . | AY60: . | AZ60: . | BB60: 1378
B61: 1e halfjaar 2019 | C61: 500 | D61: 500 | F61: 25 | H61: 41 | I61: . | J61: . | K61: . | L61: . | M61: . | N61: 41 | P61: 1234 | R61: . | T61: 10 | V61: . | W61: . | X61: . | Y61: . | Z61: . | AA61: . | AB61: . | AD61: 1121 | AF61: . | AH61: . | AI61: . | AJ61: . | AK61: . | AL61: . | AM61: . | AN61: . | AP61: . | AR61: 10 | AT61: . | AU61: . | AV61: . | AW61: . | AX61: . | AY61: . | AZ61: 67 | BB61: 1955
B62: 2e halfjaar 2019 | C62: 550 | D62: 550 | F62: 20 | H62: 36 | I62: . | J62: . | K62: . | L62: . | M62: . | N62: . | P62: 845 | R62: . | T62: 10 | V62: . | W62: . | X62: . | Y62: . | Z62: . | AA62: . | AB62: . | AD62: 295 | AF62: . | AH62: . | AI62: . | AJ62: . | AK62: . | AL62: . | AM62: . | AN62: . | AP62: . | AR62: 10 | AT62: . | AU62: . | AV62: . | AW62: . | AX62: . | AY62: . | AZ62: . | BB62: 1712
B63: 1e halfjaar 2020 | C63: 470 | D63: 470 | F63: 25 | H63: 63 | I63: . | J63: . | K63: . | L63: . | M63: . | N63: . | P63: 567 | R63: . | T63: 15 | V63: 79 | W63: . | X63: . | Y63: . | Z63: . | AA63: . | AB63: . | AD63: 265 | AF63: . | AH63: . | AI63: . | AJ63: . | AK63: . | AL63: . | AM63: . | AN63: . | AP63: . | AR63: 10 | AT63: . | AU63: . | AV63: . | AW63: . | AX63: . | AY63: . | AZ63: . | BB63: 1396
B64: 2e halfjaar 2020 | C64: 515 | D64: 515 | F64: 30 | H64: 23 | I64: . | J64: . | K64: . | L64: . | M64: . | N64: 30 | P64: 1153 | R64: . | T64: 10 | V64: . | W64: . | X64: . | Y64: . | Z64: . | AA64: . | AB64: . | AD64: 760 | AF64: . | AH64: . | AI64: . | AJ64: . | AK64: . | AL64: . | AM64: . | AN64: . | AP64: . | AR64: 15 | AT64: . | AU64: . | AV64: . | AW64: . | AX64: . | AY64: . | AZ64: . | BB64: 1688
B65: 1e halfjaar 2021 | C65: 465 | D65: 465 | F65: 20 | H65: . | I65: . | J65: . | K65: . | L65: . | M65: . | N65: 50 | P65: 1869 | R65: 10 | T65: . | V65: . | W65: . | X65: . | Y65: . | Z65: . | AA65: . | AB65: . | AD65: . | AF65: . | AH65: . | AI65: . | AJ65: . | AK65: . | AL65: . | AM65: . | AN65: . | AP65: . | AR65: . | AT65: . | AU65: . | AV65: . | AW65: . | AX65: . | AY65: . | AZ65: . | BB65: .
B66: 2e halfjaar 2021 | C66: 425 | D66: 425 | F66: 20 | H66: . | I66: . | J66: . | K66: . | L66: . | M66: . | N66: . | P66: 1032 | R66: . | T66: . | V66: . | W66: . | X66: . | Y66: . | Z66: . | AA66: . | AB66: . | AD66: . | AF66: . | AH66: . | AI66: . | AJ66: . | AK66: . | AL66: . | AM66: . | AN66: . | AP66: . | AR66: 10 | AT66: . | AU66: . | AV66: . | AW66: . | AX66: . | AY66: . | AZ66: . | BB66: 1870
B67: 1e halfjaar 2022 | C67: 390 | D67: 390 | F67: 25 | H67: 40 | I67: . | J67: . | K67: . | L67: . | M67: . | N67: 36 | P67: 1362 | R67: 10 | T67: . | V67: . | W67: . | X67: . | Y67: . | Z67: . | AA67: . | AB67: . | AD67: . | AF67: . | AH67: . | AI67: . | AJ67: . | AK67: . | AL67: . | AM67: . | AN67: . | AP67: . | AR67: 10 | AT67: . | AU67: . | AV67: . | AW67: . | AX67: . | AY67: . | AZ67: 80 | BB67: 2752
B68: 2e halfjaar 2022 | C68: 445 | D68: 445 | F68: 20 | H68: . | I68: . | J68: . | K68: . | L68: . | M68: . | N68: 55 | P68: 2515 | R68: . | T68: 10 | V68: . | W68: . | X68: . | Y68: . | Z68: . | AA68: . | AB68: . | AD68: 2349 | AF68: . | AH68: . | AI68: . | AJ68: . | AK68: . | AL68: . | AM68: . | AN68: . | AP68: . | AR68: . | AT68: . | AU68: . | AV68: . | AW68: . | AX68: . | AY68: . | AZ68: . | BB68: .
B69: 1e halfjaar 2023 | C69: 395 | D69: 395 | F69: 15 | H69: . | I69: . | J69: . | K69: . | L69: . | M69: . | N69: . | P69: 1304 | R69: . | T69: . | V69: . | W69: . | X69: . | Y69: . | Z69: . | AA69: . | AB69: . | AD69: . | AF69: . | AH69: . | AI69: . | AJ69: . | AK69: . | AL69: . | AM69: . | AN69: . | AP69: . | AR69: . | AT69: . | AU69: . | AV69: . | AW69: . | AX69: . | AY69: . | AZ69: . | BB69: .
B70: 2e halfjaar 2023 | C70: 330 | D70: 330 | F70: 15 | H70: . | I70: . | J70: . | K70: . | L70: . | M70: . | N70: 54 | P70: 2324 | R70: . | T70: . | V70: . | W70: . | X70: . | Y70: . | Z70: . | AA70: . | AB70: . | AD70: . | AF70: . | AH70: . | AI70: . | AJ70: . | AK70: . | AL70: . | AM70: . | AN70: . | AP70: . | AR70: . | AT70: . | AU70: . | AV70: . | AW70: . | AX70: . | AY70: . | AZ70: . | BB70: .
B71: 1e halfjaar 2024 | C71: 360 | D71: 360 | F71: 10 | H71: . | I71: . | J71: . | K71: . | L71: . | M71: . | N71: 80 | P71: 3275 | R71: . | T71: 5 | V71: . | W71: . | X71: . | Y71: . | Z71: . | AA71: . | AB71: . | AD71: 3144 | AF71: . | AH71: . | AI71: . | AJ71: . | AK71: . | AL71: . | AM71: . | AN71: . | AP71: . | AR71: . | AT71: . | AU71: . | AV71: . | AW71: . | AX71: . | AY71: . | AZ71: . | BB71: .
B72: 2e halfjaar 2024 | C72: 335 | D72: 335 | F72: 10 | H72: . | I72: . | J72: . | K72: . | L72: . | M72: . | N72: . | P72: 2385 | R72: . | T72: . | V72: . | W72: . | X72: . | Y72: . | Z72: . | AA72: . | AB72: . | AD72: . | AF72: . | AH72: . | AI72: . | AJ72: . | AK72: . | AL72: . | AM72: . | AN72: . | AP72: . | AR72: . | AT72: . | AU72: . | AV72: . | AW72: . | AX72: . | AY72: . | AZ72: . | BB72: .
B73: 1e halfjaar 2025 | C73: 280 | D73: 280 | F73: 10 | H73: . | I73: . | J73: . | K73: . | L73: . | M73: . | N73: . | P73: 1658 | R73: . | T73: . | V73: . | W73: . | X73: . | Y73: . | Z73: . | AA73: . | AB73: . | AD73: . | AF73: . | AH73: . | AI73: . | AJ73: . | AK73: . | AL73: . | AM73: . | AN73: . | AP73: . | AR73: . | AT73: . | AU73: . | AV73: . | AW73: . | AX73: . | AY73: . | AZ73: . | BB73: .
A75: Episodes met alleen jeugdreclassering | B75: 1e halfjaar 2015 | C75: 1825 | D75: 1825 | F75: 200 | H75: 8 | I75: 42 | J75: 22 | K75: 21 | L75: 5 | M75: . | N75: . | P75: 350 | R75: 40 | T75: 80 | V75: 13 | W75: 44 | X75: 14 | Y75: 23 | Z75: . | AA75: . | AB75: . | AD75: 336 | AF75: 45 | AH75: . | AI75: 35 | AJ75: 28 | AK75: 23 | AL75: . | AM75: . | AN75: . | AP75: 429 | AR75: 40 | AT75: . | AU75: 41 | AV75: 24 | AW75: 22 | AX75: . | AY75: . | AZ75: . | BB75: 343
B76: 2e halfjaar 2015 | C76: 2080 | D76: 2080 | F76: 180 | H76: 5 | I76: 29 | J76: 28 | K76: 31 | L76: 6 | M76: . | N76: . | P76: 393 | R76: 30 | T76: 75 | V76: . | W76: 25 | X76: 29 | Y76: 29 | Z76: 12 | AA76: . | AB76: . | AD76: 430 | AF76: 40 | AH76: . | AI76: 31 | AJ76: 26 | AK76: 36 | AL76: . | AM76: . | AN76: . | AP76: 397 | AR76: 40 | AT76: . | AU76: 32 | AV76: 37 | AW76: 27 | AX76: . | AY76: . | AZ76: . | BB76: 363
B77: 1e halfjaar 2016 | C77: 1690 | D77: 1690 | F77: 190 | H77: 12 | I77: 33 | J77: 24 | K77: 23 | L77: 5 | M77: . | N77: . | P77: 338 | R77: 55 | T77: 60 | V77: . | W77: 29 | X77: 24 | Y77: 32 | Z77: . | AA77: . | AB77: . | AD77: 360 | AF77: 40 | AH77: . | AI77: 39 | AJ77: 17 | AK77: 20 | AL77: . | AM77: . | AN77: . | AP77: 344 | AR77: 40 | AT77: . | AU77: 44 | AV77: 31 | AW77: 23 | AX77: . | AY77: . | AZ77: . | BB77: 317
B78: 2e halfjaar 2016 | C78: 1785 | D78: 1785 | F78: 230 | H78: 10 | I78: 35 | J78: 22 | K78: 23 | L78: 9 | M78: . | N78: . | P78: 362 | R78: 40 | T78: 100 | V78: 12 | W78: 30 | X78: 24 | Y78: 20 | Z78: 11 | AA78: . | AB78: . | AD78: 366 | AF78: 40 | AH78: . | AI78: 39 | AJ78: 20 | AK78: 29 | AL78: . | AM78: . | AN78: . | AP78: 361 | AR78: 45 | AT78: . | AU78: 34 | AV78: 26 | AW78: 28 | AX78: . | AY78: . | AZ78: . | BB78: 394
B79: 1e halfjaar 2017 | C79: 1650 | D79: 1645 | F79: 225 | H79: 12 | I79: 28 | J79: 23 | K79: 17 | L79: 17 | M79: . | N79: . | P79: 387 | R79: 65 | T79: 80 | V79: 16 | W79: 21 | X79: 21 | Y79: 19 | Z79: 20 | AA79: . | AB79: . | AD79: 421 | AF79: 40 | AH79: . | AI79: 35 | AJ79: 35 | AK79: . | AL79: . | AM79: . | AN79: . | AP79: 354 | AR79: 40 | AT79: . | AU79: 44 | AV79: 18 | AW79: 26 | AX79: . | AY79: . | AZ79: . | BB79: 340
B80: 2e halfjaar 2017 | C80: 1650 | D80: 1625 | F80: 285 | H80: 12 | I80: 27 | J80: 26 | K80: 21 | L80: 10 | M80: 2 | N80: . | P80: 361 | R80: 115 | T80: 90 | V80: 15 | W80: 26 | X80: 27 | Y80: 15 | Z80: 12 | AA80: . | AB80: . | AD80: 358 | AF80: 35 | AH80: . | AI80: 41 | AJ80: 29 | AK80: . | AL80: . | AM80: . | AN80: . | AP80: 280 | AR80: 45 | AT80: . | AU80: 45 | AV80: 21 | AW80: 28 | AX80: . | AY80: . | AZ80: . | BB80: 294
B81: 1e halfjaar 2018 | C81: 1565 | D81: 1555 | F81: 225 | H81: 10 | I81: 28 | J81: 24 | K81: 22 | L81: 12 | M81: 3 | N81: . | P81: 384 | R81: 110 | T81: 60 | V81: 15 | W81: 23 | X81: 20 | Y81: 20 | Z81: 18 | AA81: . | AB81: . | AD81: 428 | AF81: 30 | AH81: . | AI81: 31 | AJ81: . | AK81: 24 | AL81: . | AM81: . | AN81: . | AP81: 394 | AR81: 30 | AT81: . | AU81: 43 | AV81: 25 | AW81: . | AX81: . | AY81: . | AZ81: . | BB81: 322
B82: 2e halfjaar 2018 | C82: 1510 | D82: 1500 | F82: 255 | H82: 10 | I82: 30 | J82: 28 | K82: 21 | L82: 6 | M82: 3 | N82: . | P82: 366 | R82: 135 | T82: 55 | V82: . | W82: 46 | X82: 19 | Y82: 14 | Z82: . | AA82: . | AB82: . | AD82: 364 | AF82: 25 | AH82: . | AI82: 38 | AJ82: . | AK82: . | AL82: . | AM82: . | AN82: . | AP82: 470 | AR82: 35 | AT82: . | AU82: 23 | AV82: 23 | AW82: 26 | AX82: . | AY82: . | AZ82: . | BB82: 455
B83: 1e halfjaar 2019 | C83: 1450 | D83: 1440 | F83: 240 | H83: 13 | I83: 30 | J83: 28 | K83: 15 | L83: 12 | M83: . | N83: . | P83: 339 | R83: 115 | T83: 55 | V83: 19 | W83: 34 | X83: 32 | Y83: . | Z83: . | AA83: . | AB83: . | AD83: 244 | AF83: 25 | AH83: . | AI83: 36 | AJ83: . | AK83: . | AL83: 28 | AM83: . | AN83: . | AP83: 441 | AR83: 45 | AT83: 18 | AU83: 25 | AV83: 16 | AW83: 23 | AX83: . | AY83: . | AZ83: . | BB83: 438
B84: 2e halfjaar 2019 | C84: 1385 | D84: 1380 | F84: 230 | H84: 14 | I84: 35 | J84: 27 | K84: 14 | L84: 8 | M84: . | N84: . | P84: 296 | R84: 115 | T84: 55 | V84: 18 | W84: 34 | X84: 21 | Y84: . | Z84: 16 | AA84: . | AB84: . | AD84: 317 | AF84: 30 | AH84: . | AI84: 32 | AJ84: 26 | AK84: . | AL84: . | AM84: . | AN84: . | AP84: 314 | AR84: 25 | AT84: . | AU84: 48 | AV84: . | AW84: . | AX84: . | AY84: . | AZ84: . | BB84: 318
B85: 1e halfjaar 2020 | C85: 1320 | D85: 1320 | F85: 195 | H85: 13 | I85: 34 | J85: 28 | K85: 16 | L85: 7 | M85: . | N85: . | P85: 312 | R85: 95 | T85: 45 | V85: 22 | W85: 37 | X85: 15 | Y85: . | Z85: . | AA85: . | AB85: . | AD85: 361 | AF85: 25 | AH85: . | AI85: 28 | AJ85: 28 | AK85: . | AL85: . | AM85: . | AN85: . | AP85: 296 | AR85: 30 | AT85: . | AU85: 50 | AV85: . | AW85: . | AX85: . | AY85: . | AZ85: . | BB85: 317
B86: 2e halfjaar 2020 | C86: 1525 | D86: 1515 | F86: 295 | H86: 12 | I86: 19 | J86: 35 | K86: 24 | L86: 7 | M86: . | N86: . | P86: 366 | R86: 170 | T86: 70 | V86: 20 | W86: 14 | X86: 27 | Y86: 20 | Z86: 13 | AA86: . | AB86: . | AD86: 399 | AF86: 25 | AH86: . | AI86: . | AJ86: . | AK86: 35 | AL86: . | AM86: . | AN86: . | AP86: 498 | AR86: 35 | AT86: . | AU86: 38 | AV86: 21 | AW86: 21 | AX86: . | AY86: . | AZ86: . | BB86: 290
B87: 1e halfjaar 2021 | C87: 1400 | D87: 1395 | F87: 260 | H87: 11 | I87: 23 | J87: 30 | K87: 24 | L87: 10 | M87: . | N87: . | P87: 365 | R87: 160 | T87: 45 | V87: . | W87: 20 | X87: 24 | Y87: 27 | Z87: 18 | AA87: . | AB87: . | AD87: 436 | AF87: 30 | AH87: . | AI87: 25 | AJ87: . | AK87: 28 | AL87: . | AM87: . | AN87: . | AP87: 340 | AR87: 25 | AT87: . | AU87: 33 | AV87: . | AW87: . | AX87: . | AY87: . | AZ87: . | BB87: 462
B88: 2e halfjaar 2021 | C88: 1360 | D88: 1340 | F88: 255 | H88: 17 | I88: 25 | J88: 31 | K88: 17 | L88: 7 | M88: . | N88: . | P88: 330 | R88: 150 | T88: 55 | V88: 25 | W88: 28 | X88: 28 | Y88: . | Z88: . | AA88: . | AB88: . | AD88: 280 | AF88: 25 | AH88: . | AI88: 33 | AJ88: 29 | AK88: . | AL88: . | AM88: . | AN88: . | AP88: 389 | AR88: 25 | AT88: . | AU88: 44 | AV88: 32 | AW88: . | AX88: . | AY88: . | AZ88: . | BB88: 385
B89: 1e halfjaar 2022 | C89: 1150 | D89: 1130 | F89: 255 | H89: 18 | I89: 31 | J89: 22 | K89: 18 | L89: 8 | M89: . | N89: . | P89: 320 | R89: 140 | T89: 60 | V89: 21 | W89: 34 | X89: 16 | Y89: 18 | Z89: . | AA89: . | AB89: . | AD89: 319 | AF89: 25 | AH89: . | AI89: . | AJ89: 30 | AK89: . | AL89: . | AM89: . | AN89: . | AP89: 414 | AR89: 25 | AT89: . | AU89: 28 | AV89: . | AW89: 32 | AX89: . | AY89: . | AZ89: . | BB89: 396
B90: 2e halfjaar 2022 | C90: 1305 | D90: 1290 | F90: 250 | H90: 19 | I90: 27 | J90: 27 | K90: 17 | L90: 8 | M90: . | N90: . | P90: 295 | R90: 150 | T90: 55 | V90: 30 | W90: 25 | X90: 21 | Y90: 16 | Z90: . | AA90: . | AB90: . | AD90: 274 | AF90: 20 | AH90: . | AI90: 45 | AJ90: . | AK90: . | AL90: . | AM90: . | AN90: . | AP90: 373 | AR90: 25 | AT90: . | AU90: 29 | AV90: 33 | AW90: . | AX90: . | AY90: . | AZ90: . | BB90: 295
B91: 1e halfjaar 2023 | C91: 1220 | D91: 1200 | F91: 265 | H91: 16 | I91: 20 | J91: 34 | K91: 22 | L91: 6 | M91: . | N91: . | P91: 336 | R91: 165 | T91: 55 | V91: . | W91: 23 | X91: 28 | Y91: 23 | Z91: . | AA91: . | AB91: . | AD91: 424 | AF91: 20 | AH91: . | AI91: . | AJ91: . | AK91: . | AL91: . | AM91: . | AN91: . | AP91: 322 | AR91: 30 | AT91: . | AU91: . | AV91: 30 | AW91: 33 | AX91: . | AY91: . | AZ91: . | BB91: 375
B92: 2e halfjaar 2023 | C92: 1125 | D92: 1115 | F92: 230 | H92: 17 | I92: 30 | J92: 28 | K92: 17 | L92: 6 | M92: . | N92: . | P92: 304 | R92: 135 | T92: 50 | V92: 20 | W92: 30 | X92: 22 | Y92: 22 | Z92: . | AA92: . | AB92: . | AD92: 298 | AF92: 25 | AH92: . | AI92: 43 | AJ92: 30 | AK92: . | AL92: . | AM92: . | AN92: . | AP92: 328 | AR92: 25 | AT92: . | AU92: 35 | AV92: 30 | AW92: . | AX92: . | AY92: . | AZ92: . | BB92: 328
B93: 1e halfjaar 2024 | C93: 1170 | D93: 1160 | F93: 240 | H93: 18 | I93: 20 | J93: 33 | K93: 24 | L93: 4 | M93: . | N93: . | P93: 307 | R93: 140 | T93: 60 | V93: 24 | W93: 14 | X93: 34 | Y93: 24 | Z93: . | AA93: . | AB93: . | AD93: 290 | AF93: 25 | AH93: . | AI93: . | AJ93: 26 | AK93: 26 | AL93: . | AM93: . | AN93: . | AP93: 435 | AR93: 15 | AT93: . | AU93: . | AV93: . | AW93: . | AX93: . | AY93: . | AZ93: . | BB93: 406
B94: 2e halfjaar 2024 | C94: 1290 | D94: 1280 | F94: 260 | H94: 13 | I94: 24 | J94: 31 | K94: 23 | L94: 5 | M94: 3 | N94: . | P94: 355 | R94: 145 | T94: 60 | V94: 20 | W94: 22 | X94: 17 | Y94: 20 | Z94: 13 | AA94: . | AB94: . | AD94: 439 | AF94: 25 | AH94: . | AI94: . | AJ94: 26 | AK94: 26 | AL94: . | AM94: . | AN94: . | AP94: 456 | AR94: 30 | AT94: . | AU94: 36 | AV94: 25 | AW94: . | AX94: . | AY94: . | AZ94: . | BB94: 332
B95: 1e halfjaar 2025 | C95: 1280 | D95: 1270 | F95: 195 | H95: 11 | I95: 25 | J95: 32 | K95: 22 | L95: 5 | M95: . | N95: . | P95: 346 | R95: 130 | T95: 35 | V95: . | W95: 24 | X95: 24 | Y95: . | Z95: . | AA95: . | AB95: . | AD95: 436 | AF95: 25 | AH95: . | AI95: . | AJ95: 30 | AK95: . | AL95: . | AM95: . | AN95: . | AP95: 310 | AR95: . | AT95: . | AU95: . | AV95: . | AW95: . | AX95: . | AY95: . | AZ95: . | BB95: .
A97: Episodes met ondertoezichtstelling en voogdij | B97: 1e halfjaar 2015 | C97: 5 | D97: 5 | F97: . | H97: . | I97: . | J97: . | K97: . | L97: . | M97: . | N97: . | P97: . | R97: . | T97: . | V97: . | W97: . | X97: . | Y97: . | Z97: . | AA97: . | AB97: . | AD97: . | AF97: . | AH97: . | AI97: . | AJ97: . | AK97: . | AL97: . | AM97: . | AN97: . | AP97: . | AR97: . | AT97: . | AU97: . | AV97: . | AW97: . | AX97: . | AY97: . | AZ97: . | BB97: .
B98: 2e halfjaar 2015 | C98: 30 | D98: 30 | F98: . | H98: . | I98: . | J98: . | K98: . | L98: . | M98: . | N98: . | P98: . | R98: . | T98: . | V98: . | W98: . | X98: . | Y98: . | Z98: . | AA98: . | AB98: . | AD98: . | AF98: . | AH98: . | AI98: . | AJ98: . | AK98: . | AL98: . | AM98: . | AN98: . | AP98: . | AR98: . | AT98: . | AU98: . | AV98: . | AW98: . | AX98: . | AY98: . | AZ98: . | BB98: .
B99: 1e halfjaar 2016 | C99: 60 | D99: 60 | F99: 15 | H99: . | I99: . | J99: . | K99: . | L99: . | M99: . | N99: 64 | P99: 1840 | R99: . | T99: . | V99: . | W99: . | X99: . | Y99: . | Z99: . | AA99: . | AB99: . | AD99: . | AF99: . | AH99: . | AI99: . | AJ99: . | AK99: . | AL99: . | AM99: . | AN99: . | AP99: . | AR99: . | AT99: . | AU99: . | AV99: . | AW99: . | AX99: . | AY99: . | AZ99: . | BB99: .
B100: 2e halfjaar 2016 | C100: 95 | D100: 90 | F100: 10 | H100: . | I100: . | J100: . | K100: . | L100: . | M100: . | N100: . | P100: 1522 | R100: . | T100: . | V100: . | W100: . | X100: . | Y100: . | Z100: . | AA100: . | AB100: . | AD100: . | AF100: . | AH100: . | AI100: . | AJ100: . | AK100: . | AL100: . | AM100: . | AN100: . | AP100: . | AR100: . | AT100: . | AU100: . | AV100: . | AW100: . | AX100: . | AY100: . | AZ100: . | BB100: .
B101: 1e halfjaar 2017 | C101: 115 | D101: 115 | F101: 15 | H101: . | I101: . | J101: . | K101: . | L101: . | M101: . | N101: . | P101: 1483 | R101: . | T101: . | V101: . | W101: . | X101: . | Y101: . | Z101: . | AA101: . | AB101: . | AD101: . | AF101: . | AH101: . | AI101: . | AJ101: . | AK101: . | AL101: . | AM101: . | AN101: . | AP101: . | AR101: 10 | AT101: . | AU101: . | AV101: . | AW101: . | AX101: . | AY101: . | AZ101: . | BB101: 1118
B102: 2e halfjaar 2017 | C102: 155 | D102: 150 | F102: 15 | H102: . | I102: . | J102: . | K102: . | L102: . | M102: . | N102: . | P102: 1155 | R102: . | T102: . | V102: . | W102: . | X102: . | Y102: . | Z102: . | AA102: . | AB102: . | AD102: . | AF102: . | AH102: . | AI102: . | AJ102: . | AK102: . | AL102: . | AM102: . | AN102: . | AP102: . | AR102: 10 | AT102: . | AU102: . | AV102: . | AW102: . | AX102: . | AY102: . | AZ102: . | BB102: 1228
B103: 1e halfjaar 2018 | C103: 170 | D103: 170 | F103: 15 | H103: . | I103: . | J103: . | K103: . | L103: . | M103: . | N103: . | P103: 1347 | R103: . | T103: . | V103: . | W103: . | X103: . | Y103: . | Z103: . | AA103: . | AB103: . | AD103: . | AF103: . | AH103: . | AI103: . | AJ103: . | AK103: . | AL103: . | AM103: . | AN103: . | AP103: . | AR103: 10 | AT103: . | AU103: . | AV103: . | AW103: . | AX103: . | AY103: . | AZ103: . | BB103: 1062
B104: 2e halfjaar 2018 | C104: 230 | D104: 230 | F104: 15 | H104: . | I104: . | J104: . | K104: . | L104: . | M104: . | N104: . | P104: 1318 | R104: . | T104: . | V104: . | W104: . | X104: . | Y104: . | Z104: . | AA104: . | AB104: . | AD104: . | AF104: . | AH104: . | AI104: . | AJ104: . | AK104: . | AL104: . | AM104: . | AN104: . | AP104: . | AR104: 10 | AT104: . | AU104: . | AV104: . | AW104: . | AX104: . | AY104: . | AZ104: . | BB104: 852
B105: 1e halfjaar 2019 | C105: 235 | D105: 235 | F105: 20 | H105: . | I105: . | J105: . | K105: . | L105: . | M105: . | N105: 63 | P105: 2239 | R105: . | T105: . | V105: . | W105: . | X105: . | Y105: . | Z105: . | AA105: . | AB105: . | AD105: . | AF105: . | AH105: . | AI105: . | AJ105: . | AK105: . | AL105: . | AM105: . | AN105: . | AP105: . | AR105: 10 | AT105: . | AU105: . | AV105: . | AW105: . | AX105: . | AY105: . | AZ105: 64 | BB105: 2390
B106: 2e halfjaar 2019 | C106: 240 | D106: 240 | F106: 20 | H106: . | I106: . | J106: . | K106: . | L106: . | M106: . | N106: 65 | P106: 1928 | R106: . | T106: . | V106: . | W106: . | X106: . | Y106: . | Z106: . | AA106: . | AB106: . | AD106: . | AF106: . | AH106: . | AI106: . | AJ106: . | AK106: . | AL106: . | AM106: . | AN106: . | AP106: . | AR106: 15 | AT106: . | AU106: . | AV106: . | AW106: . | AX106: . | AY106: . | AZ106: 80 | BB106: 2223
...

Sheet Tabel 2_Voor
A1: Tabel 2.
A2: Jeugdhulp voorafgaand aan gestarte aansluitende episodes van jeugdbeschermings- en/of jeugdreclasseringsmaatregelen, 2016-2026
C3: Aantal gestarte episodes van maatregelen | E3: waarvan1
E4: zonder jeugdhulp in de 12 maanden voorafgaand aan de start van de episode | G4: met één of meerdere jeugdhulptrajecten in de 12 maanden voorafgaand aan de start van de episode die allen geëindigd zijn voor aanvang van de episode | R4: met één of meerdere jeugdhulptrajecten in de 12 maanden voorafgaand aan de start van de episode waarvan er minstens één niet is geëindigd voor aanvang van de episode | AC4: zonder jeugdhulp in de 12 maanden voorafgaand aan de start van de episode | AE4: met één of meerdere jeugdhulptrajecten in de 12 maanden voorafgaand aan de start van de episode die allen geëindigd zijn voor aanvang van de episode | AG4: met één of meerdere jeugdhulptrajecten in de 12 maanden voorafgaand aan de start van de episode waarvan er minstens één niet is geëindigd voor aanvang van de episode
G5: Totaal | H5: waaronder | S5: waaronder | AC5: Totaal | AE5: Totaal | AG5: Totaal
H6: jeugdhulp met verblijf | N6: jeugdhulp zonder verblijf | R6: Totaal | S6: jeugdhulp met verblijf | Y6: jeugdhulp zonder verblijf
H7: totaal | I7: pleegzorg | J7: gezinsgericht | K7: gesloten plaatsing | L7: overig | N7: totaal | O7: door wijkteam | P7: overig | S7: totaal | T7: pleegzorg | U7: gezinsgericht | V7: gesloten plaatsing | W7: overig | Y7: totaal | Z7: door wijkteam | AA7: overig
C9: Aantal | AC9: %
A11: Totaal | B11: 1e halfjaar 2016 | C11: 6050 | E11: 2580 | G11: 845 | H11: 135 | I11: 35 | J11: 15 | K11: 15 | L11: 85 | N11: 800 | O11: 95 | P11: 735 | R11: 2625 | S11: 1055 | T11: 475 | U11: 115 | V11: 75 | W11: 590 | Y11: 2390 | Z11: 720 | AA11: 2125 | AC11: 43 | AE11: 14 | AG11: 43
B12: 2e halfjaar 2016 | C12: 6030 | E12: 2405 | G12: 830 | H12: 120 | I12: 35 | J12: 15 | K12: 10 | L12: 80 | N12: 785 | O12: 100 | P12: 715 | R12: 2795 | S12: 1070 | T12: 465 | U12: 110 | V12: 95 | W12: 620 | Y12: 2575 | Z12: 845 | AA12: 2260 | AC12: 40 | AE12: 14 | AG12: 46
B13: 1e halfjaar 2017 | C13: 6320 | E13: 2475 | G13: 925 | H13: 145 | I13: 30 | J13: 10 | K13: 20 | L13: 105 | N13: 860 | O13: 160 | P13: 750 | R13: 2925 | S13: 1080 | T13: 450 | U13: 125 | V13: 100 | W13: 630 | Y13: 2650 | Z13: 970 | AA13: 2290 | AC13: 39 | AE13: 15 | AG13: 46
B14: 2e halfjaar 2017 | C14: 6105 | E14: 2345 | G14: 835 | H14: 135 | I14: 35 | J14: 10 | K14: 20 | L14: 85 | N14: 780 | O14: 155 | P14: 670 | R14: 2925 | S14: 1100 | T14: 455 | U14: 140 | V14: 95 | W14: 650 | Y14: 2690 | Z14: 1025 | AA14: 2310 | AC14: 38 | AE14: 14 | AG14: 48
B15: 1e halfjaar 2018 | C15: 6100 | E15: 2315 | G15: 955 | H15: 140 | I15: 30 | J15: 15 | K15: 20 | L15: 85 | N15: 900 | O15: 245 | P15: 750 | R15: 2830 | S15: 1040 | T15: 460 | U15: 130 | V15: 85 | W15: 590 | Y15: 2585 | Z15: 1055 | AA15: 2225 | AC15: 38 | AE15: 16 | AG15: 46
B16: 2e halfjaar 2018 | C16: 6005 | E16: 2330 | G16: 790 | H16: 130 | I16: 20 | J16: 15 | K16: 10 | L16: 90 | N16: 725 | O16: 175 | P16: 605 | R16: 2890 | S16: 1015 | T16: 440 | U16: 150 | V16: 100 | W16: 555 | Y16: 2670 | Z16: 960 | AA16: 2350 | AC16: 39 | AE16: 13 | AG16: 48
B17: 1e halfjaar 2019 | C17: 6415 | E17: 2475 | G17: 870 | H17: 135 | I17: 35 | J17: 5 | K17: 20 | L17: 95 | N17: 800 | O17: 165 | P17: 685 | R17: 3070 | S17: 995 | T17: 435 | U17: 150 | V17: 85 | W17: 535 | Y17: 2835 | Z17: 1080 | AA17: 2455 | AC17: 39 | AE17: 14 | AG17: 48
B18: 2e halfjaar 2019 | C18: 6495 | E18: 2500 | G18: 870 | H18: 125 | I18: 25 | J18: 10 | K18: 15 | L18: 85 | N18: 800 | O18: 190 | P18: 670 | R18: 3125 | S18: 1055 | T18: 420 | U18: 180 | V18: 105 | W18: 575 | Y18: 2895 | Z18: 985 | AA18: 2580 | AC18: 39 | AE18: 13 | AG18: 48
B19: 1e halfjaar 2020 | C19: 5610 | E19: 2300 | G19: 795 | H19: 100 | I19: 20 | J19: 5 | K19: 15 | L19: 70 | N19: 750 | O19: 175 | P19: 625 | R19: 2510 | S19: 805 | T19: 310 | U19: 150 | V19: 60 | W19: 450 | Y19: 2310 | Z19: 830 | AA19: 2045 | AC19: 41 | AE19: 14 | AG19: 45
B20: 2e halfjaar 2020 | C20: 5920 | E20: 2375 | G20: 725 | H20: 95 | I20: 20 | J20: 10 | K20: 5 | L20: 70 | N20: 685 | O20: 190 | P20: 550 | R20: 2815 | S20: 870 | T20: 365 | U20: 125 | V20: 80 | W20: 475 | Y20: 2615 | Z20: 890 | AA20: 2300 | AC20: 40 | AE20: 12 | AG20: 48
B21: 1e halfjaar 2021 | C21: 5885 | E21: 2320 | G21: 725 | H21: 85 | I21: 15 | J21: 10 | K21: 10 | L21: 60 | N21: 675 | O21: 170 | P21: 550 | R21: 2840 | S21: 815 | T21: 340 | U21: 115 | V21: 60 | W21: 435 | Y21: 2655 | Z21: 815 | AA21: 2370 | AC21: 39 | AE21: 12 | AG21: 48
B22: 2e halfjaar 2021 | C22: 5240 | E22: 2005 | G22: 715 | H22: 90 | I22: 15 | J22: 10 | K22: 10 | L22: 60 | N22: 680 | O22: 150 | P22: 580 | R22: 2515 | S22: 885 | T22: 330 | U22: 135 | V22: 70 | W22: 520 | Y22: 2325 | Z22: 700 | AA22: 2095 | AC22: 38 | AE22: 14 | AG22: 48
B23: 1e halfjaar 2022 | C23: 4640 | E23: 1770 | G23: 640 | H23: 80 | I23: 15 | J23: 15 | K23: 10 | L23: 50 | N23: 605 | O23: 105 | P23: 530 | R23: 2230 | S23: 700 | T23: 275 | U23: 95 | V23: 60 | W23: 420 | Y23: 2105 | Z23: 645 | AA23: 1915 | AC23: 38 | AE23: 14 | AG23: 48
... B26: 2e halfjaar 2023 | C26: 4870 | E26: 1845 | G26: 635 | H26: 80 | I26: 20 | J26: 10 | K26: 10 | L26: 50 | N26: 590 | O26: 110 | P26: 510 | R26: 2390 | S26: 740 | T26: 225 | U26: 105 | V26: 70 | W26: 490 | Y26: 2245 | Z26: 765 | AA26: 1985 | AC26: 38 | AE26: 13 | AG26: 49
B27: 1e halfjaar 2024 | C27: 4985 | E27: 1875 | G27: 625 | H27: 70 | I27: 15 | J27: . | K27: . | L27: 50 | N27: 585 | O27: 130 | P27: 485 | R27: 2485 | S27: 790 | T27: 295 | U27: 130 | V27: 60 | W27: 460 | Y27: 2335 | Z27: 780 | AA27: 2065 | AC27: 38 | AE27: 13 | AG27: 50
B28: 2e halfjaar 2024 | C28: 4925 | E28: 1945 | G28: 595 | H28: 80 | I28: 20 | J28: 10 | K28: 5 | L28: 50 | N28: 550 | O28: 100 | P28: 495 | R28: 2385 | S28: 730 | T28: 220 | U28: 125 | V28: 70 | W28: 485 | Y28: 2260 | Z28: 790 | AA28: 2010 | AC28: 39 | AE28: 12 | AG28: 48
B29: 1e halfjaar 2025 | C29: 4745 | E29: 1885 | G29: 585 | H29: 70 | I29: 10 | J29: 15 | K29: . | L29: 50 | N29: 550 | O29: 95 | P29: 485 | R29: 2275 | S29: 680 | T29: 230 | U29: 120 | V29: 40 | W29: 415 | Y29: 2160 | Z29: 730 | AA29: 1945 | AC29: 40 | AE29: 12 | AG29: 48
B30: 2e halfjaar 2025 | C30: 4800 | E30: 1875 | G30: 635 | H30: 85 | I30: 25 | J30: 10 | K30: . | L30: 55 | N30: 585 | O30: 125 | P30: 505 | R30: 2290 | S30: 700 | T30: 220 | U30: 105 | V30: 50 | W30: 445 | Y30: 2170 | Z30: 765 | AA30: 1910 | AC30: 39 | AE30: 13 | AG30: 48
B31: 1e halfjaar 2026 | C31: 4725 | E31: 1900 | G31: 660 | H31: 100 | I31: 20 | J31: . | K31: 10 | L31: 80 | N31: 615 | O31: 150 | P31: 510 | R31: 2160 | S31: 615 | T31: 155 | U31: 100 | V31: 45 | W31: 425 | Y31: 2040 | Z31: 715 | AA31: 1780 | AC31: 40 | AE31: 14 | AG31: 46
A33: Episode met alleen ondertoezichtstelling | B33: 1e halfjaar 2016 | C33: 3450 | E33: 1420 | G33: 500 | H33: 50 | I33: 20 | J33: . | K33: . | L33: 30 | N33: 485 | O33: 55 | P33: 450 | R33: 1530 | S33: 575 | T33: 240 | U33: 65 | V33: 40 | W33: 350 | Y33: 1415 | Z33: 455 | AA33: 1250 | AC33: 41 | AE33: 15 | AG33: 44
B34: 2e halfjaar 2016 | C34: 3620 | E34: 1365 | G34: 535 | H34: 60 | I34: 25 | J34: 10 | K34: . | L34: 35 | N34: 515 | O34: 65 | P34: 475 | R34: 1720 | S34: 565 | T34: 215 | U34: 60 | V34: 50 | W34: 340 | Y34: 1625 | Z34: 540 | AA34: 1420 | AC34: 38 | AE34: 15 | AG34: 47
B35: 1e halfjaar 2017 | C35: 3805 | E35: 1390 | G35: 570 | H35: 70 | I35: 10 | J35: . | K35: . | L35: 60 | N35: 540 | O35: 110 | P35: 455 | R35: 1845 | S35: 575 | T35: 230 | U35: 70 | V35: 45 | W35: 355 | Y35: 1725 | Z35: 665 | AA35: 1485 | AC35: 37 | AE35: 15 | AG35: 48
B36: 2e halfjaar 2017 | C36: 3675 | E36: 1335 | G36: 525 | H36: 65 | I36: 25 | J36: . | K36: . | L36: 35 | N36: 495 | O36: 85 | P36: 435 | R36: 1815 | S36: 585 | T36: 225 | U36: 65 | V36: 45 | W36: 365 | Y36: 1710 | Z36: 680 | AA36: 1465 | AC36: 36 | AE36: 14 | AG36: 49
B37: 1e halfjaar 2018 | C37: 3795 | E37: 1320 | G37: 600 | H37: 60 | I37: 20 | J37: 10 | K37: . | L37: 35 | N37: 575 | O37: 145 | P37: 485 | R37: 1875 | S37: 565 | T37: 245 | U37: 80 | V37: 45 | W37: 320 | Y37: 1765 | Z37: 740 | AA37: 1505 | AC37: 35 | AE37: 16 | AG37: 49
B38: 2e halfjaar 2018 | C38: 3870 | E38: 1430 | G38: 505 | H38: 70 | I38: 15 | J38: 10 | K38: . | L38: 50 | N38: 470 | O38: 105 | P38: 395 | R38: 1935 | S38: 605 | T38: 260 | U38: 80 | V38: 55 | W38: 340 | Y38: 1825 | Z38: 660 | AA38: 1595 | AC38: 37 | AE38: 13 | AG38: 50
B39: 1e halfjaar 2019 | C39: 4100 | E39: 1470 | G39: 565 | H39: 65 | I39: 30 | J39: . | K39: . | L39: 35 | N39: 540 | O39: 95 | P39: 475 | R39: 2065 | S39: 580 | T39: 225 | U39: 85 | V39: 50 | W39: 330 | Y39: 1960 | Z39: 750 | AA39: 1710 | AC39: 36 | AE39: 14 | AG39: 50
B40: 2e halfjaar 2019 | C40: 4155 | E40: 1530 | G40: 545 | H40: 50 | I40: 15 | J40: 10 | K40: . | L40: 30 | N40: 510 | O40: 110 | P40: 430 | R40: 2085 | S40: 605 | T40: 245 | U40: 100 | V40: 50 | W40: 330 | Y40: 1965 | Z40: 645 | AA40: 1765 | AC40: 37 | AE40: 13 | AG40: 50
B41: 1e halfjaar 2020 | C41: 3765 | E41: 1455 | G41: 555 | H41: 50 | I41: 15 | J41: . | K41: . | L41: 30 | N41: 530 | O41: 110 | P41: 450 | R41: 1755 | S41: 490 | T41: 165 | U41: 100 | V41: 30 | W41: 295 | Y41: 1660 | Z41: 605 | AA41: 1470 | AC41: 39 | AE41: 15 | AG41: 47
B42: 2e halfjaar 2020 | C42: 4045 | E42: 1550 | G42: 480 | H42: 45 | I42: 15 | J42: . | K42: . | L42: 30 | N42: 460 | O42: 125 | P42: 375 | R42: 2015 | S42: 545 | T42: 235 | U42: 75 | V42: 30 | W42: 300 | Y42: 1915 | Z42: 660 | AA42: 1675 | AC42: 38 | AE42: 12 | AG42: 50
B43: 1e halfjaar 2021 | C43: 4035 | E43: 1455 | G43: 495 | H43: 45 | I43: 10 | J43: . | K43: . | L43: 30 | N43: 465 | O43: 115 | P43: 380 | R43: 2085 | S43: 520 | T43: 230 | U43: 70 | V43: 30 | W43: 265 | Y43: 1985 | Z43: 615 | AA43: 1765 | AC43: 36 | AE43: 12 | AG43: 52
B44: 2e halfjaar 2021 | C44: 3510 | E44: 1230 | G44: 460 | H44: 40 | I44: 10 | J44: 5 | K44: . | L44: 25 | N44: 440 | O44: 85 | P44: 380 | R44: 1820 | S44: 620 | T44: 235 | U44: 90 | V44: 35 | W44: 365 | Y44: 1695 | Z44: 505 | AA44: 1525 | AC44: 35 | AE44: 13 | AG44: 52
B45: 1e halfjaar 2022 | C45: 2985 | E45: 995 | G45: 425 | H45: 30 | I45: 10 | J45: . | K45: . | L45: 15 | N45: 410 | O45: 55 | P45: 365 | R45: 1565 | S45: 455 | T45: 195 | U45: 65 | V45: 20 | W45: 255 | Y45: 1480 | Z45: 455 | AA45: 1350 | AC45: 33 | AE45: 14 | AG45: 52
B46: 2e halfjaar 2022 | C46: 3060 | E46: 1160 | G46: 390 | H46: 50 | I46: 15 | J46: 15 | K46: . | L46: 25 | N46: 360 | O46: 60 | P46: 315 | R46: 1510 | S46: 470 | T46: 185 | U46: 75 | V46: 25 | W46: 265 | Y46: 1415 | Z46: 435 | AA46: 1280 | AC46: 38 | AE46: 13 | AG46: 49
B47: 1e halfjaar 2023 | C47: 2995 | E47: 1020 | G47: 380 | H47: 45 | I47: 10 | J47: . | K47: . | L47: 30 | N47: 365 | O47: 70 | P47: 320 | R47: 1595 | S47: 525 | T47: 190 | U47: 105 | V47: 35 | W47: 305 | Y47: 1475 | Z47: 475 | AA47: 1340 | AC47: 34 | AE47: 13 | AG47: 53
B48: 2e halfjaar 2023 | C48: 3135 | E48: 1090 | G48: 395 | H48: 40 | I48: 15 | J48: . | K48: . | L48: 20 | N48: 370 | O48: 65 | P48: 325 | R48: 1650 | S48: 470 | T48: 165 | U48: 75 | V48: 25 | W48: 295 | Y48: 1565 | Z48: 545 | AA48: 1375 | AC48: 35 | AE48: 13 | AG48: 53
B49: 1e halfjaar 2024 | C49: 3180 | E49: 1035 | G49: 410 | H49: 40 | I49: 15 | J49: . | K49: . | L49: 25 | N49: 390 | O49: 80 | P49: 330 | R49: 1730 | S49: 520 | T49: 220 | U49: 95 | V49: 20 | W49: 280 | Y49: 1635 | Z49: 560 | AA49: 1440 | AC49: 33 | AE49: 13 | AG49: 54
B50: 2e halfjaar 2024 | C50: 3045 | E50: 1040 | G50: 380 | H50: 50 | I50: 15 | J50: 10 | K50: . | L50: 30 | N50: 350 | O50: 55 | P50: 320 | R50: 1625 | S50: 485 | T50: 175 | U50: 80 | V50: 35 | W50: 305 | Y50: 1550 | Z50: 560 | AA50: 1365 | AC50: 34 | AE50: 13 | AG50: 53
B51: 1e halfjaar 2025 | C51: 3010 | E51: 1055 | G51: 380 | H51: 40 | I51: 5 | J51: 10 | K51: . | L51: 25 | N51: 360 | O51: 55 | P51: 325 | R51: 1575 | S51: 460 | T51: 185 | U51: 85 | V51: 20 | W51: 250 | Y51: 1495 | Z51: 525 | AA51: 1340 | AC51: 35 | AE51: 13 | AG51: 52
B52: 2e halfjaar 2025 | C52: 3115 | E52: 1075 | G52: 425 | H52: 45 | I52: 15 | J52: . | K52: . | L52: 25 | N52: 400 | O52: 70 | P52: 350 | R52: 1615 | S52: 475 | T52: 165 | U52: 80 | V52: 20 | W52: 290 | Y52: 1535 | Z52: 560 | AA52: 1335 | AC52: 35 | AE52: 14 | AG52: 52
B53: 1e halfjaar 2026 | C53: 3070 | E53: 1135 | G53: 395 | H53: 55 | I53: 15 | J53: . | K53: . | L53: 40 | N53: 370 | O53: 80 | P53: 315 | R53: 1535 | S53: 440 | T53: 125 | U53: 80 | V53: 30 | W53: 285 | Y53: 1460 | Z53: 530 | AA53: 1260 | AC53: 37 | AE53: 13 | AG53: 50
A55: Episode met alleen voogdij | B55: 1e halfjaar 2016 | C55: 245 | E55: 115 | G55: 10 | H55: . | I55: . | J55: . | K55: . | L55: . | N55: 10 | O55: . | P55: . | R55: 125 | S55: 105 | T55: 90 | U55: 10 | V55: . | W55: 20 | Y55: 75 | Z55: 15 | AA55: 65 | AC55: 46 | AE55: 4 | AG55: 50
B56: 2e halfjaar 2016 | C56: 200 | E56: 100 | G56: 10 | H56: . | I56: . | J56: . | K56: . | L56: . | N56: 10 | O56: . | P56: . | R56: 95 | S56: 90 | T56: 70 | U56: 10 | V56: . | W56: 25 | Y56: 50 | Z56: 10 | AA56: 50 | AC56: 49 | AE56: 5 | AG56: 46
B57: 1e halfjaar 2017 | C57: 235 | E57: 95 | G57: 15 | H57: 10 | I57: 10 | J57: . | K57: . | L57: . | N57: 10 | O57: . | P57: 10 | R57: 125 | S57: 110 | T57: 80 | U57: 20 | V57: . | W57: 40 | Y57: 70 | Z57: 20 | AA57: 60 | AC57: 41 | AE57: 7 | AG57: 53
B58: 2e halfjaar 2017 | C58: 190 | E58: 75 | G58: 10 | H58: . | I58: . | J58: . | K58: . | L58: . | N58: 10 | O58: . | P58: 10 | R58: 105 | S58: 85 | T58: 65 | U58: 10 | V58: . | W58: 30 | Y58: 60 | Z58: 25 | AA58: 45 | AC58: 40 | AE58: 6 | AG58: 54
B59: 1e halfjaar 2018 | C59: 180 | E59: 75 | G59: 10 | H59: . | I59: . | J59: . | K59: . | L59: . | N59: 5 | O59: . | P59: . | R59: 95 | S59: 85 | T59: 60 | U59: 5 | V59: . | W59: 30 | Y59: 55 | Z59: 20 | AA59: 45 | AC59: 42 | AE59: 4 | AG59: 54
B60: 2e halfjaar 2018 | C60: 170 | E60: 70 | G60: . | H60: . | I60: . | J60: . | K60: . | L60: . | N60: . | O60: . | P60: . | R60: 95 | S60: 85 | T60: 65 | U60: 15 | V60: . | W60: 30 | Y60: 60 | Z60: 15 | AA60: 60 | AC60: 43 | AE60: . | AG60: 55
B61: 1e halfjaar 2019 | C61: 210 | E61: 95 | G61: 10 | H61: . | I61: . | J61: . | K61: . | L61: . | N61: . | O61: . | P61: . | R61: 100 | S61: 85 | T61: 70 | U61: 20 | V61: . | W61: 20 | Y61: 50 | Z61: 20 | AA61: 40 | AC61: 47 | AE61: 4 | AG61: 49
B62: 2e halfjaar 2019 | C62: 200 | E62: 85 | G62: 10 | H62: . | I62: . | J62: . | K62: . | L62: . | N62: 5 | O62: . | P62: . | R62: 105 | S62: 90 | T62: 55 | U62: 20 | V62: . | W62: 30 | Y62: 65 | Z62: 25 | AA62: 55 | AC62: 43 | AE62: 5 | AG62: 52
B63: 1e halfjaar 2020 | C63: 160 | E63: 85 | G63: 5 | H63: . | I63: . | J63: . | K63: . | L63: . | N63: . | O63: . | P63: . | R63: 70 | S63: 55 | T63: 40 | U63: . | V63: . | W63: 15 | Y63: 45 | Z63: 15 | AA63: 35 | AC63: 51 | AE63: 4 | AG63: 44
B64: 2e halfjaar 2020 | C64: 185 | E64: 85 | G64: 10 | H64: . | I64: . | J64: . | K64: . | L64: . | N64: 10 | O64: . | P64: . | R64: 90 | S64: 70 | T64: 50 | U64: 20 | V64: . | W64: 20 | Y64: 60 | Z64: 15 | AA64: 55 | AC64: 45 | AE64: 6 | AG64: 49
B65: 1e halfjaar 2021 | C65: 150 | E65: 70 | G65: . | H65: . | I65: . | J65: . | K65: . | L65: . | N65: . | O65: . | P65: . | R65: 75 | S65: 60 | T65: 40 | U65: 15 | V65: . | W65: 15 | Y65: 50 | Z65: 10 | AA65: 45 | AC65: 47 | AE65: . | AG65: 49
B66: 2e halfjaar 2021 | C66: 170 | E66: 75 | G66: 5 | H66: . | I66: . | J66: . | K66: . | L66: . | N66: . | O66: . | P66: . | R66: 90 | S66: 55 | T66: 35 | U66: 15 | V66: . | W66: 25 | Y66: 70 | Z66: 30 | AA66: 55 | AC66: 43 | AE66: 4 | AG66: 53
B67: 1e halfjaar 2022 | C67: 130 | E67: 70 | G67: 5 | H67: . | I67: . | J67: . | K67: . | L67: . | N67: . | O67: . | P67: . | R67: 55 | S67: 45 | T67: 30 | U67: . | V67: . | W67: 15 | Y67: 35 | Z67: 10 | AA67: 35 | AC67: 55 | AE67: 5 | AG67: 40
B68: 2e halfjaar 2022 | C68: 145 | E68: 85 | G68: . | H68: . | I68: . | J68: . | K68: . | L68: . | N68: . | O68: . | P68: . | R68: 55 | S68: 45 | T68: 35 | U68: 10 | V68: . | W68: 15 | Y68: 40 | Z68: 10 | AA68: 35 | AC68: 59 | AE68: . | AG68: 39
B69: 1e halfjaar 2023 | C69: 125 | E69: 65 | G69: . | H69: . | I69: . | J69: . | K69: . | L69: . | N69: . | O69: . | P69: . | R69: 55 | S69: 40 | T69: 25 | U69: . | V69: . | W69: 15 | Y69: 40 | Z69: 10 | AA69: 30 | AC69: 51 | AE69: . | AG69: 46
B70: 2e halfjaar 2023 | C70: 145 | E70: 80 | G70: 10 | H70: . | I70: . | J70: . | K70: . | L70: . | N70: . | O70: . | P70: . | R70: 60 | S70: 40 | T70: 20 | U70: 5 | V70: . | W70: 20 | Y70: 45 | Z70: 10 | AA70: 40 | AC70: 54 | AE70: 6 | AG70: 40
B71: 1e halfjaar 2024 | C71: 120 | E71: 60 | G71: . | H71: . | I71: . | J71: . | K71: . | L71: . | N71: . | O71: . | P71: . | R71: 55 | S71: 45 | T71: 35 | U71: . | V71: . | W71: 20 | Y71: 35 | Z71: 10 | AA71: 30 | AC71: 51 | AE71: . | AG71: 45
B72: 2e halfjaar 2024 | C72: 135 | E72: 85 | G72: . | H72: . | I72: . | J72: . | K72: . | L72: . | N72: . | O72: . | P72: . | R72: 45 | S72: 30 | T72: 15 | U72: 10 | V72: . | W72: 5 | Y72: 35 | Z72: 15 | AA72: 30 | AC72: 63 | AE72: . | AG72: 33
B73: 1e halfjaar 2025 | C73: 135 | E73: 85 | G73: . | H73: . | I73: . | J73: . | K73: . | L73: . | N73: . | O73: . | P73: . | R73: 45 | S73: 30 | T73: 20 | U73: . | V73: . | W73: 15 | Y73: 35 | Z73: 10 | AA73: 30 | AC73: 62 | AE73: . | AG73: 35
B74: 2e halfjaar 2025 | C74: 140 | E74: 80 | G74: . | H74: . | I74: . | J74: . | K74: . | L74: . | N74: . | O74: . | P74: . | R74: 55 | S74: 35 | T74: 25 | U74: 5 | V74: . | W74: 15 | Y74: 40 | Z74: 15 | AA74: 35 | AC74: 56 | AE74: . | AG74: 40
B75: 1e halfjaar 2026 | C75: 100 | E75: 70 | G75: . | H75: . | I75: . | J75: . | K75: . | L75: . | N75: . | O75: . | P75: . | R75: 25 | S75: 15 | T75: 10 | U75: . | V75: . | W75: . | Y75: 20 | Z75: 10 | AA75: 15 | AC75: 70 | AE75: . | AG75: 25
A77: Episode met alleen jeugdreclassering | B77: 1e halfjaar 2016 | C77: 1600 | E77: 810 | G77: 240 | H77: 55 | I77: 10 | J77: . | K77: 10 | L77: 35 | N77: 220 | O77: 30 | P77: 200 | R77: 545 | S77: 140 | T77: 10 | U77: 15 | V77: 20 | W77: 115 | Y77: 530 | Z77: 130 | AA77: 480 | AC77: 51 | AE77: 15 | AG77: 34
B78: 2e halfjaar 2016 | C78: 1420 | E78: 690 | G78: 185 | H78: 30 | I78: . | J78: . | K78: . | L78: 25 | N78: 175 | O78: 15 | P78: 165 | R78: 540 | S78: 160 | T78: 25 | U78: 10 | V78: 30 | W78: 130 | Y78: 525 | Z78: 165 | AA78: 465 | AC78: 49 | AE78: 13 | AG78: 38
B79: 1e halfjaar 2017 | C79: 1535 | E79: 735 | G79: 260 | H79: 45 | I79: . | J79: . | K79: 15 | L79: 30 | N79: 240 | O79: 45 | P79: 215 | R79: 540 | S79: 150 | T79: 15 | U79: 15 | V79: 35 | W79: 120 | Y79: 515 | Z79: 170 | AA79: 455 | AC79: 48 | AE79: 17 | AG79: 35
B80: 2e halfjaar 2017 | C80: 1490 | E80: 710 | G80: 230 | H80: 50 | I80: . | J80: . | K80: 15 | L80: 35 | N80: 215 | O80: 50 | P80: 180 | R80: 550 | S80: 155 | T80: 15 | U80: 20 | V80: 35 | W80: 125 | Y80: 530 | Z80: 180 | AA80: 465 | AC80: 48 | AE80: 15 | AG80: 37
B81: 1e halfjaar 2018 | C81: 1385 | E81: 680 | G81: 260 | H81: 55 | I81: . | J81: . | K81: 20 | L81: 35 | N81: 235 | O81: 70 | P81: 195 | R81: 450 | S81: 140 | T81: 20 | U81: 15 | V81: 25 | W81: 105 | Y81: 435 | Z81: 150 | AA81: 385 | AC81: 49 | AE81: 19 | AG81: 32
B82: 2e halfjaar 2018 | C82: 1315 | E82: 620 | G82: 220 | H82: 45 | I82: . | J82: . | K82: 10 | L82: 35 | N82: 205 | O82: 55 | P82: 160 | R82: 475 | S82: 120 | T82: 15 | U82: 20 | V82: 30 | W82: 90 | Y82: 450 | Z82: 145 | AA82: 400 | AC82: 47 | AE82: 17 | AG82: 36
B83: 1e halfjaar 2019 | C83: 1425 | E83: 690 | G83: 220 | H83: 50 | I83: . | J83: . | K83: 15 | L83: 40 | N83: 190 | O83: 45 | P83: 155 | R83: 515 | S83: 120 | T83: 15 | U83: 15 | V83: 25 | W83: 90 | Y83: 500 | Z83: 175 | AA83: 420 | AC83: 49 | AE83: 15 | AG83: 36
B84: 2e halfjaar 2019 | C84: 1455 | E84: 660 | G84: 240 | H84: 45 | I84: . | J84: . | K84: 10 | L84: 35 | N84: 225 | O84: 60 | P84: 175 | R84: 555 | S84: 140 | T84: 20 | U84: 20 | V84: 25 | W84: 105 | Y84: 530 | Z84: 200 | AA84: 455 | AC84: 45 | AE84: 17 | AG84: 38
B85: 1e halfjaar 2020 | C85: 1160 | E85: 590 | G85: 185 | H85: 35 | I85: . | J85: . | K85: 10 | L85: 30 | N85: 170 | O85: 50 | P85: 135 | R85: 385 | S85: 105 | T85: 20 | U85: 15 | V85: 20 | W85: 75 | Y85: 365 | Z85: 130 | AA85: 315 | AC85: 51 | AE85: 16 | AG85: 33
B86: 2e halfjaar 2020 | C86: 1210 | E86: 570 | G86: 195 | H86: 35 | I86: . | J86: . | K86: . | L86: 30 | N86: 185 | O86: 50 | P86: 150 | R86: 445 | S86: 120 | T86: 15 | U86: 15 | V86: 35 | W86: 90 | Y86: 420 | Z86: 135 | AA86: 360 | AC86: 47 | AE86: 16 | AG86: 37
B87: 1e halfjaar 2021 | C87: 1265 | E87: 655 | G87: 185 | H87: 25 | I87: . | J87: . | K87: . | L87: 20 | N87: 170 | O87: 50 | P87: 135 | R87: 425 | S87: 110 | T87: 10 | U87: 10 | V87: 20 | W87: 90 | Y87: 400 | Z87: 125 | AA87: 360 | AC87: 52 | AE87: 15 | AG87: 34
B88: 2e halfjaar 2021 | C88: 1205 | E88: 600 | G88: 205 | H88: 35 | I88: . | J88: . | K88: 10 | L88: 25 | N88: 190 | O88: 50 | P88: 160 | R88: 400 | S88: 105 | T88: 15 | U88: 15 | V88: 20 | W88: 75 | Y88: 380 | Z88: 100 | AA88: 350 | AC88: 50 | AE88: 17 | AG88: 33
B89: 1e halfjaar 2022 | C89: 1195 | E89: 605 | G89: 165 | H89: 35 | I89: . | J89: . | K89: 10 | L89: 25 | N89: 150 | O89: 30 | P89: 125 | R89: 430 | S89: 105 | T89: 20 | U89: 10 | V89: 25 | W89: 80 | Y89: 415 | Z89: 130 | AA89: 365 | AC89: 51 | AE89: 14 | AG89: 36
B90: 2e halfjaar 2022 | C90: 1210 | E90: 560 | G90: 195 | H90: 35 | I90: . | J90: . | K90: . | L90: 30 | N90: 175 | O90: 50 | P90: 135 | R90: 455 | S90: 115 | T90: 20 | U90: . | V90: 30 | W90: 90 | Y90: 430 | Z90: 115 | AA90: 395 | AC90: 46 | AE90: 16 | AG90: 38
B91: 1e halfjaar 2023 | C91: 1335 | E91: 630 | G91: 205 | H91: 30 | I91: . | J91: . | K91: . | L91: 25 | N91: 185 | O91: 45 | P91: 155 | R91: 505 | S91: 140 | T91: 15 | U91: 15 | V91: 25 | W91: 115 | Y91: 480 | Z91: 145 | AA91: 430 | AC91: 47 | AE91: 15 | AG91: 38
B92: 2e halfjaar 2023 | C92: 1315 | E92: 615 | G92: 195 | H92: 25 | I92: . | J92: . | K92: . | L92: 25 | N92: 185 | O92: 45 | P92: 150 | R92: 505 | S92: 135 | T92: 15 | U92: 15 | V92: 30 | W92: 105 | Y92: 485 | Z92: 145 | AA92: 430 | AC92: 47 | AE92: 15 | AG92: 38
B93: 1e halfjaar 2024 | C93: 1415 | E93: 700 | G93: 175 | H93: 20 | I93: . | J93: . | K93: . | L93: 20 | N93: 165 | O93: 50 | P93: 130 | R93: 535 | S93: 155 | T93: 25 | U93: 10 | V93: 25 | W93: 120 | Y93: 515 | Z93: 155 | AA93: 465 | AC93: 50 | AE93: 13 | AG93: 38
B94: 2e halfjaar 2024 | C94: 1540 | E94: 775 | G94: 185 | H94: 25 | I94: . | J94: . | K94: . | L94: 20 | N94: 170 | O94: 40 | P94: 150 | R94: 580 | S94: 155 | T94: 20 | U94: 20 | V94: 25 | W94: 125 | Y94: 550 | Z94: 160 | AA94: 500 | AC94: 50 | AE94: 12 | AG94: 38
B95: 1e halfjaar 2025 | C95: 1390 | E95: 690 | G95: 190 | H95: 30 | I95: . | J95: . | K95: . | L95: 25 | N95: 170 | O95: 35 | P95: 145 | R95: 515 | S95: 130 | T95: 15 | U95: 20 | V95: 15 | W95: 110 | Y95: 490 | Z95: 140 | AA95: 455 | AC95: 49 | AE95: 14 | AG95: 37
B96: 2e halfjaar 2025 | C96: 1395 | E96: 680 | G96: 190 | H96: 30 | I96: . | J96: . | K96: . | L96: 20 | N96: 170 | O96: 50 | P96: 140 | R96: 525 | S96: 145 | T96: 30 | U96: 15 | V96: 20 | W96: 105 | Y96: 505 | Z96: 155 | AA96: 465 | AC96: 49 | AE96: 14 | AG96: 38
B97: 1e halfjaar 2026 | C97: 1475 | E97: 675 | G97: 250 | H97: 40 | I97: . | J97: . | K97: . | L97: 30 | N97: 230 | O97: 65 | P97: 185 | R97: 550 | S97: 140 | T97: 15 | U97: 10 | V97: 15 | W97: 120 | Y97: 515 | Z97: 150 | AA97: 460 | AC97: 46 | AE97: 17 | AG97: 37
A99: Episode met ondertoezichtstelling en voogdij | B99: 1e halfjaar 2016 | C99: 480 | E99: 185 | G99: 45 | H99: 15 | I99: 5 | J99: . | K99: . | L99: 10 | N99: 40 | O99: . | P99: 40 | R99: 250 | S99: 170 | T99: 125 | U99: 20 | V99: . | W99: 55 | Y99: 195 | Z99: 50 | AA99: 170 | AC99: 39 | AE99: 10 | AG99: 52
B100: 2e halfjaar 2016 | C100: 510 | E100: 185 | G100: 55 | H100: 15 | I100: . | J100: . | K100: . | L100: 10 | N100: 45 | O100: 10 | P100: 40 | R100: 270 | S100: 175 | T100: 140 | U100: 20 | V100: . | W100: 60 | Y100: 210 | Z100: 60 | AA100: 185 | AC100: 36 | AE100: 11 | AG100: 53
B101: 1e halfjaar 2017 | C101: 455 | E101: 190 | G101: 40 | H101: 5 | I101: . | J101: . | K101: . | L101: . | N101: 35 | O101: . | P101: 30 | R101: 225 | S101: 150 | T101: 115 | U101: 20 | V101: . | W101: 50 | Y101: 165 | Z101: 60 | AA101: 135 | AC101: 42 | AE101: 9 | AG101: 50
B102: 2e halfjaar 2017 | C102: 455 | E102: 170 | G102: 30 | H102: 10 | I102: . | J102: . | K102: . | L102: . | N102: 20 | O102: 5 | P102: 15 | R102: 255 | S102: 180 | T102: 125 | U102: 30 | V102: . | W102: 60 | Y102: 200 | Z102: 70 | AA102: 170 | AC102: 37 | AE102: 6 | AG102: 56
B103: 1e halfjaar 2018 | C103: 450 | E103: 185 | G103: 40 | H103: 10 | I103: . | J103: . | K103: . | L103: . | N103: 35 | O103: 15 | P103: 30 | R103: 225 | S103: 160 | T103: 115 | U103: 20 | V103: . | W103: 50 | Y103: 155 | Z103: 65 | AA103: 130 | AC103: 41 | AE103: 9 | AG103: 49
B104: 2e halfjaar 2018 | C104: 410 | E104: 155 | G104: 30 | H104: 10 | I104: . | J104: . | K104: . | L104: . | N104: 25 | O104: . | P104: 25 | R104: 225 | S104: 125 | T104: 85 | U104: 30 | V104: . | W104: 40 | Y104: 180 | Z104: 70 | AA104: 155 | AC104: 38 | AE104: 7 | AG104: 55
B105: 1e halfjaar 2019 | C105: 425 | E105: 175 | G105: 30 | H105: . | I105: . | J105: . | K105: . | L105: . | N105: 30 | O105: 10 | P105: 20 | R105: 220 | S105: 145 | T105: 110 | U105: 20 | V105: . | W105: 45 | Y105: 170 | Z105: 65 | AA105: 150 | AC105: 41 | AE105: 7 | AG105: 52
B106: 2e halfjaar 2019 | C106: 415 | E106: 185 | G106: 35 | H106: 10 | I106: . | J106: . | K106: . | L106: . | N106: 30 | O106: . | P106: 25 | R106: 190 | S106: 125 | T106: 80 | U106: 20 | V106: . | W106: 45 | Y106: 155 | Z106: 45 | AA106: 135 | AC106: 45 | AE106: 9 | AG106: 46
B107: 1e halfjaar 2020 | C107: 315 | E107: 135 | G107: 25 | H107: . | I107: . | J107: . | K107: . | L107: . | N107: 20 | O107: . | P107: 15 | R107: 160 | S107: 105 | T107: 75 | U107: 25 | V107: . | W107: 30 | Y107: 110 | Z107: 40 | AA107: 95 | AC107: 42 | AE107: 7 | AG107: 51
B108: 2e halfjaar 2020 | C108: 305 | E108: 145 | G108: 15 | H108: . | I108: . | J108: . | K108: . | L108: . | N108: 10 | O108: 5 | P108: . | R108: 140 | S108: 85 | T108: 55 | U108: 15 | V108: . | W108: 20 | Y108: 100 | Z108: 30 | AA108: 90 | AC108: 49 | AE108: 5 | AG108: 46
...

Sheet Tabel 3.0_Algemeen
A1: Tabel 3.0
A2: Afgesloten aansluitende episodes van jeugdbeschermings- en/of jeugdreclasseringsmaatregelen, 2016-2025
C3: Aantal afgesloten episodes van maatregelen | E3: Aantal afgesloten episodes van maatregelen die starten vanaf 20161 | G3: waaronder
G4: zonder jeugdhulp tussen 12 maanden voorafgaand aan de start van de episode en 12 maanden na afloop van het eind van de episode | I4: zonder jeugdhulp tussen 12 maanden voorafgaand aan de start van de episode en 12 maanden na afloop van het eind van de episode
C6: Aantal | I6: %
A8: Totaal | B8: 1e halfjaar 2016 | C8: 6360 | E8: 140 | G8: 45 | I8: 31
B9: 2e halfjaar 2016 | C9: 6420 | E9: 860 | G9: 295 | I9: 34
B10: 1e halfjaar 2017 | C10: 6150 | E10: 1955 | G10: 555 | I10: 28
B11: 2e halfjaar 2017 | C11: 6145 | E11: 2615 | G11: 655 | I11: 25
B12: 1e halfjaar 2018 | C12: 5935 | E12: 3600 | G12: 850 | I12: 24
B13: 2e halfjaar 2018 | C13: 6080 | E13: 4080 | G13: 885 | I13: 22
B14: 1e halfjaar 2019 | C14: 6060 | E14: 4500 | G14: 850 | I14: 19
B15: 2e halfjaar 2019 | C15: 6075 | E15: 4710 | G15: 910 | I15: 19
B16: 1e halfjaar 2020 | C16: 5545 | E16: 4585 | G16: 855 | I16: 19
B17: 2e halfjaar 2020 | C17: 6100 | E17: 5055 | G17: 885 | I17: 17
B18: 1e halfjaar 2021 | C18: 6280 | E18: 5350 | G18: 870 | I18: 16
B19: 2e halfjaar 2021 | C19: 6075 | E19: 5325 | G19: 885 | I19: 17
B20: 1e halfjaar 2022 | C20: 6195 | E20: 5535 | G20: 855 | I20: 15
... B26: 1e halfjaar 2025 | C26: 5015 | E26: 4645 | G26: 620 | I26: 13
A28: Episode met alleen ondertoezichtstelling | B28: 1e halfjaar 2016 | C28: 3800 | E28: 65 | G28: 15 | I28: 22
B29: 2e halfjaar 2016 | C29: 3625 | E29: 355 | G29: 95 | I29: 26
B30: 1e halfjaar 2017 | C30: 3460 | E30: 1220 | G30: 300 | I30: 24
B31: 2e halfjaar 2017 | C31: 3420 | E31: 1615 | G31: 310 | I31: 19
B32: 1e halfjaar 2018 | C32: 3350 | E32: 2205 | G32: 375 | I32: 17
B33: 2e halfjaar 2018 | C33: 3535 | E33: 2555 | G33: 420 | I33: 16
B34: 1e halfjaar 2019 | C34: 3540 | E34: 2875 | G34: 385 | I34: 13
B35: 2e halfjaar 2019 | C35: 3580 | E35: 3035 | G35: 425 | I35: 14
B36: 1e halfjaar 2020 | C36: 3245 | E36: 2915 | G36: 425 | I36: 15
B37: 2e halfjaar 2020 | C37: 3445 | E37: 3105 | G37: 400 | I37: 13
B38: 1e halfjaar 2021 | C38: 3755 | E38: 3470 | G38: 450 | I38: 13
B39: 2e halfjaar 2021 | C39: 3685 | E39: 3495 | G39: 470 | I39: 13
B40: 1e halfjaar 2022 | C40: 4110 | E40: 3955 | G40: 460 | I40: 12
... B46: 1e halfjaar 2025 | C46: 2940 | E46: 2915 | G46: 230 | I46: 8
A48: Episode met alleen voogdij | B48: 1e halfjaar 2016 | C48: 575 | E48: 25 | G48: 10 | I48: 33
B49: 2e halfjaar 2016 | C49: 550 | E49: 40 | G49: 10 | I49: 24
B50: 1e halfjaar 2017 | C50: 565 | E50: 70 | G50: 15 | I50: 22
B51: 2e halfjaar 2017 | C51: 535 | E51: 85 | G51: 15 | I51: 15
B52: 1e halfjaar 2018 | C52: 525 | E52: 105 | G52: 15 | I52: 13
B53: 2e halfjaar 2018 | C53: 475 | E53: 95 | G53: 20 | I53: 19
B54: 1e halfjaar 2019 | C54: 500 | E54: 100 | G54: 15 | I54: 14
B55: 2e halfjaar 2019 | C55: 550 | E55: 120 | G55: 30 | I55: 24
B56: 1e halfjaar 2020 | C56: 470 | E56: 150 | G56: 25 | I56: 17
B57: 2e halfjaar 2020 | C57: 515 | E57: 140 | G57: . | I57: .
B58: 1e halfjaar 2021 | C58: 465 | E58: 115 | G58: 15 | I58: 12
B59: 2e halfjaar 2021 | C59: 425 | E59: 130 | G59: 20 | I59: 14
B60: 1e halfjaar 2022 | C60: 390 | E60: 125 | G60: 10 | I60: 9
B61: 2e halfjaar 2022 | C61: 445 | E61: 145 | G61: 20 | I61: 15
B62: 1e halfjaar 2023 | C62: 395 | E62: 145 | G62: 25 | I62: 16
B63: 2e halfjaar 2023 | C63: 330 | E63: 120 | G63: 15 | I63: 12
B64: 1e halfjaar 2024 | C64: 360 | E64: 145 | G64: 20 | I64: 14
B65: 2e halfjaar 2024 | C65: 335 | E65: 125 | G65: 10 | I65: 7
B66: 1e halfjaar 2025 | C66: 280 | E66: 140 | G66: 25 | I66: 18
A68: Episode met alleen jeugdreclassering | B68: 1e halfjaar 2016 | C68: 1690 | E68: 45 | G68: 20 | I68: 45
B69: 2e halfjaar 2016 | C69: 1785 | E69: 460 | G69: 190 | I69: 41
B70: 1e halfjaar 2017 | C70: 1650 | E70: 635 | G70: 240 | I70: 37
B71: 2e halfjaar 2017 | C71: 1650 | E71: 860 | G71: 330 | I71: 38
B72: 1e halfjaar 2018 | C72: 1565 | E72: 1175 | G72: 450 | I72: 38
B73: 2e halfjaar 2018 | C73: 1510 | E73: 1275 | G73: 440 | I73: 34
B74: 1e halfjaar 2019 | C74: 1450 | E74: 1340 | G74: 440 | I74: 33
B75: 2e halfjaar 2019 | C75: 1385 | E75: 1335 | G75: 445 | I75: 33
B76: 1e halfjaar 2020 | C76: 1320 | E76: 1285 | G76: 395 | I76: 31
B77: 2e halfjaar 2020 | C77: 1525 | E77: 1505 | G77: 465 | I77: 31
B78: 1e halfjaar 2021 | C78: 1400 | E78: 1395 | G78: 395 | I78: 28
B79: 2e halfjaar 2021 | C79: 1360 | E79: 1350 | G79: 385 | I79: 28
B80: 1e halfjaar 2022 | C80: 1150 | E80: 1145 | G80: 380 | I80: 33
... B86: 1e halfjaar 2025 | C86: 1280 | E86: 1280 | G86: 360 | I86: 28
A88: Episode met ondertoezichtstelling en voogdij | B88: 1e halfjaar 2016 | C88: 60 | E88: . | G88: . | I88: .
B89: 2e halfjaar 2016 | C89: 95 | E89: . | G89: . | I89: .
B90: 1e halfjaar 2017 | C90: 115 | E90: 10 | G90: . | I90: .
B91: 2e halfjaar 2017 | C91: 155 | E91: 10 | G91: . | I91: .
B92: 1e halfjaar 2018 | C92: 170 | E92: 35 | G92: . | I92: .
B93: 2e halfjaar 2018 | C93: 230 | E93: 45 | G93: . | I93: .
B94: 1e halfjaar 2019 | C94: 235 | E94: 30 | G94: . | I94: .
B95: 2e halfjaar 2019 | C95: 240 | E95: 50 | G95: . | I95: .
B96: 1e halfjaar 2020 | C96: 230 | E96: 50 | G96: . | I96: .
B97: 2e halfjaar 2020 | C97: 280 | E97: 80 | G97: . | I97: .
B98: 1e halfjaar 2021 | C98: 310 | E98: 95 | G98: . | I98: .
B99: 2e halfjaar 2021 | C99: 280 | E99: 100 | G99: 10 | I99: 9
B100: 1e halfjaar 2022 | C100: 305 | E100: 115 | G100: . | I100: .
B101: 2e halfjaar 2022 | C101: 370 | E101: 170 | G101: . | I101: .
B102: 1e halfjaar 2023 | C102: 295 | E102: 130 | G102: . | I102: .
B103: 2e halfjaar 2023 | C103: 305 | E103: 140 | G103: . | I103: .
B104: 1e halfjaar 2024 | C104: 370 | E104: 185 | G104: . | I104: .
B105: 2e halfjaar 2024 | C105: 285 | E105: 145 | G105: . | I105: .
B106: 1e halfjaar 2025 | C106: 330 | E106: 150 | G106: . | I106: .
A108: Episode met ondertoezichtstelling en jeugdreclassering | B108: 1e halfjaar 2016 | C108: 210 | E108: . | G108: . | I108: .
B109: 2e halfjaar 2016 | C109: 335 | E109: . | G109: . | I109: .
B110: 1e halfjaar 2017 | C110: 325 | E110: 15 | G110: . | I110: .
B111: 2e halfjaar 2017 | C111: 345 | E111: 40 | G111: . | I111: .
B112: 1e halfjaar 2018 | C112: 290 | E112: 75 | G112: 5 | I112: 9
B113: 2e halfjaar 2018 | C113: 285 | E113: 105 | G113: . | I113: .
B114: 1e halfjaar 2019 | C114: 295 | E114: 155 | G114: 5 | I114: 5
B115: 2e halfjaar 2019 | C115: 275 | E115: 165 | G115: 10 | I115: 6
B116: 1e halfjaar 2020 | C116: 245 | E116: 175 | G116: 10 | I116: 5
B117: 2e halfjaar 2020 | C117: 280 | E117: 220 | G117: 10 | I117: 4
B118: 1e halfjaar 2021 | C118: 305 | E118: 260 | G118: . | I118: .
B119: 2e halfjaar 2021 | C119: 275 | E119: 240 | G119: . | I119: .
B120: 1e halfjaar 2022 | C120: 200 | E120: 185 | G120: 5 | I120: 4
B121: 2e halfjaar 2022 | C121: 205 | E121: 190 | G121: . | I121: .
B122: 1e halfjaar 2023 | C122: 225 | E122: 205 | G122: . | I122: .
...

Sheet Tabel 3.1_Voor
A1: Tabel 3.1
A2: Jeugdhulp voorafgaand aan afgesloten aansluitende episodes van jeugdbeschermings- en/of jeugdreclasseringsmaatregelen, 2016-2026
C3: Aantal afgesloten episodes van maatregelen | E3: Aantal afgesloten episodes van maatregelen die starten vanaf 20161 | G3: waarvan2
G4: zonder jeugdhulp in de 12 maanden voorafgaand aan de start van de episode | I4: met één of meerdere jeugdhulptrajecten in de 12 maanden voorafgaand aan de start van de episode die allen geëindigd zijn voor aanvang van de episode | T4: met één of meerdere jeugdhulptrajecten in de 12 maanden voorafgaand aan de start van de episode waarvan er minstens één niet is geëindigd voor aanvang van de episode | AE4: zonder jeugdhulp in de 12 maanden voorafgaand aan de start van de episode | AG4: met één of meerdere jeugdhulptrajecten in de 12 maanden voorafgaand aan de start van de episode die allen geëindigd zijn voor aanvang van de episode | AI4: met één of meerdere jeugdhulptrajecten in de 12 maanden voorafgaand aan de start van de episode waarvan er minstens één niet is geëindigd voor aanvang van de episode
I5: Totaal | J5: waaronder | T5: Totaal | U5: waaronder | AE5: Totaal | AG5: Totaal | AI5: Totaal
J6: jeugdhulp met verblijf | P6: jeugdhulp zonder verblijf | U6: jeugdhulp met verblijf | AA6: jeugdhulp zonder verblijf
J7: totaal | K7: pleegzorg | L7: gezinsgericht | M7: gesloten plaatsing | N7: overig | P7: totaal | Q7: door wijkteam | R7: overig | U7: totaal | V7: pleegzorg | W7: gezinsgericht | X7: gesloten plaatsing | Y7: overig | AA7: totaal | AB7: door wijkteam | AC7: overig
C9: Aantal | AE9: %
A11: Totaal | B11: 1e halfjaar 2016 | C11: 6360 | E11: 140 | G11: 80 | I11: 10 | J11: . | K11: . | L11: . | M11: . | N11: . | P11: 10 | Q11: . | R11: 5 | T11: 50 | U11: 15 | V11: . | W11: . | X11: . | Y11: 10 | AA11: 40 | AB11: 15 | AC11: 35 | AE11: 57 | AG11: 8 | AI11: 35
B12: 2e halfjaar 2016 | C12: 6420 | E12: 860 | G12: 445 | I12: 120 | J12: 25 | K12: 5 | L12: . | M12: . | N12: 15 | P12: 110 | Q12: 15 | R12: 100 | T12: 300 | U12: 100 | V12: 35 | W12: 10 | X12: 10 | Y12: 70 | AA12: 280 | AB12: 85 | AC12: 245 | AE12: 51 | AG12: 14 | AI12: 35
B13: 1e halfjaar 2017 | C13: 6150 | E13: 1955 | G13: 940 | I13: 270 | J13: 40 | K13: 10 | L13: . | M13: . | N13: 30 | P13: 255 | Q13: 35 | R13: 235 | T13: 750 | U13: 260 | V13: 75 | W13: 20 | X13: 20 | Y13: 185 | AA13: 680 | AB13: 230 | AC13: 600 | AE13: 48 | AG13: 14 | AI13: 38
B14: 2e halfjaar 2017 | C14: 6145 | E14: 2615 | G14: 1165 | I14: 385 | J14: 65 | K14: 15 | L14: . | M14: 15 | N14: 40 | P14: 365 | Q14: 55 | R14: 335 | T14: 1070 | U14: 370 | V14: 115 | W14: 35 | X14: 50 | Y14: 245 | AA14: 1000 | AB14: 360 | AC14: 845 | AE14: 44 | AG14: 15 | AI14: 41
B15: 1e halfjaar 2018 | C15: 5935 | E15: 3600 | G15: 1530 | I15: 520 | J15: 85 | K15: 15 | L15: 10 | M15: 15 | N15: 60 | P15: 485 | Q15: 90 | R15: 420 | T15: 1550 | U15: 565 | V15: 185 | W15: 65 | X15: 65 | Y15: 380 | AA15: 1455 | AB15: 520 | AC15: 1265 | AE15: 43 | AG15: 14 | AI15: 43
B16: 2e halfjaar 2018 | C16: 6080 | E16: 4080 | G16: 1650 | I16: 645 | J16: 95 | K16: 15 | L16: 10 | M16: 20 | N16: 60 | P16: 600 | Q16: 95 | R16: 530 | T16: 1785 | U16: 610 | V16: 200 | W16: 55 | X16: 65 | Y16: 405 | AA16: 1660 | AB16: 630 | AC16: 1430 | AE16: 40 | AG16: 16 | AI16: 44
B17: 1e halfjaar 2019 | C17: 6060 | E17: 4500 | G17: 1800 | I17: 725 | J17: 135 | K17: 25 | L17: 10 | M17: 15 | N17: 90 | P17: 670 | Q17: 145 | R17: 565 | T17: 1975 | U17: 675 | V17: 215 | W17: 95 | X17: 65 | Y17: 450 | AA17: 1850 | AB17: 690 | AC17: 1590 | AE17: 40 | AG17: 16 | AI17: 44
B18: 2e halfjaar 2019 | C18: 6075 | E18: 4710 | G18: 1930 | I18: 660 | J18: 110 | K18: 20 | L18: 10 | M18: 10 | N18: 85 | P18: 610 | Q18: 145 | R18: 515 | T18: 2120 | U18: 735 | V18: 245 | W18: 100 | X18: 90 | Y18: 480 | AA18: 2025 | AB18: 785 | AC18: 1755 | AE18: 41 | AG18: 14 | AI18: 45
B19: 1e halfjaar 2020 | C19: 5545 | E19: 4585 | G19: 1805 | I19: 685 | J19: 95 | K19: 25 | L19: 10 | M19: 15 | N19: 65 | P19: 635 | Q19: 145 | R19: 540 | T19: 2095 | U19: 680 | V19: 250 | W19: 90 | X19: 65 | Y19: 410 | AA19: 1960 | AB19: 700 | AC19: 1730 | AE19: 39 | AG19: 15 | AI19: 46
B20: 2e halfjaar 2020 | C20: 6100 | E20: 5055 | G20: 2005 | I20: 735 | J20: 105 | K20: 20 | L20: 10 | M20: 15 | N20: 70 | P20: 685 | Q20: 165 | R20: 570 | T20: 2315 | U20: 780 | V20: 245 | W20: 95 | X20: 100 | Y20: 510 | AA20: 2175 | AB20: 770 | AC20: 1885 | AE20: 40 | AG20: 15 | AI20: 46
B21: 1e halfjaar 2021 | C21: 6280 | E21: 5350 | G21: 2095 | I21: 780 | J21: 120 | K21: 30 | L21: 15 | M21: 15 | N21: 80 | P21: 730 | Q21: 180 | R21: 610 | T21: 2475 | U21: 775 | V21: 275 | W21: 100 | X21: 80 | Y21: 470 | AA21: 2325 | AB21: 840 | AC21: 2035 | AE21: 39 | AG21: 15 | AI21: 46
B22: 2e halfjaar 2021 | C22: 6075 | E22: 5325 | G22: 2140 | I22: 725 | J22: 110 | K22: 20 | L22: . | M22: 20 | N22: 80 | P22: 680 | Q22: 170 | R22: 565 | T22: 2460 | U22: 750 | V22: 265 | W22: 100 | X22: 80 | Y22: 455 | AA22: 2315 | AB22: 825 | AC22: 2055 | AE22: 40 | AG22: 14 | AI22: 46
B23: 1e halfjaar 2022 | C23: 6195 | E23: 5535 | G23: 2235 | I23: 755 | J23: 100 | K23: 25 | L23: 10 | M23: 15 | N23: 65 | P23: 705 | Q23: 150 | R23: 600 | T23: 2545 | U23: 725 | V23: 265 | W23: 85 | X23: 80 | Y23: 435 | AA23: 2375 | AB23: 785 | AC23: 2070 | AE23: 40 | AG23: 14 | AI23: 46
B24: 2e halfjaar 2022 | C24: 6260 | E24: 5590 | G24: 2185 | I24: 760 | J24: 110 | K24: 20 | L24: 10 | M24: 10 | N24: 75 | P24: 700 | Q24: 135 | R24: 610 | T24: 2650 | U24: 855 | V24: 320 | W24: 130 | X24: 80 | Y24: 515 | AA24: 2475 | AB24: 845 | AC24: 2195 | AE24: 39 | AG24: 14 | AI24: 47
B25: 1e halfjaar 2023 | C25: 5800 | E25: 5250 | G25: 1985 | I25: 750 | J25: 100 | K25: 15 | L25: . | M25: 5 | N25: 75 | P25: 700 | Q25: 140 | R25: 600 | T25: 2515 | U25: 780 | V25: 300 | W25: 105 | X25: 75 | Y25: 460 | AA25: 2350 | AB25: 750 | AC25: 2110 | AE25: 38 | AG25: 14 | AI25: 48
B26: 2e halfjaar 2023 | C26: 5385 | E26: 4935 | G26: 1895 | I26: 720 | J26: 80 | K26: 20 | L26: 15 | M26: 10 | N26: 45 | P26: 680 | Q26: 150 | R26: 580 | T26: 2320 | U26: 705 | V26: 250 | W26: 115 | X26: 75 | Y26: 410 | AA26: 2170 | AB26: 715 | AC26: 1945 | AE26: 38 | AG26: 15 | AI26: 47
B27: 1e halfjaar 2024 | C27: 5425 | E27: 4935 | G27: 1855 | I27: 660 | J27: 85 | K27: 30 | L27: 10 | M27: 10 | N27: 45 | P27: 615 | Q27: 125 | R27: 525 | T27: 2420 | U27: 775 | V27: 320 | W27: 100 | X27: 60 | Y27: 455 | AA27: 2250 | AB27: 735 | AC27: 1995 | AE27: 38 | AG27: 13 | AI27: 49
B28: 2e halfjaar 2024 | C28: 5215 | E28: 4790 | G28: 1860 | I28: 615 | J28: 75 | K28: 20 | L28: 10 | M28: . | N28: 45 | P28: 570 | Q28: 115 | R28: 495 | T28: 2315 | U28: 735 | V28: 280 | W28: 105 | X28: 80 | Y28: 415 | AA28: 2160 | AB28: 700 | AC28: 1935 | AE28: 39 | AG28: 13 | AI28: 48
B29: 1e halfjaar 2025 | C29: 5015 | E29: 4645 | G29: 1780 | I29: 610 | J29: 70 | K29: 15 | L29: . | M29: . | N29: 50 | P29: 570 | Q29: 120 | R29: 485 | T29: 2260 | U29: 715 | V29: 265 | W29: 115 | X29: 60 | Y29: 430 | AA29: 2120 | AB29: 695 | AC29: 1880 | AE29: 38 | AG29: 13 | AI29: 49
B30: 2e halfjaar 2025 | C30: 5205 | E30: 4835 | G30: 1890 | I30: 620 | J30: 65 | K30: 10 | L30: . | M30: . | N30: 50 | P30: 585 | Q30: 115 | R30: 505 | T30: 2325 | U30: 715 | V30: 235 | W30: 120 | X30: 55 | Y30: 455 | AA30: 2185 | AB30: 695 | AC30: 1945 | AE30: 39 | AG30: 13 | AI30: 48
B31: 1e halfjaar 2026 | C31: 4735 | E31: 4440 | G31: 1750 | I31: 605 | J31: 65 | K31: 10 | L31: . | M31: . | N31: 50 | P31: 565 | Q31: 105 | R31: 495 | T31: 2085 | U31: 685 | V31: 240 | W31: 90 | X31: 50 | Y31: 440 | AA31: 1965 | AB31: 640 | AC31: 1770 | AE31: 39 | AG31: 14 | AI31: 47
A33: Episode met alleen ondertoezichtstelling | B33: 1e halfjaar 2016 | C33: 3800 | E33: 65 | G33: 40 | I33: . | J33: . | K33: . | L33: . | M33: . | N33: . | P33: . | Q33: . | R33: . | T33: 25 | U33: 10 | V33: . | W33: . | X33: . | Y33: . | AA33: 20 | AB33: 5 | AC33: 15 | AE33: 57 | AG33: . | AI33: 36
B34: 2e halfjaar 2016 | C34: 3625 | E34: 355 | G34: 160 | I34: 50 | J34: 10 | K34: . | L34: . | M34: . | N34: . | P34: 50 | Q34: 10 | R34: 40 | T34: 145 | U34: 60 | V34: 25 | W34: . | X34: . | Y34: 40 | AA34: 130 | AB34: 50 | AC34: 110 | AE34: 45 | AG34: 15 | AI34: 41
B35: 1e halfjaar 2017 | C35: 3460 | E35: 1220 | G35: 575 | I35: 180 | J35: 20 | K35: 5 | L35: . | M35: . | N35: 10 | P35: 170 | Q35: 25 | R35: 155 | T35: 470 | U35: 160 | V35: 55 | W35: 15 | X35: 5 | Y35: 110 | AA35: 425 | AB35: 150 | AC35: 370 | AE35: 47 | AG35: 15 | AI35: 38
B36: 2e halfjaar 2017 | C36: 3420 | E36: 1615 | G36: 670 | I36: 235 | J36: 35 | K36: 5 | L36: . | M36: . | N36: 25 | P36: 225 | Q36: 30 | R36: 210 | T36: 710 | U36: 255 | V36: 85 | W36: 25 | X36: 30 | Y36: 160 | AA36: 665 | AB36: 250 | AC36: 560 | AE36: 41 | AG36: 15 | AI36: 44
B37: 1e halfjaar 2018 | C37: 3350 | E37: 2205 | G37: 835 | I37: 315 | J37: 35 | K37: . | L37: . | M37: . | N37: 25 | P37: 305 | Q37: 55 | R37: 265 | T37: 1050 | U37: 375 | V37: 120 | W37: 35 | X37: 40 | Y37: 255 | AA37: 1000 | AB37: 385 | AC37: 870 | AE37: 38 | AG37: 14 | AI37: 48
B38: 2e halfjaar 2018 | C38: 3535 | E38: 2555 | G38: 940 | I38: 385 | J38: 50 | K38: 15 | L38: . | M38: . | N38: 30 | P38: 365 | Q38: 50 | R38: 330 | T38: 1230 | U38: 410 | V38: 150 | W38: 35 | X38: 45 | Y38: 265 | AA38: 1145 | AB38: 460 | AC38: 970 | AE38: 37 | AG38: 15 | AI38: 48
B39: 1e halfjaar 2019 | C39: 3540 | E39: 2875 | G39: 1055 | I39: 425 | J39: 70 | K39: 20 | L39: 5 | M39: . | N39: 45 | P39: 400 | Q39: 85 | R39: 335 | T39: 1390 | U39: 470 | V39: 170 | W39: 70 | X39: 35 | Y39: 295 | AA39: 1310 | AB39: 510 | AC39: 1120 | AE39: 37 | AG39: 15 | AI39: 48
B40: 2e halfjaar 2019 | C40: 3580 | E40: 3035 | G40: 1145 | I40: 455 | J40: 65 | K40: 15 | L40: 10 | M40: . | N40: 50 | P40: 425 | Q40: 95 | R40: 370 | T40: 1440 | U40: 485 | V40: 180 | W40: 60 | X40: 50 | Y40: 305 | AA40: 1380 | AB40: 555 | AC40: 1190 | AE40: 38 | AG40: 15 | AI40: 47
B41: 1e halfjaar 2020 | C41: 3245 | E41: 2915 | G41: 1075 | I41: 420 | J41: 45 | K41: 20 | L41: . | M41: . | N41: 30 | P41: 400 | Q41: 85 | R41: 345 | T41: 1420 | U41: 440 | V41: 170 | W41: 65 | X41: 35 | Y41: 255 | AA41: 1340 | AB41: 495 | AC41: 1190 | AE41: 37 | AG41: 14 | AI41: 49
B42: 2e halfjaar 2020 | C42: 3445 | E42: 3105 | G42: 1140 | I42: 445 | J42: 35 | K42: 15 | L42: . | M42: . | N42: 25 | P42: 420 | Q42: 90 | R42: 360 | T42: 1520 | U42: 465 | V42: 160 | W42: 60 | X42: 50 | Y42: 290 | AA42: 1435 | AB42: 510 | AC42: 1250 | AE42: 37 | AG42: 14 | AI42: 49
B43: 1e halfjaar 2021 | C43: 3755 | E43: 3470 | G43: 1270 | I43: 515 | J43: 60 | K43: 25 | L43: 5 | M43: . | N43: 35 | P43: 490 | Q43: 115 | R43: 410 | T43: 1685 | U43: 500 | V43: 200 | W43: 65 | X43: 35 | Y43: 285 | AA43: 1595 | AB43: 560 | AC43: 1405 | AE43: 37 | AG43: 15 | AI43: 49
B44: 2e halfjaar 2021 | C44: 3685 | E44: 3495 | G44: 1360 | I44: 430 | J44: 45 | K44: 10 | L44: . | M44: . | N44: 30 | P44: 410 | Q44: 105 | R44: 345 | T44: 1700 | U44: 460 | V44: 180 | W44: 60 | X44: 40 | Y44: 270 | AA44: 1615 | AB44: 580 | AC44: 1435 | AE44: 39 | AG44: 12 | AI44: 49
B45: 1e halfjaar 2022 | C45: 4110 | E45: 3955 | G45: 1485 | I45: 535 | J45: 50 | K45: 20 | L45: . | M45: . | N45: 35 | P45: 510 | Q45: 105 | R45: 435 | T45: 1935 | U45: 490 | V45: 185 | W45: 60 | X45: 40 | Y45: 290 | AA45: 1845 | AB45: 605 | AC45: 1605 | AE45: 38 | AG45: 14 | AI45: 49
B46: 2e halfjaar 2022 | C46: 3890 | E46: 3775 | G46: 1380 | I46: 505 | J46: 55 | K46: 15 | L46: . | M46: . | N46: 35 | P46: 475 | Q46: 85 | R46: 415 | T46: 1890 | U46: 560 | V46: 220 | W46: 95 | X46: 35 | Y46: 330 | AA46: 1790 | AB46: 600 | AC46: 1585 | AE46: 37 | AG46: 13 | AI46: 50
B47: 1e halfjaar 2023 | C47: 3630 | E47: 3540 | G47: 1265 | I47: 495 | J47: 40 | K47: . | L47: . | M47: . | N47: 25 | P47: 475 | Q47: 80 | R47: 415 | T47: 1780 | U47: 500 | V47: 200 | W47: 75 | X47: 30 | Y47: 295 | AA47: 1695 | AB47: 530 | AC47: 1525 | AE47: 36 | AG47: 14 | AI47: 50
B48: 2e halfjaar 2023 | C48: 3400 | E48: 3345 | G48: 1205 | I48: 490 | J48: 45 | K48: 15 | L48: 10 | M48: . | N48: 20 | P48: 470 | Q48: 100 | R48: 400 | T48: 1650 | U48: 455 | V48: 165 | W48: 80 | X48: 40 | Y48: 255 | AA48: 1565 | AB48: 525 | AC48: 1385 | AE48: 36 | AG48: 15 | AI48: 49
B49: 1e halfjaar 2024 | C49: 3295 | E49: 3240 | G49: 1115 | I49: 435 | J49: 45 | K49: 25 | L49: . | M49: . | N49: 15 | P49: 410 | Q49: 75 | R49: 360 | T49: 1690 | U49: 490 | V49: 205 | W49: 65 | X49: 25 | Y49: 290 | AA49: 1580 | AB49: 505 | AC49: 1410 | AE49: 34 | AG49: 13 | AI49: 52
B50: 2e halfjaar 2024 | C50: 3060 | E50: 3025 | G50: 1090 | I50: 380 | J50: 40 | K50: 15 | L50: 10 | M50: . | N50: 15 | P50: 355 | Q50: 55 | R50: 320 | T50: 1555 | U50: 450 | V50: 185 | W50: 65 | X50: 35 | Y50: 245 | AA50: 1460 | AB50: 490 | AC50: 1300 | AE50: 36 | AG50: 13 | AI50: 51
B51: 1e halfjaar 2025 | C51: 2940 | E51: 2915 | G51: 995 | I51: 385 | J51: 35 | K51: 10 | L51: . | M51: . | N51: 20 | P51: 365 | Q51: 70 | R51: 320 | T51: 1535 | U51: 425 | V51: 160 | W51: 65 | X51: 20 | Y51: 265 | AA51: 1455 | AB51: 495 | AC51: 1280 | AE51: 34 | AG51: 13 | AI51: 53
B52: 2e halfjaar 2025 | C52: 2995 | E52: 2970 | G52: 1045 | I52: 400 | J52: 30 | K52: 5 | L52: . | M52: . | N52: 25 | P52: 385 | Q52: 70 | R52: 335 | T52: 1530 | U52: 425 | V52: 140 | W52: 75 | X52: 25 | Y52: 265 | AA52: 1455 | AB52: 465 | AC52: 1305 | AE52: 35 | AG52: 13 | AI52: 51
B53: 1e halfjaar 2026 | C53: 2715 | E53: 2690 | G53: 970 | I53: 385 | J53: 30 | K53: 10 | L53: . | M53: . | N53: 20 | P53: 370 | Q53: 65 | R53: 325 | T53: 1330 | U53: 375 | V53: 140 | W53: 45 | X53: 20 | Y53: 235 | AA53: 1265 | AB53: 435 | AC53: 1135 | AE53: 36 | AG53: 14 | AI53: 50
A55: Episode met alleen voogdij | B55: 1e halfjaar 2016 | C55: 575 | E55: 25 | G55: 15 | I55: . | J55: . | K55: . | L55: . | M55: . | N55: . | P55: . | Q55: . | R55: . | T55: . | U55: . | V55: . | W55: . | X55: . | Y55: . | AA55: . | AB55: . | AC55: . | AE55: 63 | AG55: . | AI55: .
B56: 2e halfjaar 2016 | C56: 550 | E56: 40 | G56: 30 | I56: . | J56: . | K56: . | L56: . | M56: . | N56: . | P56: . | Q56: . | R56: . | T56: 10 | U56: 10 | V56: . | W56: . | X56: . | Y56: . | AA56: 5 | AB56: . | AC56: 5 | AE56: 74 | AG56: . | AI56: 26
B57: 1e halfjaar 2017 | C57: 565 | E57: 70 | G57: 40 | I57: . | J57: . | K57: . | L57: . | M57: . | N57: . | P57: . | Q57: . | R57: . | T57: 25 | U57: 20 | V57: 10 | W57: . | X57: . | Y57: 10 | AA57: 15 | AB57: . | AC57: 15 | AE57: 58 | AG57: . | AI57: 36
B58: 2e halfjaar 2017 | C58: 535 | E58: 85 | G58: 40 | I58: . | J58: . | K58: . | L58: . | M58: . | N58: . | P58: . | Q58: . | R58: . | T58: 40 | U58: 35 | V58: 20 | W58: . | X58: . | Y58: 20 | AA58: 25 | AB58: . | AC58: 20 | AE58: 49 | AG58: . | AI58: 45
B59: 1e halfjaar 2018 | C59: 525 | E59: 105 | G59: 45 | I59: . | J59: . | K59: . | L59: . | M59: . | N59: . | P59: . | Q59: . | R59: . | T59: 55 | U59: 45 | V59: 35 | W59: 10 | X59: . | Y59: 15 | AA59: 35 | AB59: 10 | AC59: 30 | AE59: 42 | AG59: . | AI59: 53
B60: 2e halfjaar 2018 | C60: 475 | E60: 95 | G60: 50 | I60: 5 | J60: . | K60: . | L60: . | M60: . | N60: . | P60: . | Q60: . | R60: . | T60: 40 | U60: 30 | V60: 20 | W60: . | X60: . | Y60: 10 | AA60: 20 | AB60: 10 | AC60: 20 | AE60: 52 | AG60: 7 | AI60: 40
B61: 1e halfjaar 2019 | C61: 500 | E61: 100 | G61: 50 | I61: . | J61: . | K61: . | L61: . | M61: . | N61: . | P61: . | Q61: . | R61: . | T61: 45 | U61: 40 | V61: 20 | W61: . | X61: . | Y61: 20 | AA61: 25 | AB61: 10 | AC61: 20 | AE61: 49 | AG61: . | AI61: 45
B62: 2e halfjaar 2019 | C62: 550 | E62: 120 | G62: 70 | I62: 10 | J62: . | K62: . | L62: . | M62: . | N62: . | P62: . | Q62: . | R62: . | T62: 45 | U62: 35 | V62: 25 | W62: 10 | X62: . | Y62: 10 | AA62: 30 | AB62: 5 | AC62: 25 | AE62: 57 | AG62: 7 | AI62: 35
B63: 1e halfjaar 2020 | C63: 470 | E63: 150 | G63: 70 | I63: . | J63: . | K63: . | L63: . | M63: . | N63: . | P63: . | Q63: . | R63: . | T63: 75 | U63: 65 | V63: 45 | W63: 5 | X63: . | Y63: 25 | AA63: 40 | AB63: 15 | AC63: 35 | AE63: 47 | AG63: . | AI63: 49
B64: 2e halfjaar 2020 | C64: 515 | E64: 140 | G64: 65 | I64: 10 | J64: . | K64: . | L64: . | M64: . | N64: . | P64: 10 | Q64: . | R64: 5 | T64: 60 | U64: 55 | V64: 40 | W64: . | X64: . | Y64: 20 | AA64: 45 | AB64: 15 | AC64: 35 | AE64: 48 | AG64: 9 | AI64: 43
B65: 1e halfjaar 2021 | C65: 465 | E65: 115 | G65: 60 | I65: . | J65: . | K65: . | L65: . | M65: . | N65: . | P65: . | Q65: . | R65: . | T65: 50 | U65: 40 | V65: 20 | W65: 10 | X65: . | Y65: 15 | AA65: 35 | AB65: 5 | AC65: 30 | AE65: 53 | AG65: . | AI65: 45
B66: 2e halfjaar 2021 | C66: 425 | E66: 130 | G66: 60 | I66: . | J66: . | K66: . | L66: . | M66: . | N66: . | P66: . | Q66: . | R66: . | T66: 65 | U66: 50 | V66: 30 | W66: 10 | X66: . | Y66: 15 | AA66: 45 | AB66: 15 | AC66: 40 | AE66: 48 | AG66: . | AI66: 50
B67: 1e halfjaar 2022 | C67: 390 | E67: 125 | G67: 55 | I67: 10 | J67: . | K67: . | L67: . | M67: . | N67: . | P67: 5 | Q67: . | R67: . | T67: 60 | U67: 40 | V67: 30 | W67: . | X67: . | Y67: 10 | AA67: 35 | AB67: 15 | AC67: 25 | AE67: 45 | AG67: 7 | AI67: 48
B68: 2e halfjaar 2022 | C68: 445 | E68: 145 | G68: 75 | I68: 5 | J68: . | K68: . | L68: . | M68: . | N68: . | P68: . | Q68: . | R68: . | T68: 60 | U68: 50 | V68: 30 | W68: 10 | X68: . | Y68: 20 | AA68: 40 | AB68: 10 | AC68: 40 | AE68: 53 | AG68: 5 | AI68: 42
B69: 1e halfjaar 2023 | C69: 395 | E69: 145 | G69: 65 | I69: . | J69: . | K69: . | L69: . | M69: . | N69: . | P69: . | Q69: . | R69: . | T69: 75 | U69: 55 | V69: 35 | W69: . | X69: . | Y69: 20 | AA69: 50 | AB69: 15 | AC69: 40 | AE69: 45 | AG69: . | AI69: 51
B70: 2e halfjaar 2023 | C70: 330 | E70: 120 | G70: 60 | I70: . | J70: . | K70: . | L70: . | M70: . | N70: . | P70: . | Q70: . | R70: . | T70: 55 | U70: 40 | V70: 30 | W70: . | X70: . | Y70: 15 | AA70: 35 | AB70: 10 | AC70: 30 | AE70: 51 | AG70: . | AI70: 45
B71: 1e halfjaar 2024 | C71: 360 | E71: 145 | G71: 60 | I71: 5 | J71: . | K71: . | L71: . | M71: . | N71: . | P71: . | Q71: . | R71: . | T71: 75 | U71: 55 | V71: 45 | W71: 10 | X71: . | Y71: 15 | AA71: 60 | AB71: 20 | AC71: 50 | AE71: 41 | AG71: 5 | AI71: 54
B72: 2e halfjaar 2024 | C72: 335 | E72: 125 | G72: 55 | I72: 10 | J72: . | K72: . | L72: . | M72: . | N72: . | P72: 5 | Q72: . | R72: . | T72: 55 | U72: 50 | V72: 35 | W72: 10 | X72: . | Y72: 20 | AA72: 35 | AB72: 15 | AC72: 30 | AE72: 46 | AG72: 7 | AI72: 46
B73: 1e halfjaar 2025 | C73: 280 | E73: 140 | G73: 65 | I73: . | J73: . | K73: . | L73: . | M73: . | N73: . | P73: . | Q73: . | R73: . | T73: 75 | U73: 55 | V73: 40 | W73: 15 | X73: . | Y73: 15 | AA73: 55 | AB73: 15 | AC73: 45 | AE73: 45 | AG73: . | AI73: 52
B74: 2e halfjaar 2025 | C74: 305 | E74: 140 | G74: 75 | I74: 10 | J74: . | K74: . | L74: . | M74: . | N74: . | P74: . | Q74: . | R74: . | T74: 55 | U74: 40 | V74: 30 | W74: 10 | X74: . | Y74: 10 | AA74: 40 | AB74: 10 | AC74: 35 | AE74: 54 | AG74: 7 | AI74: 40
B75: 1e halfjaar 2026 | C75: 230 | E75: 115 | G75: 50 | I75: . | J75: . | K75: . | L75: . | M75: . | N75: . | P75: . | Q75: . | R75: . | T75: 65 | U75: 50 | V75: 35 | W75: 10 | X75: . | Y75: 20 | AA75: 45 | AB75: 15 | AC75: 35 | AE75: 43 | AG75: . | AI75: 55
A77: Episode met alleen jeugdreclassering | B77: 1e halfjaar 2016 | C77: 1690 | E77: 45 | G77: 25 | I77: . | J77: . | K77: . | L77: . | M77: . | N77: . | P77: . | Q77: . | R77: . | T77: 20 | U77: . | V77: . | W77: . | X77: . | Y77: . | AA77: 20 | AB77: . | AC77: 15 | AE77: 53 | AG77: . | AI77: 40
B78: 2e halfjaar 2016 | C78: 1785 | E78: 460 | G78: 255 | I78: 65 | J78: 15 | K78: . | L78: . | M78: . | N78: 10 | P78: 60 | Q78: . | R78: 60 | T78: 140 | U78: 30 | V78: . | W78: . | X78: . | Y78: 25 | AA78: 135 | AB78: 35 | AC78: 125 | AE78: 55 | AG78: 15 | AI78: 30
B79: 1e halfjaar 2017 | C79: 1650 | E79: 635 | G79: 315 | I79: 80 | J79: 20 | K79: . | L79: . | M79: . | N79: 15 | P79: 80 | Q79: 10 | R79: 75 | T79: 240 | U79: 65 | V79: 5 | W79: . | X79: 10 | Y79: 55 | AA79: 230 | AB79: 75 | AC79: 200 | AE79: 50 | AG79: 13 | AI79: 37
B80: 2e halfjaar 2017 | C80: 1650 | E80: 860 | G80: 440 | I80: 130 | J80: 25 | K80: . | L80: . | M80: 10 | N80: 15 | P80: 125 | Q80: 20 | R80: 115 | T80: 290 | U80: 75 | V80: 10 | W80: . | X80: 15 | Y80: 55 | AA80: 280 | AB80: 95 | AC80: 240 | AE80: 51 | AG80: 15 | AI80: 34
B81: 1e halfjaar 2018 | C81: 1565 | E81: 1175 | G81: 610 | I81: 185 | J81: 40 | K81: . | L81: . | M81: 10 | N81: 30 | P81: 165 | Q81: 30 | R81: 145 | T81: 380 | U81: 115 | V81: 20 | W81: 15 | X81: 20 | Y81: 90 | AA81: 360 | AB81: 100 | AC81: 320 | AE81: 52 | AG81: 16 | AI81: 32
B82: 2e halfjaar 2018 | C82: 1510 | E82: 1275 | G82: 630 | I82: 225 | J82: 40 | K82: . | L82: . | M82: 15 | N82: 25 | P82: 205 | Q82: 40 | R82: 175 | T82: 425 | U82: 120 | V82: 15 | W82: 10 | X82: 10 | Y82: 100 | AA82: 415 | AB82: 135 | AC82: 370 | AE82: 49 | AG82: 18 | AI82: 33
B83: 1e halfjaar 2019 | C83: 1450 | E83: 1340 | G83: 645 | I83: 255 | J83: 50 | K83: . | L83: . | M83: 15 | N83: 35 | P83: 235 | Q83: 55 | R83: 200 | T83: 440 | U83: 120 | V83: 15 | W83: 15 | X83: 25 | Y83: 95 | AA83: 420 | AB83: 145 | AC83: 360 | AE83: 48 | AG83: 19 | AI83: 33
B84: 2e halfjaar 2019 | C84: 1385 | E84: 1335 | G84: 670 | I84: 170 | J84: 35 | K84: . | L84: . | M84: 10 | N84: 25 | P84: 155 | Q84: 45 | R84: 120 | T84: 495 | U84: 130 | V84: 20 | W84: 15 | X84: 25 | Y84: 105 | AA84: 485 | AB84: 165 | AC84: 425 | AE84: 50 | AG84: 13 | AI84: 37
B85: 1e halfjaar 2020 | C85: 1320 | E85: 1285 | G85: 605 | I85: 210 | J85: 40 | K85: . | L85: . | M85: 10 | N85: 30 | P85: 190 | Q85: 50 | R85: 155 | T85: 465 | U85: 120 | V85: 20 | W85: 15 | X85: 25 | Y85: 90 | AA85: 450 | AB85: 145 | AC85: 400 | AE85: 47 | AG85: 16 | AI85: 36
B86: 2e halfjaar 2020 | C86: 1525 | E86: 1505 | G86: 725 | I86: 235 | J86: 55 | K86: . | L86: . | M86: 15 | N86: 40 | P86: 220 | Q86: 65 | R86: 175 | T86: 545 | U86: 155 | V86: 15 | W86: 25 | X86: 40 | Y86: 120 | AA86: 520 | AB86: 175 | AC86: 455 | AE86: 48 | AG86: 16 | AI86: 36
B87: 1e halfjaar 2021 | C87: 1400 | E87: 1395 | G87: 670 | I87: 215 | J87: 40 | K87: . | L87: . | M87: 10 | N87: 30 | P87: 200 | Q87: 50 | R87: 165 | T87: 505 | U87: 120 | V87: 15 | W87: 15 | X87: 25 | Y87: 90 | AA87: 490 | AB87: 185 | AC87: 415 | AE87: 48 | AG87: 15 | AI87: 36
B88: 2e halfjaar 2021 | C88: 1360 | E88: 1350 | G88: 630 | I88: 240 | J88: 45 | K88: . | L88: . | M88: 10 | N88: 40 | P88: 225 | Q88: 60 | R88: 190 | T88: 480 | U88: 125 | V88: 15 | W88: 15 | X88: 20 | Y88: 90 | AA88: 460 | AB88: 155 | AC88: 405 | AE88: 47 | AG88: 18 | AI88: 35
B89: 1e halfjaar 2022 | C89: 1150 | E89: 1145 | G89: 605 | I89: 175 | J89: 35 | K89: . | L89: . | M89: 10 | N89: 25 | P89: 155 | Q89: 40 | R89: 130 | T89: 370 | U89: 105 | V89: 15 | W89: 15 | X89: 25 | Y89: 75 | AA89: 340 | AB89: 105 | AC89: 300 | AE89: 53 | AG89: 15 | AI89: 32
B90: 2e halfjaar 2022 | C90: 1305 | E90: 1300 | G90: 620 | I90: 210 | J90: 40 | K90: . | L90: . | M90: . | N90: 30 | P90: 190 | Q90: 45 | R90: 160 | T90: 475 | U90: 130 | V90: 20 | W90: 10 | X90: 40 | Y90: 100 | AA90: 445 | AB90: 150 | AC90: 390 | AE90: 48 | AG90: 16 | AI90: 36
B91: 1e halfjaar 2023 | C91: 1220 | E91: 1215 | G91: 585 | I91: 200 | J91: 40 | K91: . | L91: . | M91: . | N91: 35 | P91: 185 | Q91: 50 | R91: 145 | T91: 430 | U91: 115 | V91: 20 | W91: 10 | X91: 30 | Y91: 85 | AA91: 400 | AB91: 115 | AC91: 350 | AE91: 48 | AG91: 17 | AI91: 35
B92: 2e halfjaar 2023 | C92: 1125 | E92: 1125 | G92: 540 | I92: 190 | J92: 30 | K92: . | L92: . | M92: 10 | N92: 20 | P92: 175 | Q92: 45 | R92: 145 | T92: 395 | U92: 100 | V92: 10 | W92: 15 | X92: 20 | Y92: 80 | AA92: 375 | AB92: 110 | AC92: 345 | AE92: 48 | AG92: 17 | AI92: 35
B93: 1e halfjaar 2024 | C93: 1170 | E93: 1170 | G93: 585 | I93: 160 | J93: 25 | K93: . | L93: . | M93: 5 | N93: 15 | P93: 150 | Q93: 35 | R93: 120 | T93: 425 | U93: 105 | V93: 15 | W93: 10 | X93: 20 | Y93: 80 | AA93: 410 | AB93: 125 | AC93: 360 | AE93: 50 | AG93: 14 | AI93: 36
B94: 2e halfjaar 2024 | C94: 1290 | E94: 1290 | G94: 630 | I94: 180 | J94: 25 | K94: . | L94: . | M94: . | N94: 20 | P94: 170 | Q94: 45 | R94: 135 | T94: 475 | U94: 120 | V94: 15 | W94: 10 | X94: 30 | Y94: 90 | AA94: 460 | AB94: 130 | AC94: 415 | AE94: 49 | AG94: 14 | AI94: 37
B95: 1e halfjaar 2025 | C95: 1280 | E95: 1280 | G95: 635 | I95: 175 | J95: 25 | K95: . | L95: . | M95: . | N95: 20 | P95: 165 | Q95: 40 | R95: 130 | T95: 465 | U95: 130 | V95: 20 | W95: 15 | X95: 20 | Y95: 100 | AA95: 445 | AB95: 130 | AC95: 410 | AE95: 50 | AG95: 14 | AI95: 36
B96: 2e halfjaar 2025 | C96: 1360 | E96: 1355 | G96: 690 | I96: 180 | J96: 25 | K96: . | L96: . | M96: . | N96: 20 | P96: 165 | Q96: 40 | R96: 135 | T96: 490 | U96: 130 | V96: 15 | W96: 15 | X96: 25 | Y96: 105 | AA96: 465 | AB96: 145 | AC96: 405 | AE96: 51 | AG96: 13 | AI96: 36
B97: 1e halfjaar 2026 | C97: 1280 | E97: 1280 | G97: 645 | I97: 170 | J97: 25 | K97: . | L97: . | M97: . | N97: 20 | P97: 155 | Q97: 35 | R97: 130 | T97: 465 | U97: 135 | V97: 20 | W97: 15 | X97: 20 | Y97: 100 | AA97: 440 | AB97: 120 | AC97: 405 | AE97: 50 | AG97: 13 | AI97: 36
A99: Episode met ondertoezichtstelling en voogdij | B99: 1e halfjaar 2016 | C99: 60 | E99: . | G99: . | I99: . | J99: . | K99: . | L99: . | M99: . | N99: . | P99: . | Q99: . | R99: . | T99: . | U99: . | V99: . | W99: . | X99: . | Y99: . | AA99: . | AB99: . | AC99: . | AE99: . | AG99: . | AI99: .
B100: 2e halfjaar 2016 | C100: 95 | E100: . | G100: . | I100: . | J100: . | K100: . | L100: . | M100: . | N100: . | P100: . | Q100: . | R100: . | T100: . | U100: . | V100: . | W100: . | X100: . | Y100: . | AA100: . | AB100: . | AC100: . | AE100: . | AG100: . | AI100: .
B101: 1e halfjaar 2017 | C101: 115 | E101: 10 | G101: . | I101: . | J101: . | K101: . | L101: . | M101: . | N101: . | P101: . | Q101: . | R101: . | T101: 5 | U101: . | V101: . | W101: . | X101: . | Y101: . | AA101: . | AB101: . | AC101: . | AE101: . | AG101: . | AI101: 58
B102: 2e halfjaar 2017 | C102: 155 | E102: 10 | G102: . | I102: . | J102: . | K102: . | L102: . | M102: . | N102: . | P102: . | Q102: . | R102: . | T102: . | U102: . | V102: . | W102: . | X102: . | Y102: . | AA102: . | AB102: . | AC102: . | AE102: . | AG102: . | AI102: .
B103: 1e halfjaar 2018 | C103: 170 | E103: 35 | G103: 20 | I103: . | J103: . | K103: . | L103: . | M103: . | N103: . | P103: . | Q103: . | R103: . | T103: 15 | U103: 10 | V103: 5 | W103: . | X103: . | Y103: . | AA103: 10 | AB103: . | AC103: . | AE103: 56 | AG103: . | AI103: 38
B104: 2e halfjaar 2018 | C104: 230 | E104: 45 | G104: 15 | I104: . | J104: . | K104: . | L104: . | M104: . | N104: . | P104: . | Q104: . | R104: . | T104: 25 | U104: 20 | V104: 10 | W104: . | X104: . | Y104: 10 | AA104: 15 | AB104: . | AC104: 15 | AE104: 39 | AG104: . | AI104: 52
B105: 1e halfjaar 2019 | C105: 235 | E105: 30 | G105: 15 | I105: . | J105: . | K105: . | L105: . | M105: . | N105: . | P105: . | Q105: . | R105: . | T105: 10 | U105: 5 | V105: . | W105: . | X105: . | Y105: . | AA105: 10 | AB105: . | AC105: 10 | AE105: 43 | AG105: . | AI105: 37
B106: 2e halfjaar 2019 | C106: 240 | E106: 50 | G106: 20 | I106: . | J106: . | K106: . | L106: . | M106: . | N106: . | P106: . | Q106: . | R106: . | T106: 25 | U106: 25 | V106: 15 | W106: . | X106: . | Y106: 10 | AA106: 20 | AB106: 10 | AC106: 15 | AE106: 40 | AG106: . | AI106: 52
...

Sheet Tabel 3.2_Tijdens
A1: Tabel 3.2
A2: Jeugdhulp tijdens afgesloten aansluitende episodes van jeugdbeschermings- en/of jeugdreclasseringsmaatregelen, 2015-2026
C3: Aantal afgesloten episodes van maatregelen | E3: Totaal aantal afgesloten episodes van maatregelen die starten vanaf 20151 | O3: waaronder
E4: Totaal | G4: waarvan duur van de episode | O4: met jeugdhulp die start en eindigt tijdens de episode | CP4: met jeugdhulp die start en eindigt tijdens de episode
G5: 0 tot 3 maanden | H5: 3 tot 6 maanden | I5: 6 tot 12 maaanden | J5: 1 tot 2 jaar | K5: 2 tot 3 jaar | L5: 3 tot 4 jaar | M5: 4 jaar en langer | O5: Totaal | Q5: waarvan duur van de episode | CP5: Totaal | CR5: waarvan duur van de episode
Q6: 0 tot 3 maanden | AB6: 3 tot 6 maanden | AM6: 6 tot 12 maanden | AX6: 1 tot 2 jaar | BI6: 2 tot 3 jaar | BT6: 3 tot 4 jaar | CE6: 4 jaar of langer | CR6: 0 tot 3 maanden | CS6: 3 tot 6 maanden | CT6: 6 tot 12 maaanden | CU6: 1 tot 2 jaar | CV6: 2 tot 3 jaar | CW6: 3 tot 4 jaar | CX6: 4 jaar en langer
Q7: Totaal | R7: jeugdhulp met verblijf | X7: jeugdhulp zonder verblijf | AB7: Totaal | AC7: jeugdhulp met verblijf | AI7: jeugdhulp zonder verblijf | AM7: Totaal | AN7: jeugdhulp met verblijf | AT7: jeugdhulp zonder verblijf | AX7: Totaal | AY7: jeugdhulp met verblijf | BE7: jeugdhulp zonder verblijf | BI7: Totaal | BJ7: jeugdhulp met verblijf | BP7: jeugdhulp zonder verblijf | BT7: Totaal | BU7: jeugdhulp met verblijf | CA7: jeugdhulp zonder verblijf | CE7: Totaal | CF7: jeugdhulp met verblijf | CL7: jeugdhulp zonder verblijf
R8: totaal | S8: pleegzorg | T8: gezinsgericht | U8: gesloten plaatsing | V8: overig | X8: totaal | Y8: door wijkteam | Z8: overig | AC8: totaal | AD8: pleegzorg | AE8: gezinsgericht | AF8: gesloten plaatsing | AG8: overig | AI8: totaal | AJ8: door wijkteam | AK8: overig | AN8: totaal | AO8: pleegzorg | AP8: gezinsgericht | AQ8: gesloten plaatsing | AR8: overig | AT8: totaal | AU8: door wijkteam | AV8: overig | AY8: totaal | AZ8: pleegzorg | BA8: gezinsgericht | BB8: gesloten plaatsing | BC8: overig | BE8: totaal | BF8: door wijkteam | BG8: overig | BJ8: totaal | BK8: pleegzorg | BL8: gezinsgericht | BM8: gesloten plaatsing | BN8: overig | BP8: totaal | BQ8: door wijkteam | BR8: overig | BU8: totaal | BV8: pleegzorg | BW8: gezinsgericht | BX8: gesloten plaatsing | BY8: overig | CA8: totaal | CB8: door wijkteam | CC8: overig | CF8: totaal | CG8: pleegzorg | CH8: gezinsgericht | CI8: gesloten plaatsing | CJ8: overig | CL8: totaal | CM8: door wijkteam | CN8: overig
C10: Aantal | CP10: %
A12: Totaal | B12: 1e halfjaar 2015 | C12: 7040 | E12: 90 | G12: 80 | H12: 10 | I12: . | J12: . | K12: . | L12: . | M12: . | O12: 15 | Q12: 15 | R12: 10 | S12: 5 | T12: . | U12: . | V12: . | X12: 10 | Y12: . | Z12: 10 | AB12: . | AC12: . | AD12: . | AE12: . | AF12: . | AG12: . | AI12: . | AJ12: . | AK12: . | AM12: . | AN12: . | AO12: . | AP12: . | AQ12: . | AR12: . | AT12: . | AU12: . | AV12: . | AX12: . | AY12: . | AZ12: . | BA12: . | BB12: . | BC12: . | BE12: . | BF12: . | BG12: . | BI12: . | BJ12: . | BK12: . | BL12: . | BM12: . | BN12: . | BP12: . | BQ12: . | BR12: . | BT12: . | BU12: . | BV12: . | BW12: . | BX12: . | BY12: . | CA12: . | CB12: . | CC12: . | CE12: . | CF12: . | CG12: . | CH12: . | CI12: . | CJ12: . | CL12: . | CM12: . | CN12: . | CP12: 17 | CR12: 19 | CS12: . | CT12: . | CU12: . | CV12: . | CW12: . | CX12: .
B13: 2e halfjaar 2015 | C13: 7630 | E13: 785 | G13: 115 | H13: 380 | I13: 290 | J13: . | K13: . | L13: . | M13: . | O13: 90 | Q13: 25 | R13: 20 | S13: 5 | T13: . | U13: . | V13: . | X13: 10 | Y13: . | Z13: 10 | AB13: 30 | AC13: 10 | AD13: . | AE13: . | AF13: . | AG13: 5 | AI13: 20 | AJ13: . | AK13: 20 | AM13: 35 | AN13: 20 | AO13: 10 | AP13: . | AQ13: . | AR13: 5 | AT13: 20 | AU13: . | AV13: 15 | AX13: . | AY13: . | AZ13: . | BA13: . | BB13: . | BC13: . | BE13: . | BF13: . | BG13: . | BI13: . | BJ13: . | BK13: . | BL13: . | BM13: . | BN13: . | BP13: . | BQ13: . | BR13: . | BT13: . | BU13: . | BV13: . | BW13: . | BX13: . | BY13: . | CA13: . | CB13: . | CC13: . | CE13: . | CF13: . | CG13: . | CH13: . | CI13: . | CJ13: . | CL13: . | CM13: . | CN13: . | CP13: 11 | CR13: 21 | CS13: 7 | CT13: 13 | CU13: . | CV13: . | CW13: . | CX13: .
B14: 1e halfjaar 2016 | C14: 6360 | E14: 1740 | G14: 165 | H14: 420 | I14: 910 | J14: 245 | K14: . | L14: . | M14: . | O14: 295 | Q14: 45 | R14: 35 | S14: 20 | T14: . | U14: . | V14: 10 | X14: 20 | Y14: . | Z14: 20 | AB14: 25 | AC14: 10 | AD14: . | AE14: . | AF14: . | AG14: . | AI14: 15 | AJ14: . | AK14: 15 | AM14: 155 | AN14: 65 | AO14: 20 | AP14: . | AQ14: 15 | AR14: 35 | AT14: 110 | AU14: 15 | AV14: 105 | AX14: 75 | AY14: 50 | AZ14: 25 | BA14: . | BB14: 15 | BC14: 15 | BE14: 45 | BF14: . | BG14: 40 | BI14: . | BJ14: . | BK14: . | BL14: . | BM14: . | BN14: . | BP14: . | BQ14: . | BR14: . | BT14: . | BU14: . | BV14: . | BW14: . | BX14: . | BY14: . | CA14: . | CB14: . | CC14: . | CE14: . | CF14: . | CG14: . | CH14: . | CI14: . | CJ14: . | CL14: . | CM14: . | CN14: . | CP14: 17 | CR14: 26 | CS14: 6 | CT14: 17 | CU14: 30 | CV14: . | CW14: . | CX14: .
B15: 2e halfjaar 2016 | C15: 6420 | E15: 2415 | G15: 165 | H15: 425 | I15: 1060 | J15: 765 | K15: . | L15: . | M15: . | O15: 430 | Q15: 25 | R15: 20 | S15: 10 | T15: . | U15: . | V15: 10 | X15: 10 | Y15: . | Z15: 10 | AB15: 25 | AC15: 10 | AD15: . | AE15: . | AF15: . | AG15: . | AI15: 15 | AJ15: . | AK15: 15 | AM15: 135 | AN15: 60 | AO15: 20 | AP15: 10 | AQ15: 20 | AR15: 20 | AT15: 85 | AU15: 10 | AV15: 75 | AX15: 245 | AY15: 130 | AZ15: 55 | BA15: 10 | BB15: 40 | BC15: 50 | BE15: 165 | BF15: 15 | BG15: 155 | BI15: . | BJ15: . | BK15: . | BL15: . | BM15: . | BN15: . | BP15: . | BQ15: . | BR15: . | BT15: . | BU15: . | BV15: . | BW15: . | BX15: . | BY15: . | CA15: . | CB15: . | CC15: . | CE15: . | CF15: . | CG15: . | CH15: . | CI15: . | CJ15: . | CL15: . | CM15: . | CN15: . | CP15: 18 | CR15: 16 | CS15: 5 | CT15: 13 | CU15: 32 | CV15: . | CW15: . | CX15: .
B16: 1e halfjaar 2017 | C16: 6150 | E16: 3430 | G16: 190 | H16: 420 | I16: 1080 | J16: 1435 | K16: 300 | L16: . | M16: . | O16: 875 | Q16: 30 | R16: 20 | S16: 5 | T16: . | U16: 5 | V16: 10 | X16: 10 | Y16: . | Z16: 10 | AB16: 30 | AC16: 15 | AD16: . | AE16: . | AF16: . | AG16: 10 | AI16: 15 | AJ16: . | AK16: 15 | AM16: 160 | AN16: 65 | AO16: 20 | AP16: 5 | AQ16: 20 | AR16: 30 | AT16: 105 | AU16: 10 | AV16: 100 | AX16: 530 | AY16: 245 | AZ16: 85 | BA16: 35 | BB16: 60 | BC16: 110 | BE16: 385 | BF16: 50 | BG16: 355 | BI16: 125 | BJ16: 50 | BK16: 10 | BL16: . | BM16: 15 | BN16: 30 | BP16: 100 | BQ16: 15 | BR16: 90 | BT16: . | BU16: . | BV16: . | BW16: . | BX16: . | BY16: . | CA16: . | CB16: . | CC16: . | CE16: . | CF16: . | CG16: . | CH16: . | CI16: . | CJ16: . | CL16: . | CM16: . | CN16: . | CP16: 26 | CR16: 15 | CS16: 7 | CT16: 15 | CU16: 37 | CV16: 42 | CW16: . | CX16: .
B17: 2e halfjaar 2017 | C17: 6145 | E17: 4040 | G17: 215 | H17: 450 | I17: 1125 | J17: 1470 | K17: 785 | L17: . | M17: . | O17: 1120 | Q17: 30 | R17: 25 | S17: 15 | T17: . | U17: . | V17: . | X17: 15 | Y17: . | Z17: 10 | AB17: 35 | AC17: 20 | AD17: . | AE17: . | AF17: . | AG17: 5 | AI17: 20 | AJ17: . | AK17: 15 | AM17: 175 | AN17: 85 | AO17: 30 | AP17: 10 | AQ17: 20 | AR17: 35 | AT17: 105 | AU17: 15 | AV17: 90 | AX17: 520 | AY17: 240 | AZ17: 70 | BA17: 30 | BB17: 65 | BC17: 120 | BE17: 380 | BF17: 50 | BG17: 340 | BI17: 360 | BJ17: 170 | BK17: 50 | BL17: 25 | BM17: 45 | BN17: 100 | BP17: 285 | BQ17: 35 | BR17: 260 | BT17: . | BU17: . | BV17: . | BW17: . | BX17: . | BY17: . | CA17: . | CB17: . | CC17: . | CE17: . | CF17: . | CG17: . | CH17: . | CI17: . | CJ17: . | CL17: . | CM17: . | CN17: . | CP17: 28 | CR17: 15 | CS17: 8 | CT17: 15 | CU17: 35 | CV17: 46 | CW17: . | CX17: .
B18: 1e halfjaar 2018 | C18: 5935 | E18: 4420 | G18: 165 | H18: 415 | I18: 1115 | J18: 1580 | K18: 1040 | L18: 105 | M18: . | O18: 1465 | Q18: 20 | R18: 20 | S18: 5 | T18: . | U18: . | V18: 10 | X18: . | Y18: . | Z18: . | AB18: 35 | AC18: 15 | AD18: . | AE18: . | AF18: . | AG18: 5 | AI18: 25 | AJ18: . | AK18: 20 | AM18: 205 | AN18: 90 | AO18: 30 | AP18: 5 | AQ18: 25 | AR18: 40 | AT18: 125 | AU18: 20 | AV18: 105 | AX18: 570 | AY18: 260 | AZ18: 85 | BA18: 30 | BB18: 60 | BC18: 140 | BE18: 405 | BF18: 50 | BG18: 370 | BI18: 565 | BJ18: 275 | BK18: 85 | BL18: 40 | BM18: 75 | BN18: 170 | BP18: 435 | BQ18: 65 | BR18: 395 | BT18: 75 | BU18: 35 | BV18: 10 | BW18: . | BX18: 15 | BY18: 25 | CA18: 55 | CB18: 10 | CC18: 50 | CE18: . | CF18: . | CG18: . | CH18: . | CI18: . | CJ18: . | CL18: . | CM18: . | CN18: . | CP18: 33 | CR18: 13 | CS18: 8 | CT18: 18 | CU18: 36 | CV18: 54 | CW18: 69 | CX18: .
B19: 2e halfjaar 2018 | C19: 6080 | E19: 4735 | G19: 170 | H19: 420 | I19: 1135 | J19: 1640 | K19: 1050 | L19: 320 | M19: . | O19: 1570 | Q19: 35 | R19: 25 | S19: 15 | T19: . | U19: . | V19: 5 | X19: 15 | Y19: . | Z19: 15 | AB19: 25 | AC19: 15 | AD19: 10 | AE19: . | AF19: . | AG19: . | AI19: 10 | AJ19: . | AK19: 10 | AM19: 165 | AN19: 75 | AO19: 25 | AP19: 5 | AQ19: 20 | AR19: 30 | AT19: 110 | AU19: 20 | AV19: 95 | AX19: 600 | AY19: 255 | AZ19: 90 | BA19: 30 | BB19: 70 | BC19: 115 | BE19: 450 | BF19: 65 | BG19: 415 | BI19: 540 | BJ19: 260 | BK19: 80 | BL19: 25 | BM19: 70 | BN19: 165 | BP19: 415 | BQ19: 60 | BR19: 375 | BT19: 210 | BU19: 100 | BV19: 25 | BW19: 10 | BX19: 40 | BY19: 70 | CA19: 165 | CB19: 30 | CC19: 155 | CE19: . | CF19: . | CG19: . | CH19: . | CI19: . | CJ19: . | CL19: . | CM19: . | CN19: . | CP19: 33 | CR19: 20 | CS19: 6 | CT19: 14 | CU19: 37 | CV19: 51 | CW19: 66 | CX19: .
B20: 1e halfjaar 2019 | C20: 6060 | E20: 4945 | G20: 210 | H20: 435 | I20: 1055 | J20: 1620 | K20: 1040 | L20: 510 | M20: 70 | O20: 1890 | Q20: 40 | R20: 35 | S20: 15 | T20: . | U20: 10 | V20: 10 | X20: 10 | Y20: . | Z20: 10 | AB20: 30 | AC20: 15 | AD20: 10 | AE20: . | AF20: . | AG20: . | AI20: 15 | AJ20: . | AK20: 15 | AM20: 170 | AN20: 65 | AO20: 20 | AP20: 10 | AQ20: 15 | AR20: 30 | AT20: 115 | AU20: 25 | AV20: 100 | AX20: 650 | AY20: 270 | AZ20: 95 | BA20: 45 | BB20: 60 | BC20: 125 | BE20: 480 | BF20: 75 | BG20: 430 | BI20: 585 | BJ20: 300 | BK20: 105 | BL20: 55 | BM20: 80 | BN20: 170 | BP20: 440 | BQ20: 75 | BR20: 400 | BT20: 360 | BU20: 190 | BV20: 55 | BW20: 35 | BX20: 55 | BY20: 125 | CA20: 295 | CB20: 45 | CC20: 270 | CE20: 50 | CF20: 25 | CG20: 10 | CH20: 10 | CI20: 10 | CJ20: 15 | CL20: 45 | CM20: 10 | CN20: 45 | CP20: 38 | CR20: 20 | CS20: 7 | CT20: 16 | CU20: 40 | CV20: 56 | CW20: 71 | CX20: 71
B21: 2e halfjaar 2019 | C21: 6075 | E21: 5040 | G21: 225 | H21: 405 | I21: 1055 | J21: 1555 | K21: 1110 | L21: 505 | M21: 185 | O21: 1825 | Q21: 35 | R21: 15 | S21: . | T21: . | U21: 5 | V21: . | X21: 20 | Y21: . | Z21: 20 | AB21: 20 | AC21: 10 | AD21: . | AE21: . | AF21: 5 | AG21: . | AI21: 15 | AJ21: . | AK21: 15 | AM21: 165 | AN21: 65 | AO21: 20 | AP21: . | AQ21: 20 | AR21: 30 | AT21: 110 | AU21: 10 | AV21: 105 | AX21: 565 | AY21: 260 | AZ21: 100 | BA21: 35 | BB21: 80 | BC21: 85 | BE21: 390 | BF21: 60 | BG21: 340 | BI21: 575 | BJ21: 245 | BK21: 70 | BL21: 40 | BM21: 80 | BN21: 130 | BP21: 440 | BQ21: 55 | BR21: 415 | BT21: 340 | BU21: 180 | BV21: 45 | BW21: 45 | BX21: 50 | BY21: 115 | CA21: 265 | CB21: 45 | CC21: 240 | CE21: 120 | CF21: 70 | CG21: 25 | CH21: . | CI21: 25 | CJ21: 45 | CL21: 105 | CM21: 20 | CN21: 95 | CP21: 36 | CR21: 15 | CS21: 5 | CT21: 16 | CU21: 36 | CV21: 52 | CW21: 67 | CX21: 67
B22: 1e halfjaar 2020 | C22: 5545 | E22: 4770 | G22: 195 | H22: 405 | I22: 985 | J22: 1475 | K22: 985 | L22: 495 | M22: 235 | O22: 1785 | Q22: 25 | R22: 15 | S22: 10 | T22: . | U22: . | V22: 10 | X22: 10 | Y22: . | Z22: 10 | AB22: 25 | AC22: 10 | AD22: . | AE22: . | AF22: . | AG22: . | AI22: 15 | AJ22: . | AK22: 10 | AM22: 155 | AN22: 55 | AO22: 20 | AP22: . | AQ22: 15 | AR22: 20 | AT22: 105 | AU22: 10 | AV22: 100 | AX22: 525 | AY22: 225 | AZ22: 75 | BA22: 35 | BB22: 60 | BC22: 100 | BE22: 380 | BF22: 50 | BG22: 345 | BI22: 535 | BJ22: 245 | BK22: 85 | BL22: 35 | BM22: 70 | BN22: 130 | BP22: 405 | BQ22: 65 | BR22: 370 | BT22: 340 | BU22: 185 | BV22: 45 | BW22: 45 | BX22: 45 | BY22: 120 | CA22: 265 | CB22: 55 | CC22: 240 | CE22: 180 | CF22: 100 | CG22: 30 | CH22: 25 | CI22: 30 | CJ22: 65 | CL22: 155 | CM22: 35 | CN22: 140 | CP22: 37 | CR22: 12 | CS22: 6 | CT22: 16 | CU22: 36 | CV22: 54 | CW22: 69 | CX22: 77
B23: 2e halfjaar 2020 | C23: 6100 | E23: 5260 | G23: 175 | H23: 285 | I23: 990 | J23: 1675 | K23: 1140 | L23: 590 | M23: 410 | O23: 2090 | Q23: 20 | R23: 15 | S23: 10 | T23: . | U23: . | V23: . | X23: . | Y23: . | Z23: . | AB23: 15 | AC23: 10 | AD23: . | AE23: . | AF23: . | AG23: . | AI23: . | AJ23: . | AK23: . | AM23: 145 | AN23: 70 | AO23: 20 | AP23: . | AQ23: 25 | AR23: 30 | AT23: 85 | AU23: 15 | AV23: 75 | AX23: 595 | AY23: 275 | AZ23: 90 | BA23: 25 | BB23: 80 | BC23: 120 | BE23: 405 | BF23: 60 | BG23: 360 | BI23: 575 | BJ23: 250 | BK23: 60 | BL23: 25 | BM23: 85 | BN23: 150 | BP23: 455 | BQ23: 85 | BR23: 400 | BT23: 400 | BU23: 205 | BV23: 60 | BW23: 40 | BX23: 65 | BY23: 130 | CA23: 315 | CB23: 55 | CC23: 290 | CE23: 335 | CF23: 185 | CG23: 70 | CH23: 45 | CI23: 65 | CJ23: 115 | CL23: 280 | CM23: 65 | CN23: 250 | CP23: 40 | CR23: 12 | CS23: 6 | CT23: 15 | CU23: 36 | CV23: 51 | CW23: 68 | CX23: 82
B24: 1e halfjaar 2021 | C24: 6280 | E24: 5515 | G24: 185 | H24: 325 | I24: 1050 | J24: 1720 | K24: 1180 | L24: 555 | M24: 500 | O24: 2090 | Q24: 25 | R24: 20 | S24: 10 | T24: . | U24: 10 | V24: . | X24: . | Y24: . | Z24: . | AB24: 15 | AC24: 10 | AD24: . | AE24: . | AF24: . | AG24: . | AI24: 10 | AJ24: . | AK24: 5 | AM24: 130 | AN24: 50 | AO24: 15 | AP24: . | AQ24: 15 | AR24: 25 | AT24: 85 | AU24: 10 | AV24: 75 | AX24: 580 | AY24: 250 | AZ24: 80 | BA24: 25 | BB24: 70 | BC24: 115 | BE24: 395 | BF24: 45 | BG24: 365 | BI24: 580 | BJ24: 245 | BK24: 60 | BL24: 30 | BM24: 80 | BN24: 140 | BP24: 440 | BQ24: 60 | BR24: 400 | BT24: 370 | BU24: 170 | BV24: 45 | BW24: 25 | BX24: 55 | BY24: 100 | CA24: 295 | CB24: 55 | CC24: 270 | CE24: 390 | CF24: 200 | CG24: 65 | CH24: 55 | CI24: 60 | CJ24: 125 | CL24: 330 | CM24: 70 | CN24: 305 | CP24: 38 | CR24: 14 | CS24: 5 | CT24: 12 | CU24: 34 | CV24: 49 | CW24: 67 | CX24: 78
B25: 2e halfjaar 2021 | C25: 6075 | E25: 5450 | G25: 200 | H25: 355 | I25: 965 | J25: 1655 | K25: 1150 | L25: 600 | M25: 530 | O25: 2080 | Q25: 30 | R25: 25 | S25: 15 | T25: . | U25: . | V25: 5 | X25: . | Y25: . | Z25: . | AB25: 20 | AC25: 5 | AD25: . | AE25: . | AF25: . | AG25: . | AI25: 10 | AJ25: . | AK25: 10 | AM25: 150 | AN25: 50 | AO25: 10 | AP25: . | AQ25: 10 | AR25: 30 | AT25: 115 | AU25: 15 | AV25: 100 | AX25: 540 | AY25: 195 | AZ25: 80 | BA25: 15 | BB25: 50 | BC25: 90 | BE25: 405 | BF25: 45 | BG25: 375 | BI25: 560 | BJ25: 230 | BK25: 65 | BL25: 30 | BM25: 65 | BN25: 130 | BP25: 440 | BQ25: 50 | BR25: 400 | BT25: 375 | BU25: 205 | BV25: 60 | BW25: 35 | BX25: 65 | BY25: 120 | CA25: 290 | CB25: 45 | CC25: 270 | CE25: 410 | CF25: 230 | CG25: 75 | CH25: 55 | CI25: 70 | CJ25: 160 | CL25: 340 | CM25: 55 | CN25: 325 | CP25: 38 | CR25: 14 | CS25: 5 | CT25: 16 | CU25: 33 | CV25: 49 | CW25: 63 | CX25: 77
B26: 1e halfjaar 2022 | C26: 6195 | E26: 5635 | G26: 195 | H26: 310 | I26: 1105 | J26: 1575 | K26: 1250 | L26: 585 | M26: 620 | O26: 2250 | Q26: 35 | R26: 25 | S26: 10 | T26: . | U26: . | V26: 5 | X26: 15 | Y26: . | Z26: 10 | AB26: 15 | AC26: . | AD26: . | AE26: . | AF26: . | AG26: . | AI26: 10 | AJ26: . | AK26: 5 | AM26: 160 | AN26: 65 | AO26: 20 | AP26: . | AQ26: 15 | AR26: 35 | AT26: 100 | AU26: 10 | AV26: 95 | AX26: 550 | AY26: 215 | AZ26: 75 | BA26: 20 | BB26: 55 | BC26: 100 | BE26: 385 | BF26: 25 | BG26: 365 | BI26: 635 | BJ26: 245 | BK26: 90 | BL26: 25 | BM26: 65 | BN26: 125 | BP26: 500 | BQ26: 55 | BR26: 470 | BT26: 390 | BU26: 190 | BV26: 55 | BW26: 30 | BX26: 55 | BY26: 110 | CA26: 300 | CB26: 60 | CC26: 260 | CE26: 465 | CF26: 240 | CG26: 105 | CH26: 75 | CI26: 55 | CJ26: 135 | CL26: 410 | CM26: 95 | CN26: 370 | CP26: 40 | CR26: 18 | CS26: 5 | CT26: 14 | CU26: 35 | CV26: 51 | CW26: 67 | CX26: 75
B27: 2e halfjaar 2022 | C27: 6260 | E27: 5660 | G27: 185 | H27: 315 | I27: 870 | J27: 1715 | K27: 1210 | L27: 690 | M27: 670 | O27: 2340 | Q27: 20 | R27: 15 | S27: 10 | T27: . | U27: . | V27: 10 | X27: 10 | Y27: . | Z27: 10 | AB27: 20 | AC27: 10 | AD27: . | AE27: . | AF27: . | AG27: . | AI27: 10 | AJ27: . | AK27: . | AM27: 115 | AN27: 45 | AO27: 10 | AP27: . | AQ27: 15 | AR27: 20 | AT27: 75 | AU27: 10 | AV27: 70 | AX27: 605 | AY27: 250 | AZ27: 95 | BA27: 25 | BB27: 40 | BC27: 135 | BE27: 420 | BF27: 40 | BG27: 400 | BI27: 605 | BJ27: 240 | BK27: 90 | BL27: 35 | BM27: 55 | BN27: 125 | BP27: 465 | BQ27: 40 | BR27: 440 | BT27: 455 | BU27: 230 | BV27: 85 | BW27: 45 | BX27: 60 | BY27: 130 | CA27: 355 | CB27: 55 | CC27: 330 | CE27: 520 | CF27: 280 | CG27: 115 | CH27: 75 | CI27: 65 | CJ27: 180 | CL27: 420 | CM27: 75 | CN27: 385 | CP27: 41 | CR27: 11 | CS27: 7 | CT27: 13 | CU27: 35 | CV27: 50 | CW27: 66 | CX27: 77
B28: 1e halfjaar 2023 | C28: 5800 | E28: 5310 | G28: 230 | H28: 295 | I28: 850 | J28: 1510 | K28: 1075 | L28: 625 | M28: 730 | O28: 2150 | Q28: 25 | R28: 15 | S28: 10 | T28: . | U28: . | V28: 5 | X28: 10 | Y28: . | Z28: 10 | AB28: 10 | AC28: 5 | AD28: . | AE28: . | AF28: . | AG28: . | AI28: 5 | AJ28: . | AK28: 5 | AM28: 135 | AN28: 40 | AO28: . | AP28: . | AQ28: 10 | AR28: 20 | AT28: 105 | AU28: 5 | AV28: 95 | AX28: 495 | AY28: 170 | AZ28: 50 | BA28: 20 | BB28: 40 | BC28: 85 | BE28: 375 | BF28: 30 | BG28: 355 | BI28: 520 | BJ28: 215 | BK28: 80 | BL28: 35 | BM28: 40 | BN28: 115 | BP28: 390 | BQ28: 45 | BR28: 365 | BT28: 390 | BU28: 185 | BV28: 70 | BW28: 30 | BX28: 55 | BY28: 115 | CA28: 310 | CB28: 35 | CC28: 285 | CE28: 570 | CF28: 305 | CG28: 125 | CH28: 70 | CI28: 85 | CJ28: 175 | CL28: 475 | CM28: 90 | CN28: 445 | CP28: 41 | CR28: 11 | CS28: 4 | CT28: 16 | CU28: 33 | CV28: 49 | CW28: 63 | CX28: 78
B29: 2e halfjaar 2023 | C29: 5385 | E29: 4990 | G29: 175 | H29: 310 | I29: 785 | J29: 1340 | K29: 1055 | L29: 590 | M29: 735 | O29: 2025 | Q29: 20 | R29: 10 | S29: . | T29: . | U29: . | V29: . | X29: 10 | Y29: . | Z29: 10 | AB29: 20 | AC29: 15 | AD29: . | AE29: . | AF29: . | AG29: 10 | AI29: 5 | AJ29: . | AK29: . | AM29: 125 | AN29: 40 | AO29: 15 | AP29: . | AQ29: . | AR29: 20 | AT29: 90 | AU29: 10 | AV29: 85 | AX29: 425 | AY29: 160 | AZ29: 55 | BA29: 15 | BB29: 35 | BC29: 75 | BE29: 320 | BF29: 30 | BG29: 295 | BI29: 515 | BJ29: 180 | BK29: 75 | BL29: 25 | BM29: 40 | BN29: 90 | BP29: 410 | BQ29: 20 | BR29: 400 | BT29: 355 | BU29: 155 | BV29: 55 | BW29: 25 | BX29: 35 | BY29: 90 | CA29: 275 | CB29: 25 | CC29: 265 | CE29: 560 | CF29: 310 | CG29: 125 | CH29: 70 | CI29: 65 | CJ29: 190 | CL29: 455 | CM29: 85 | CN29: 430 | CP29: 41 | CR29: 13 | CS29: 6 | CT29: 16 | CU29: 32 | CV29: 49 | CW29: 61 | CX29: 76
B30: 1e halfjaar 2024 | C30: 5425 | E30: 4990 | G30: 185 | H30: 290 | I30: 805 | J30: 1280 | K30: 1005 | L30: 560 | M30: 875 | O30: 2105 | Q30: 30 | R30: 20 | S30: 10 | T30: . | U30: . | V30: 15 | X30: 10 | Y30: . | Z30: 10 | AB30: 10 | AC30: . | AD30: . | AE30: . | AF30: . | AG30: . | AI30: 5 | AJ30: . | AK30: . | AM30: 130 | AN30: 45 | AO30: 10 | AP30: . | AQ30: 10 | AR30: 25 | AT30: 90 | AU30: 10 | AV30: 80 | AX30: 430 | AY30: 160 | AZ30: 55 | BA30: 15 | BB30: 40 | BC30: 80 | BE30: 325 | BF30: 30 | BG30: 305 | BI30: 490 | BJ30: 195 | BK30: 70 | BL30: 35 | BM30: 45 | BN30: 90 | BP30: 380 | BQ30: 30 | BR30: 370 | BT30: 340 | BU30: 140 | BV30: 50 | BW30: 15 | BX30: 30 | BY30: 90 | CA30: 265 | CB30: 35 | CC30: 250 | CE30: 670 | CF30: 360 | CG30: 175 | CH30: 95 | CI30: 65 | CJ30: 205 | CL30: 555 | CM30: 115 | CN30: 520 | CP30: 42 | CR30: 17 | CS30: 4 | CT30: 16 | CU30: 34 | CV30: 49 | CW30: 61 | CX30: 77
B31: 2e halfjaar 2024 | C31: 5215 | E31: 4850 | G31: 155 | H31: 315 | I31: 825 | J31: 1255 | K31: 935 | L31: 555 | M31: 800 | O31: 1930 | Q31: 10 | R31: 10 | S31: . | T31: . | U31: . | V31: . | X31: . | Y31: . | Z31: . | AB31: 15 | AC31: 10 | AD31: . | AE31: . | AF31: . | AG31: . | AI31: 10 | AJ31: . | AK31: 10 | AM31: 120 | AN31: 40 | AO31: 15 | AP31: . | AQ31: . | AR31: 20 | AT31: 95 | AU31: 15 | AV31: 85 | AX31: 385 | AY31: 130 | AZ31: 40 | BA31: 15 | BB31: 20 | BC31: 70 | BE31: 295 | BF31: 40 | BG31: 270 | BI31: 460 | BJ31: 195 | BK31: 45 | BL31: 35 | BM31: 45 | BN31: 115 | BP31: 325 | BQ31: 25 | BR31: 310 | BT31: 320 | BU31: 125 | BV31: 40 | BW31: 20 | BX31: 30 | BY31: 75 | CA31: 255 | CB31: 30 | CC31: 240 | CE31: 615 | CF31: 365 | CG31: 140 | CH31: 100 | CI31: 80 | CJ31: 240 | CL31: 500 | CM31: 95 | CN31: 465 | CP31: 40 | CR31: 8 | CS31: 5 | CT31: 15 | CU31: 30 | CV31: 49 | CW31: 57 | CX31: 77
B32: 1e halfjaar 2025 | C32: 5015 | E32: 4685 | G32: 150 | H32: 300 | I32: 750 | J32: 1335 | K32: 880 | L32: 545 | M32: 730 | O32: 1860 | Q32: 15 | R32: 15 | S32: 10 | T32: . | U32: . | V32: . | X32: . | Y32: . | Z32: . | AB32: 15 | AC32: 10 | AD32: . | AE32: . | AF32: . | AG32: . | AI32: 10 | AJ32: . | AK32: 5 | AM32: 90 | AN32: 30 | AO32: 15 | AP32: . | AQ32: . | AR32: 20 | AT32: 60 | AU32: 10 | AV32: 55 | AX32: 410 | AY32: 160 | AZ32: 40 | BA32: 25 | BB32: 25 | BC32: 100 | BE32: 290 | BF32: 25 | BG32: 270 | BI32: 440 | BJ32: 175 | BK32: 45 | BL32: 20 | BM32: 30 | BN32: 115 | BP32: 320 | BQ32: 40 | BR32: 300 | BT32: 330 | BU32: 125 | BV32: 40 | BW32: 20 | BX32: 25 | BY32: 80 | CA32: 260 | CB32: 25 | CC32: 245 | CE32: 560 | CF32: 325 | CG32: 150 | CH32: 75 | CI32: 55 | CJ32: 185 | CL32: 455 | CM32: 80 | CN32: 430 | CP32: 40 | CR32: 9 | CS32: 5 | CT32: 12 | CU32: 31 | CV32: 50 | CW32: 60 | CX32: 77
B33: 2e halfjaar 2025 | C33: 5205 | E33: 4870 | G33: 210 | H33: 300 | I33: 735 | J33: 1345 | K33: 1005 | L33: 490 | M33: 790 | O33: 2025 | Q33: 30 | R33: 25 | S33: 10 | T33: . | U33: . | V33: 15 | X33: 5 | Y33: . | Z33: 5 | AB33: 25 | AC33: 10 | AD33: . | AE33: . | AF33: . | AG33: . | AI33: 15 | AJ33: . | AK33: 10 | AM33: 110 | AN33: 35 | AO33: 10 | AP33: . | AQ33: . | AR33: 20 | AT33: 85 | AU33: 10 | AV33: 75 | AX33: 460 | AY33: 160 | AZ33: 45 | BA33: 25 | BB33: 25 | BC33: 85 | BE33: 350 | BF33: 35 | BG33: 325 | BI33: 470 | BJ33: 170 | BK33: 45 | BL33: 30 | BM33: 20 | BN33: 110 | BP33: 375 | BQ33: 40 | BR33: 350 | BT33: 310 | BU33: 130 | BV33: 35 | BW33: 25 | BX33: 25 | BY33: 85 | CA33: 245 | CB33: 30 | CC33: 225 | CE33: 625 | CF33: 370 | CG33: 165 | CH33: 105 | CI33: 65 | CJ33: 235 | CL33: 505 | CM33: 90 | CN33: 465 | CP33: 42 | CR33: 14 | CS33: 8 | CT33: 15 | CU33: 34 | CV33: 47 | CW33: 63 | CX33: 79
B34: 1e halfjaar 2026 | C34: 4735 | E34: 4470 | G34: 165 | H34: 270 | I34: 705 | J34: 1340 | K34: 815 | L34: 440 | M34: 735 | O34: 1870 | Q34: 25 | R34: 15 | S34: . | T34: . | U34: . | V34: 10 | X34: 10 | Y34: . | Z34: 10 | AB34: 15 | AC34: 15 | AD34: 5 | AE34: . | AF34: . | AG34: . | AI34: . | AJ34: . | AK34: . | AM34: 120 | AN34: 35 | AO34: 10 | AP34: . | AQ34: . | AR34: 20 | AT34: 90 | AU34: 10 | AV34: 80 | AX34: 450 | AY34: 145 | AZ34: 45 | BA34: 15 | BB34: 25 | BC34: 85 | BE34: 345 | BF34: 25 | BG34: 325 | BI34: 410 | BJ34: 165 | BK34: 45 | BL34: 25 | BM34: 35 | BN34: 110 | BP34: 310 | BQ34: 30 | BR34: 295 | BT34: 280 | BU34: 150 | BV34: 45 | BW34: 20 | BX34: 30 | BY34: 95 | CA34: 195 | CB34: 25 | CC34: 180 | CE34: 575 | CF34: 350 | CG34: 145 | CH34: 105 | CI34: 65 | CJ34: 220 | CL34: 455 | CM34: 95 | CN34: 415 | CP34: 42 | CR34: 14 | CS34: 6 | CT34: 17 | CU34: 33 | CV34: 50 | CW34: 64 | CX34: 79
A36: Episode met alleen ondertoezichtstelling | B36: 1e halfjaar 2015 | C36: 4620 | E36: 60 | G36: 50 | H36: 10 | I36: . | J36: . | K36: . | L36: . | M36: . | O36: 15 | Q36: 15 | R36: 10 | S36: 5 | T36: . | U36: . | V36: . | X36: 10 | Y36: . | Z36: 10 | AB36: . | AC36: . | AD36: . | AE36: . | AF36: . | AG36: . | AI36: . | AJ36: . | AK36: . | AM36: . | AN36: . | AO36: . | AP36: . | AQ36: . | AR36: . | AT36: . | AU36: . | AV36: . | AX36: . | AY36: . | AZ36: . | BA36: . | BB36: . | BC36: . | BE36: . | BF36: . | BG36: . | BI36: . | BJ36: . | BK36: . | BL36: . | BM36: . | BN36: . | BP36: . | BQ36: . | BR36: . | BT36: . | BU36: . | BV36: . | BW36: . | BX36: . | BY36: . | CA36: . | CB36: . | CC36: . | CE36: . | CF36: . | CG36: . | CH36: . | CI36: . | CJ36: . | CL36: . | CM36: . | CN36: . | CP36: 28 | CR36: 31 | CS36: . | CT36: . | CU36: . | CV36: . | CW36: . | CX36: .
B37: 2e halfjaar 2015 | C37: 4700 | E37: 335 | G37: 70 | H37: 155 | I37: 110 | J37: . | K37: . | L37: . | M37: . | O37: 55 | Q37: 20 | R37: 20 | S37: 5 | T37: . | U37: . | V37: . | X37: 10 | Y37: . | Z37: 10 | AB37: 20 | AC37: 10 | AD37: . | AE37: . | AF37: . | AG37: . | AI37: 15 | AJ37: . | AK37: 15 | AM37: 15 | AN37: 10 | AO37: . | AP37: . | AQ37: . | AR37: . | AT37: . | AU37: . | AV37: . | AX37: . | AY37: . | AZ37: . | BA37: . | BB37: . | BC37: . | BE37: . | BF37: . | BG37: . | BI37: . | BJ37: . | BK37: . | BL37: . | BM37: . | BN37: . | BP37: . | BQ37: . | BR37: . | BT37: . | BU37: . | BV37: . | BW37: . | BX37: . | BY37: . | CA37: . | CB37: . | CC37: . | CE37: . | CF37: . | CG37: . | CH37: . | CI37: . | CJ37: . | CL37: . | CM37: . | CN37: . | CP37: 16 | CR37: 31 | CS37: 13 | CT37: 12 | CU37: . | CV37: . | CW37: . | CX37: .
B38: 1e halfjaar 2016 | C38: 3800 | E38: 990 | G38: 90 | H38: 130 | I38: 660 | J38: 115 | K38: . | L38: . | M38: . | O38: 220 | Q38: 40 | R38: 30 | S38: 15 | T38: . | U38: . | V38: 10 | X38: 15 | Y38: . | Z38: 15 | AB38: 10 | AC38: . | AD38: . | AE38: . | AF38: . | AG38: . | AI38: . | AJ38: . | AK38: . | AM38: 125 | AN38: 55 | AO38: 15 | AP38: . | AQ38: 15 | AR38: 25 | AT38: 90 | AU38: 10 | AV38: 80 | AX38: 45 | AY38: 35 | AZ38: 20 | BA38: . | BB38: 10 | BC38: . | BE38: 25 | BF38: . | BG38: 25 | BI38: . | BJ38: . | BK38: . | BL38: . | BM38: . | BN38: . | BP38: . | BQ38: . | BR38: . | BT38: . | BU38: . | BV38: . | BW38: . | BX38: . | BY38: . | CA38: . | CB38: . | CC38: . | CE38: . | CF38: . | CG38: . | CH38: . | CI38: . | CJ38: . | CL38: . | CM38: . | CN38: . | CP38: 22 | CR38: 43 | CS38: 8 | CT38: 19 | CU38: 41 | CV38: . | CW38: . | CX38: .
B39: 2e halfjaar 2016 | C39: 3625 | E39: 1450 | G39: 90 | H39: 150 | I39: 740 | J39: 470 | K39: . | L39: . | M39: . | O39: 330 | Q39: 25 | R39: 15 | S39: 10 | T39: . | U39: . | V39: 5 | X39: 10 | Y39: . | Z39: 10 | AB39: 10 | AC39: 10 | AD39: . | AE39: . | AF39: . | AG39: . | AI39: . | AJ39: . | AK39: . | AM39: 110 | AN39: 50 | AO39: 15 | AP39: . | AQ39: 20 | AR39: 20 | AT39: 65 | AU39: 10 | AV39: 60 | AX39: 185 | AY39: 105 | AZ39: 50 | BA39: 10 | BB39: 30 | BC39: 30 | BE39: 120 | BF39: 10 | BG39: 110 | BI39: . | BJ39: . | BK39: . | BL39: . | BM39: . | BN39: . | BP39: . | BQ39: . | BR39: . | BT39: . | BU39: . | BV39: . | BW39: . | BX39: . | BY39: . | CA39: . | CB39: . | CC39: . | CE39: . | CF39: . | CG39: . | CH39: . | CI39: . | CJ39: . | CL39: . | CM39: . | CN39: . | CP39: 23 | CR39: 26 | CS39: 7 | CT39: 15 | CU39: 39 | CV39: . | CW39: . | CX39: .
B40: 1e halfjaar 2017 | C40: 3460 | E40: 2065 | G40: 85 | H40: 165 | I40: 795 | J40: 950 | K40: 70 | L40: . | M40: . | O40: 605 | Q40: 25 | R40: 15 | S40: . | T40: . | U40: 5 | V40: 10 | X40: 10 | Y40: . | Z40: 10 | AB40: 15 | AC40: 10 | AD40: . | AE40: . | AF40: . | AG40: . | AI40: . | AJ40: . | AK40: . | AM40: 130 | AN40: 55 | AO40: 20 | AP40: . | AQ40: 15 | AR40: 25 | AT40: 90 | AU40: . | AV40: 85 | AX40: 400 | AY40: 190 | AZ40: 80 | BA40: 30 | BB40: 50 | BC40: 70 | BE40: 280 | BF40: 35 | BG40: 265 | BI40: 40 | BJ40: 15 | BK40: 10 | BL40: . | BM40: . | BN40: 10 | BP40: 30 | BQ40: . | BR40: 30 | BT40: . | BU40: . | BV40: . | BW40: . | BX40: . | BY40: . | CA40: . | CB40: . | CC40: . | CE40: . | CF40: . | CG40: . | CH40: . | CI40: . | CJ40: . | CL40: . | CM40: . | CN40: . | CP40: 29 | CR40: 27 | CS40: 8 | CT40: 17 | CU40: 42 | CV40: 53 | CW40: . | CX40: .
B41: 2e halfjaar 2017 | C41: 3420 | E41: 2330 | G41: 105 | H41: 145 | I41: 815 | J41: 930 | K41: 325 | L41: . | M41: . | O41: 725 | Q41: 25 | R41: 20 | S41: 15 | T41: . | U41: . | V41: . | X41: 10 | Y41: . | Z41: 10 | AB41: 20 | AC41: 10 | AD41: . | AE41: . | AF41: . | AG41: . | AI41: 10 | AJ41: . | AK41: 10 | AM41: 145 | AN41: 70 | AO41: 20 | AP41: 10 | AQ41: 15 | AR41: 30 | AT41: 90 | AU41: 15 | AV41: 75 | AX41: 370 | AY41: 180 | AZ41: 65 | BA41: 25 | BB41: 45 | BC41: 80 | BE41: 270 | BF41: 30 | BG41: 245 | BI41: 160 | BJ41: 90 | BK41: 40 | BL41: 10 | BM41: 20 | BN41: 45 | BP41: 125 | BQ41: 20 | BR41: 115 | BT41: . | BU41: . | BV41: . | BW41: . | BX41: . | BY41: . | CA41: . | CB41: . | CC41: . | CE41: . | CF41: . | CG41: . | CH41: . | CI41: . | CJ41: . | CL41: . | CM41: . | CN41: . | CP41: 31 | CR41: 23 | CS41: 14 | CT41: 18 | CU41: 40 | CV41: 49 | CW41: . | CX41: .
B42: 1e halfjaar 2018 | C42: 3350 | E42: 2645 | G42: 80 | H42: 170 | I42: 810 | J42: 1040 | K42: 505 | L42: 40 | M42: . | O42: 955 | Q42: 20 | R42: 20 | S42: . | T42: . | U42: . | V42: 10 | X42: . | Y42: . | Z42: . | AB42: 20 | AC42: . | AD42: . | AE42: . | AF42: . | AG42: . | AI42: 15 | AJ42: . | AK42: 15 | AM42: 165 | AN42: 70 | AO42: 25 | AP42: . | AQ42: 20 | AR42: 35 | AT42: 105 | AU42: 20 | AV42: 90 | AX42: 420 | AY42: 205 | AZ42: 80 | BA42: 25 | BB42: 50 | BC42: 95 | BE42: 285 | BF42: 30 | BG42: 265 | BI42: 305 | BJ42: 160 | BK42: 65 | BL42: 25 | BM42: 35 | BN42: 100 | BP42: 235 | BQ42: 40 | BR42: 210 | BT42: 25 | BU42: 10 | BV42: . | BW42: . | BX42: . | BY42: 10 | CA42: 15 | CB42: . | CC42: 15 | CE42: . | CF42: . | CG42: . | CH42: . | CI42: . | CJ42: . | CL42: . | CM42: . | CN42: . | CP42: 36 | CR42: 25 | CS42: 12 | CT42: 20 | CU42: 40 | CV42: 60 | CW42: 65 | CX42: .
B43: 2e halfjaar 2018 | C43: 3535 | E43: 2955 | G43: 90 | H43: 160 | I43: 845 | J43: 1135 | K43: 560 | L43: 165 | M43: . | O43: 1080 | Q43: 30 | R43: 20 | S43: 15 | T43: . | U43: . | V43: 5 | X43: 15 | Y43: . | Z43: 15 | AB43: 10 | AC43: . | AD43: . | AE43: . | AF43: . | AG43: . | AI43: . | AJ43: . | AK43: . | AM43: 130 | AN43: 60 | AO43: 20 | AP43: . | AQ43: 15 | AR43: 25 | AT43: 85 | AU43: 10 | AV43: 75 | AX43: 470 | AY43: 200 | AZ43: 80 | BA43: 25 | BB43: 50 | BC43: 80 | BE43: 355 | BF43: 55 | BG43: 325 | BI43: 325 | BJ43: 165 | BK43: 70 | BL43: 15 | BM43: 35 | BN43: 100 | BP43: 245 | BQ43: 40 | BR43: 220 | BT43: 110 | BU43: 50 | BV43: 20 | BW43: 5 | BX43: 10 | BY43: 30 | CA43: 95 | CB43: 15 | CC43: 85 | CE43: . | CF43: . | CG43: . | CH43: . | CI43: . | CJ43: . | CL43: . | CM43: . | CN43: . | CP43: 37 | CR43: 36 | CS43: 7 | CT43: 15 | CU43: 42 | CV43: 58 | CW43: 67 | CX43: .
B44: 1e halfjaar 2019 | C44: 3540 | E44: 3145 | G44: 110 | H44: 190 | I44: 800 | J44: 1115 | K44: 590 | L44: 310 | M44: 25 | O44: 1310 | Q44: 30 | R44: 25 | S44: 10 | T44: . | U44: . | V44: 5 | X44: 10 | Y44: . | Z44: 10 | AB44: 20 | AC44: 10 | AD44: 10 | AE44: . | AF44: . | AG44: . | AI44: 10 | AJ44: . | AK44: 10 | AM44: 135 | AN44: 50 | AO44: 20 | AP44: 5 | AQ44: 10 | AR44: 20 | AT44: 95 | AU44: 15 | AV44: 80 | AX44: 515 | AY44: 215 | AZ44: 90 | BA44: 40 | BB44: 45 | BC44: 95 | BE44: 380 | BF44: 60 | BG44: 340 | BI44: 370 | BJ44: 210 | BK44: 95 | BL44: 55 | BM44: 40 | BN44: 100 | BP44: 275 | BQ44: 50 | BR44: 250 | BT44: 220 | BU44: 120 | BV44: 45 | BW44: 25 | BX44: 25 | BY44: 80 | CA44: 170 | CB44: 25 | CC44: 155 | CE44: 20 | CF44: 10 | CG44: 5 | CH44: . | CI44: . | CJ44: . | CL44: 15 | CM44: . | CN44: 15 | CP44: 42 | CR44: 26 | CS44: 10 | CT44: 17 | CU44: 46 | CV44: 63 | CW44: 71 | CX44: 67
B45: 2e halfjaar 2019 | C45: 3580 | E45: 3235 | G45: 130 | H45: 140 | I45: 830 | J45: 1055 | K45: 670 | L45: 315 | M45: 100 | O45: 1265 | Q45: 30 | R45: 15 | S45: . | T45: . | U45: 5 | V45: . | X45: 15 | Y45: . | Z45: 15 | AB45: 10 | AC45: 10 | AD45: . | AE45: . | AF45: . | AG45: . | AI45: 5 | AJ45: . | AK45: 5 | AM45: 145 | AN45: 60 | AO45: 20 | AP45: . | AQ45: 15 | AR45: 25 | AT45: 100 | AU45: 10 | AV45: 90 | AX45: 420 | AY45: 200 | AZ45: 85 | BA45: 25 | BB45: 60 | BC45: 65 | BE45: 285 | BF45: 40 | BG45: 255 | BI45: 390 | BJ45: 170 | BK45: 65 | BL45: 40 | BM45: 40 | BN45: 80 | BP45: 300 | BQ45: 35 | BR45: 280 | BT45: 200 | BU45: 90 | BV45: 35 | BW45: 30 | BX45: 15 | BY45: 50 | CA45: 165 | CB45: 30 | CC45: 150 | CE45: 65 | CF45: 35 | CG45: 20 | CH45: . | CI45: 10 | CJ45: 20 | CL45: 55 | CM45: 10 | CN45: 50 | CP45: 39 | CR45: 23 | CS45: 8 | CT45: 17 | CU45: 40 | CV45: 59 | CW45: 63 | CX45: 68
B46: 1e halfjaar 2020 | C46: 3245 | E46: 3035 | G46: 105 | H46: 140 | I46: 725 | J46: 1035 | K46: 590 | L46: 305 | M46: 130 | O46: 1200 | Q46: 20 | R46: 15 | S46: . | T46: . | U46: . | V46: 5 | X46: 10 | Y46: . | Z46: 10 | AB46: 10 | AC46: 10 | AD46: . | AE46: . | AF46: . | AG46: . | AI46: . | AJ46: . | AK46: . | AM46: 125 | AN46: 45 | AO46: 20 | AP46: . | AQ46: 10 | AR46: 15 | AT46: 90 | AU46: . | AV46: 85 | AX46: 405 | AY46: 170 | AZ46: 65 | BA46: 30 | BB46: 45 | BC46: 70 | BE46: 300 | BF46: 35 | BG46: 270 | BI46: 325 | BJ46: 155 | BK46: 75 | BL46: 25 | BM46: 35 | BN46: 80 | BP46: 240 | BQ46: 35 | BR46: 225 | BT46: 210 | BU46: 115 | BV46: 30 | BW46: 40 | BX46: 20 | BY46: 70 | CA46: 160 | CB46: 40 | CC46: 145 | CE46: 100 | CF46: 55 | CG46: 25 | CH46: 15 | CI46: 10 | CJ46: 35 | CL46: 85 | CM46: 20 | CN46: 75 | CP46: 39 | CR46: 20 | CS46: 8 | CT46: 17 | CU46: 39 | CV46: 55 | CW46: 68 | CX46: 77
B47: 2e halfjaar 2020 | C47: 3445 | E47: 3235 | G47: 80 | H47: 110 | I47: 675 | J47: 1085 | K47: 660 | L47: 385 | M47: 240 | O47: 1380 | Q47: 10 | R47: 10 | S47: . | T47: . | U47: . | V47: . | X47: . | Y47: . | Z47: . | AB47: 10 | AC47: . | AD47: . | AE47: . | AF47: . | AG47: . | AI47: . | AJ47: . | AK47: . | AM47: 105 | AN47: 55 | AO47: 15 | AP47: . | AQ47: 20 | AR47: 20 | AT47: 65 | AU47: 10 | AV47: 60 | AX47: 440 | AY47: 205 | AZ47: 85 | BA47: 20 | BB47: 65 | BC47: 80 | BE47: 295 | BF47: 45 | BG47: 265 | BI47: 350 | BJ47: 145 | BK47: 50 | BL47: 15 | BM47: 35 | BN47: 80 | BP47: 270 | BQ47: 45 | BR47: 240 | BT47: 260 | BU47: 130 | BV47: 55 | BW47: 30 | BX47: 25 | BY47: 75 | CA47: 210 | CB47: 35 | CC47: 190 | CE47: 205 | CF47: 100 | CG47: 55 | CH47: 25 | CI47: 20 | CJ47: 45 | CL47: 165 | CM47: 45 | CN47: 145 | CP47: 43 | CR47: 15 | CS47: 9 | CT47: 16 | CU47: 40 | CV47: 53 | CW47: 68 | CX47: 85
B48: 1e halfjaar 2021 | C48: 3755 | E48: 3570 | G48: 80 | H48: 120 | I48: 800 | J48: 1150 | K48: 770 | L48: 355 | M48: 300 | O48: 1405 | Q48: 20 | R48: 15 | S48: 5 | T48: . | U48: 5 | V48: . | X48: . | Y48: . | Z48: . | AB48: 10 | AC48: . | AD48: . | AE48: . | AF48: . | AG48: . | AI48: . | AJ48: . | AK48: . | AM48: 100 | AN48: 35 | AO48: 10 | AP48: . | AQ48: 5 | AR48: 20 | AT48: 70 | AU48: 10 | AV48: 60 | AX48: 420 | AY48: 190 | AZ48: 75 | BA48: 20 | BB48: 45 | BC48: 80 | BE48: 280 | BF48: 35 | BG48: 255 | BI48: 395 | BJ48: 160 | BK48: 50 | BL48: 25 | BM48: 40 | BN48: 85 | BP48: 305 | BQ48: 50 | BR48: 270 | BT48: 230 | BU48: 90 | BV48: 35 | BW48: 15 | BX48: 20 | BY48: 45 | CA48: 185 | CB48: 40 | CC48: 165 | CE48: 240 | CF48: 100 | CG48: 45 | CH48: 30 | CI48: 20 | CJ48: 65 | CL48: 210 | CM48: 55 | CN48: 190 | CP48: 39 | CR48: 22 | CS48: 7 | CT48: 12 | CU48: 36 | CV48: 51 | CW48: 65 | CX48: 79
B49: 2e halfjaar 2021 | C49: 3685 | E49: 3565 | G49: 85 | H49: 165 | I49: 705 | J49: 1120 | K49: 740 | L49: 420 | M49: 325 | O49: 1400 | Q49: 25 | R49: 20 | S49: 10 | T49: . | U49: . | V49: 5 | X49: . | Y49: . | Z49: . | AB49: 10 | AC49: . | AD49: . | AE49: . | AF49: . | AG49: . | AI49: . | AJ49: . | AK49: . | AM49: 115 | AN49: 40 | AO49: 10 | AP49: . | AQ49: . | AR49: 20 | AT49: 90 | AU49: 10 | AV49: 80 | AX49: 370 | AY49: 155 | AZ49: 65 | BA49: 10 | BB49: 35 | BC49: 70 | BE49: 270 | BF49: 30 | BG49: 250 | BI49: 365 | BJ49: 150 | BK49: 55 | BL49: 20 | BM49: 35 | BN49: 75 | BP49: 280 | BQ49: 35 | BR49: 255 | BT49: 260 | BU49: 130 | BV49: 55 | BW49: 25 | BX49: 30 | BY49: 75 | CA49: 205 | CB49: 35 | CC49: 190 | CE49: 250 | CF49: 125 | CG49: 50 | CH49: 35 | CI49: 15 | CJ49: 75 | CL49: 210 | CM49: 35 | CN49: 200 | CP49: 39 | CR49: 29 | CS49: 7 | CT49: 16 | CU49: 33 | CV49: 49 | CW49: 62 | CX49: 76
B50: 1e halfjaar 2022 | C50: 4110 | E50: 4010 | G50: 85 | H50: 110 | I50: 855 | J50: 1195 | K50: 905 | L50: 450 | M50: 415 | O50: 1685 | Q50: 25 | R50: 20 | S50: 10 | T50: . | U50: . | V50: . | X50: 5 | Y50: . | Z50: 5 | AB50: 5 | AC50: . | AD50: . | AE50: . | AF50: . | AG50: . | AI50: . | AJ50: . | AK50: . | AM50: 135 | AN50: 55 | AO50: 20 | AP50: . | AQ50: 10 | AR50: 30 | AT50: 90 | AU50: 10 | AV50: 80 | AX50: 435 | AY50: 170 | AZ50: 70 | BA50: 15 | BB50: 35 | BC50: 75 | BE50: 315 | BF50: 20 | BG50: 300 | BI50: 480 | BJ50: 175 | BK50: 80 | BL50: 20 | BM50: 35 | BN50: 85 | BP50: 380 | BQ50: 40 | BR50: 355 | BT50: 295 | BU50: 140 | BV50: 55 | BW50: 20 | BX50: 35 | BY50: 75 | CA50: 230 | CB50: 45 | CC50: 200 | CE50: 305 | CF50: 145 | CG50: 70 | CH50: 50 | CI50: 25 | CJ50: 80 | CL50: 280 | CM50: 70 | CN50: 245 | CP50: 42 | CR50: 30 | CS50: 6 | CT50: 16 | CU50: 36 | CV50: 53 | CW50: 66 | CX50: 74
B51: 2e halfjaar 2022 | C51: 3890 | E51: 3805 | G51: 75 | H51: 105 | I51: 635 | J51: 1240 | K51: 815 | L51: 490 | M51: 440 | O51: 1650 | Q51: 20 | R51: 10 | S51: . | T51: . | U51: . | V51: 5 | X51: 10 | Y51: . | Z51: 10 | AB51: 10 | AC51: 5 | AD51: . | AE51: . | AF51: . | AG51: . | AI51: . | AJ51: . | AK51: . | AM51: 95 | AN51: 35 | AO51: 10 | AP51: . | AQ51: 10 | AR51: 15 | AT51: 65 | AU51: . | AV51: 60 | AX51: 470 | AY51: 200 | AZ51: 80 | BA51: 20 | BB51: 35 | BC51: 105 | BE51: 320 | BF51: 30 | BG51: 300 | BI51: 415 | BJ51: 165 | BK51: 75 | BL51: 30 | BM51: 25 | BN51: 75 | BP51: 320 | BQ51: 30 | BR51: 300 | BT51: 315 | BU51: 155 | BV51: 75 | BW51: 35 | BX51: 25 | BY51: 90 | CA51: 245 | CB51: 40 | CC51: 230 | CE51: 335 | CF51: 165 | CG51: 75 | CH51: 45 | CI51: 25 | CJ51: 95 | CL51: 275 | CM51: 45 | CN51: 255 | CP51: 43 | CR51: 24 | CS51: 9 | CT51: 15 | CU51: 38 | CV51: 51 | CW51: 64 | CX51: 76
B52: 1e halfjaar 2023 | C52: 3630 | E52: 3570 | G52: 120 | H52: 110 | I52: 605 | J52: 1045 | K52: 745 | L52: 475 | M52: 475 | O52: 1550 | Q52: 25 | R52: 15 | S52: . | T52: . | U52: . | V52: 5 | X52: 10 | Y52: . | Z52: 10 | AB52: 5 | AC52: . | AD52: . | AE52: . | AF52: . | AG52: . | AI52: . | AJ52: . | AK52: . | AM52: 100 | AN52: 30 | AO52: . | AP52: . | AQ52: 5 | AR52: 15 | AT52: 80 | AU52: . | AV52: 75 | AX52: 375 | AY52: 130 | AZ52: 45 | BA52: 15 | BB52: 30 | BC52: 65 | BE52: 280 | BF52: 20 | BG52: 265 | BI52: 380 | BJ52: 155 | BK52: 70 | BL52: 30 | BM52: 20 | BN52: 75 | BP52: 285 | BQ52: 25 | BR52: 265 | BT52: 300 | BU52: 130 | BV52: 60 | BW52: 30 | BX52: 25 | BY52: 75 | CA52: 245 | CB52: 35 | CC52: 220 | CE52: 365 | CF52: 155 | CG52: 75 | CH52: 45 | CI52: 20 | CJ52: 75 | CL52: 315 | CM52: 55 | CN52: 295 | CP52: 43 | CR52: 19 | CS52: 6 | CT52: 17 | CU52: 36 | CV52: 51 | CW52: 63 | CX52: 77
B53: 2e halfjaar 2023 | C53: 3400 | E53: 3365 | G53: 95 | H53: 120 | I53: 540 | J53: 935 | K53: 740 | L53: 455 | M53: 480 | O53: 1410 | Q53: 15 | R53: 10 | S53: . | T53: . | U53: . | V53: . | X53: 10 | Y53: . | Z53: 10 | AB53: 10 | AC53: . | AD53: . | AE53: . | AF53: . | AG53: . | AI53: . | AJ53: . | AK53: . | AM53: 90 | AN53: 25 | AO53: 10 | AP53: . | AQ53: . | AR53: 10 | AT53: 70 | AU53: 5 | AV53: 60 | AX53: 300 | AY53: 115 | AZ53: 50 | BA53: 15 | BB53: 25 | BC53: 50 | BE53: 230 | BF53: 25 | BG53: 210 | BI53: 365 | BJ53: 130 | BK53: 70 | BL53: 25 | BM53: 20 | BN53: 55 | BP53: 290 | BQ53: 15 | BR53: 285 | BT53: 265 | BU53: 110 | BV53: 45 | BW53: 15 | BX53: 15 | BY53: 55 | CA53: 210 | CB53: 20 | CC53: 195 | CE53: 365 | CF53: 185 | CG53: 85 | CH53: 35 | CI53: 20 | CJ53: 110 | CL53: 305 | CM53: 65 | CN53: 285 | CP53: 42 | CR53: 18 | CS53: 7 | CT53: 17 | CU53: 32 | CV53: 50 | CW53: 58 | CX53: 75
B54: 1e halfjaar 2024 | C54: 3295 | E54: 3250 | G54: 90 | H54: 105 | I54: 565 | J54: 835 | K54: 685 | L54: 425 | M54: 545 | O54: 1425 | Q54: 25 | R54: 20 | S54: 10 | T54: . | U54: . | V54: 10 | X54: 10 | Y54: . | Z54: 10 | AB54: . | AC54: . | AD54: . | AE54: . | AF54: . | AG54: . | AI54: . | AJ54: . | AK54: . | AM54: 100 | AN54: 30 | AO54: 5 | AP54: . | AQ54: . | AR54: 15 | AT54: 70 | AU54: . | AV54: 65 | AX54: 300 | AY54: 120 | AZ54: 45 | BA54: 15 | BB54: 30 | BC54: 60 | BE54: 225 | BF54: 20 | BG54: 210 | BI54: 335 | BJ54: 135 | BK54: 55 | BL54: 35 | BM54: 25 | BN54: 55 | BP54: 255 | BQ54: 20 | BR54: 245 | BT54: 250 | BU54: 95 | BV54: 40 | BW54: 15 | BX54: 10 | BY54: 55 | CA54: 200 | CB54: 30 | CC54: 190 | CE54: 405 | CF54: 185 | CG54: 105 | CH54: 45 | CI54: 25 | CJ54: 105 | CL54: 325 | CM54: 80 | CN54: 295 | CP54: 44 | CR54: 30 | CS54: . | CT54: 17 | CU54: 36 | CV54: 49 | CW54: 59 | CX54: 74
B55: 2e halfjaar 2024 | C55: 3060 | E55: 3045 | G55: 70 | H55: 115 | I55: 545 | J55: 775 | K55: 625 | L55: 410 | M55: 505 | O55: 1240 | Q55: 10 | R55: . | S55: . | T55: . | U55: . | V55: . | X55: . | Y55: . | Z55: . | AB55: . | AC55: . | AD55: . | AE55: . | AF55: . | AG55: . | AI55: . | AJ55: . | AK55: . | AM55: 80 | AN55: 25 | AO55: 15 | AP55: . | AQ55: . | AR55: 10 | AT55: 65 | AU55: . | AV55: 60 | AX55: 250 | AY55: 90 | AZ55: 35 | BA55: 15 | BB55: 10 | BC55: 45 | BE55: 195 | BF55: 20 | BG55: 180 | BI55: 295 | BJ55: 120 | BK55: 40 | BL55: 30 | BM55: 20 | BN55: 60 | BP55: 205 | BQ55: 15 | BR55: 200 | BT55: 225 | BU55: 85 | BV55: 30 | BW55: 20 | BX55: 15 | BY55: 50 | CA55: 180 | CB55: 20 | CC55: 165 | CE55: 375 | CF55: 210 | CG55: 100 | CH55: 55 | CI55: 35 | CJ55: 125 | CL55: 305 | CM55: 65 | CN55: 280 | CP55: 41 | CR55: 13 | CS55: . | CT55: 15 | CU55: 32 | CV55: 48 | CW55: 55 | CX55: 74
B56: 1e halfjaar 2025 | C56: 2940 | E56: 2925 | G56: 80 | H56: 75 | I56: 490 | J56: 855 | K56: 570 | L56: 400 | M56: 455 | O56: 1230 | Q56: 15 | R56: 10 | S56: 10 | T56: . | U56: . | V56: . | X56: . | Y56: . | Z56: . | AB56: . | AC56: . | AD56: . | AE56: . | AF56: . | AG56: . | AI56: . | AJ56: . | AK56: . | AM56: 60 | AN56: 25 | AO56: 10 | AP56: . | AQ56: . | AR56: 15 | AT56: 40 | AU56: . | AV56: 35 | AX56: 275 | AY56: 120 | AZ56: 35 | BA56: 25 | BB56: 15 | BC56: 70 | BE56: 190 | BF56: 15 | BG56: 175 | BI56: 295 | BJ56: 115 | BK56: 40 | BL56: 20 | BM56: 20 | BN56: 65 | BP56: 225 | BQ56: 25 | BR56: 210 | BT56: 230 | BU56: 85 | BV56: 35 | BW56: 15 | BX56: 10 | BY56: 45 | CA56: 185 | CB56: 20 | CC56: 170 | CE56: 350 | CF56: 185 | CG56: 90 | CH56: 45 | CI56: 20 | CJ56: 95 | CL56: 280 | CM56: 50 | CN56: 260 | CP56: 42 | CR56: 16 | CS56: . | CT56: 12 | CU56: 32 | CV56: 52 | CW56: 57 | CX56: 77
B57: 2e halfjaar 2025 | C57: 2995 | E57: 2980 | G57: 115 | H57: 105 | I57: 485 | J57: 795 | K57: 640 | L57: 345 | M57: 490 | O57: 1285 | Q57: 25 | R57: 25 | S57: 10 | T57: . | U57: . | V57: 15 | X57: . | Y57: . | Z57: . | AB57: 10 | AC57: 5 | AD57: . | AE57: . | AF57: . | AG57: . | AI57: . | AJ57: . | AK57: . | AM57: 85 | AN57: 25 | AO57: 5 | AP57: . | AQ57: . | AR57: 15 | AT57: 65 | AU57: . | AV57: 60 | AX57: 285 | AY57: 115 | AZ57: 35 | BA57: 20 | BB57: 20 | BC57: 60 | BE57: 205 | BF57: 15 | BG57: 195 | BI57: 290 | BJ57: 110 | BK57: 35 | BL57: 20 | BM57: 15 | BN57: 65 | BP57: 230 | BQ57: 20 | BR57: 220 | BT57: 215 | BU57: 80 | BV57: 30 | BW57: 20 | BX57: 15 | BY57: 45 | CA57: 175 | CB57: 20 | CC57: 160 | CE57: 370 | CF57: 190 | CG57: 85 | CH57: 60 | CI57: 25 | CJ57: 110 | CL57: 300 | CM57: 55 | CN57: 275 | CP57: 43 | CR57: 23 | CS57: 10 | CT57: 17 | CU57: 36 | CV57: 46 | CW57: 61 | CX57: 76
B58: 1e halfjaar 2026 | C58: 2715 | E58: 2700 | G58: 100 | H58: 65 | I58: 460 | J58: 805 | K58: 500 | L58: 310 | M58: 465 | O58: 1210 | Q58: 20 | R58: 15 | S58: . | T58: . | U58: . | V58: 10 | X58: 10 | Y58: . | Z58: 10 | AB58: . | AC58: . | AD58: . | AE58: . | AF58: . | AG58: . | AI58: . | AJ58: . | AK58: . | AM58: 85 | AN58: 20 | AO58: 10 | AP58: . | AQ58: . | AR58: 10 | AT58: 70 | AU58: . | AV58: 65 | AX58: 295 | AY58: 105 | AZ58: 40 | BA58: 15 | BB58: 20 | BC58: 50 | BE58: 220 | BF58: 15 | BG58: 210 | BI58: 240 | BJ58: 100 | BK58: 40 | BL58: 15 | BM58: 25 | BN58: 65 | BP58: 185 | BQ58: 15 | BR58: 175 | BT58: 205 | BU58: 100 | BV58: 40 | BW58: 20 | BX58: 10 | BY58: 65 | CA58: 140 | CB58: 20 | CC58: 130 | CE58: 355 | CF58: 200 | CG58: 90 | CH58: 65 | CI58: 15 | CJ58: 110 | CL58: 285 | CM58: 65 | CN58: 255 | CP58: 45 | CR58: 22 | CS58: . | CT58: 19 | CU58: 37 | CV58: 48 | CW58: 65 | CX58: 76
A60: Episode met alleen voogdij | B60: 1e halfjaar 2015 | C60: 555 | E60: 10 | G60: 10 | H60: . | I60: . | J60: . | K60: . | L60: . | M60: . | O60: . | Q60: . | R60: . | S60: . | T60: . | U60: . | V60: . | X60: . | Y60: . | Z60: . | AB60: . | AC60: . | AD60: . | AE60: . | AF60: . | AG60: . | AI60: . | AJ60: . | AK60: . | AM60: . | AN60: . | AO60: . | AP60: . | AQ60: . | AR60: . | AT60: . | AU60: . | AV60: . | AX60: . | AY60: . | AZ60: . | BA60: . | BB60: . | BC60: . | BE60: . | BF60: . | BG60: . | BI60: . | BJ60: . | BK60: . | BL60: . | BM60: . | BN60: . | BP60: . | BQ60: . | BR60: . | BT60: . | BU60: . | BV60: . | BW60: . | BX60: . | BY60: . | CA60: . | CB60: . | CC60: . | CE60: . | CF60: . | CG60: . | CH60: . | CI60: . | CJ60: . | CL60: . | CM60: . | CN60: . | CP60: . | CR60: . | CS60: . | CT60: . | CU60: . | CV60: . | CW60: . | CX60: .
B61: 2e halfjaar 2015 | C61: 645 | E61: 45 | G61: 20 | H61: 10 | I61: 10 | J61: . | K61: . | L61: . | M61: . | O61: . | Q61: . | R61: . | S61: . | T61: . | U61: . | V61: . | X61: . | Y61: . | Z61: . | AB61: . | AC61: . | AD61: . | AE61: . | AF61: . | AG61: . | AI61: . | AJ61: . | AK61: . | AM61: . | AN61: . | AO61: . | AP61: . | AQ61: . | AR61: . | AT61: . | AU61: . | AV61: . | AX61: . | AY61: . | AZ61: . | BA61: . | BB61: . | BC61: . | BE61: . | BF61: . | BG61: . | BI61: . | BJ61: . | BK61: . | BL61: . | BM61: . | BN61: . | BP61: . | BQ61: . | BR61: . | BT61: . | BU61: . | BV61: . | BW61: . | BX61: . | BY61: . | CA61: . | CB61: . | CC61: . | CE61: . | CF61: . | CG61: . | CH61: . | CI61: . | CJ61: . | CL61: . | CM61: . | CN61: . | CP61: . | CR61: . | CS61: . | CT61: . | CU61: . | CV61: . | CW61: . | CX61: .
B62: 1e halfjaar 2016 | C62: 575 | E62: 75 | G62: 25 | H62: 15 | I62: 20 | J62: 10 | K62: . | L62: . | M62: . | O62: 10 | Q62: . | R62: . | S62: . | T62: . | U62: . | V62: . | X62: . | Y62: . | Z62: . | AB62: . | AC62: . | AD62: . | AE62: . | AF62: . | AG62: . | AI62: . | AJ62: . | AK62: . | AM62: . | AN62: . | AO62: . | AP62: . | AQ62: . | AR62: . | AT62: . | AU62: . | AV62: . | AX62: . | AY62: . | AZ62: . | BA62: . | BB62: . | BC62: . | BE62: . | BF62: . | BG62: . | BI62: . | BJ62: . | BK62: . | BL62: . | BM62: . | BN62: . | BP62: . | BQ62: . | BR62: . | BT62: . | BU62: . | BV62: . | BW62: . | BX62: . | BY62: . | CA62: . | CB62: . | CC62: . | CE62: . | CF62: . | CG62: . | CH62: . | CI62: . | CJ62: . | CL62: . | CM62: . | CN62: . | CP62: 14 | CR62: . | CS62: . | CT62: . | CU62: . | CV62: . | CW62: . | CX62: .
B63: 2e halfjaar 2016 | C63: 550 | E63: 70 | G63: 25 | H63: 5 | I63: 15 | J63: 20 | K63: . | L63: . | M63: . | O63: 15 | Q63: . | R63: . | S63: . | T63: . | U63: . | V63: . | X63: . | Y63: . | Z63: . | AB63: . | AC63: . | AD63: . | AE63: . | AF63: . | AG63: . | AI63: . | AJ63: . | AK63: . | AM63: . | AN63: . | AO63: . | AP63: . | AQ63: . | AR63: . | AT63: . | AU63: . | AV63: . | AX63: . | AY63: . | AZ63: . | BA63: . | BB63: . | BC63: . | BE63: . | BF63: . | BG63: . | BI63: . | BJ63: . | BK63: . | BL63: . | BM63: . | BN63: . | BP63: . | BQ63: . | BR63: . | BT63: . | BU63: . | BV63: . | BW63: . | BX63: . | BY63: . | CA63: . | CB63: . | CC63: . | CE63: . | CF63: . | CG63: . | CH63: . | CI63: . | CJ63: . | CL63: . | CM63: . | CN63: . | CP63: 21 | CR63: . | CS63: . | CT63: . | CU63: . | CV63: . | CW63: . | CX63: .
B64: 1e halfjaar 2017 | C64: 565 | E64: 95 | G64: 40 | H64: 10 | I64: 15 | J64: 20 | K64: 5 | L64: . | M64: . | O64: 20 | Q64: . | R64: . | S64: . | T64: . | U64: . | V64: . | X64: . | Y64: . | Z64: . | AB64: . | AC64: . | AD64: . | AE64: . | AF64: . | AG64: . | AI64: . | AJ64: . | AK64: . | AM64: . | AN64: . | AO64: . | AP64: . | AQ64: . | AR64: . | AT64: . | AU64: . | AV64: . | AX64: . | AY64: . | AZ64: . | BA64: . | BB64: . | BC64: . | BE64: . | BF64: . | BG64: . | BI64: . | BJ64: . | BK64: . | BL64: . | BM64: . | BN64: . | BP64: . | BQ64: . | BR64: . | BT64: . | BU64: . | BV64: . | BW64: . | BX64: . | BY64: . | CA64: . | CB64: . | CC64: . | CE64: . | CF64: . | CG64: . | CH64: . | CI64: . | CJ64: . | CL64: . | CM64: . | CN64: . | CP64: 23 | CR64: . | CS64: . | CT64: . | CU64: . | CV64: . | CW64: . | CX64: .
B65: 2e halfjaar 2017 | C65: 535 | E65: 115 | G65: 25 | H65: 10 | I65: 25 | J65: 35 | K65: 15 | L65: . | M65: . | O65: 35 | Q65: . | R65: . | S65: . | T65: . | U65: . | V65: . | X65: . | Y65: . | Z65: . | AB65: . | AC65: . | AD65: . | AE65: . | AF65: . | AG65: . | AI65: . | AJ65: . | AK65: . | AM65: . | AN65: . | AO65: . | AP65: . | AQ65: . | AR65: . | AT65: . | AU65: . | AV65: . | AX65: 15 | AY65: 15 | AZ65: . | BA65: . | BB65: . | BC65: 10 | BE65: . | BF65: . | BG65: . | BI65: 10 | BJ65: . | BK65: . | BL65: . | BM65: . | BN65: . | BP65: 10 | BQ65: . | BR65: 5 | BT65: . | BU65: . | BV65: . | BW65: . | BX65: . | BY65: . | CA65: . | CB65: . | CC65: . | CE65: . | CF65: . | CG65: . | CH65: . | CI65: . | CJ65: . | CL65: . | CM65: . | CN65: . | CP65: 31 | CR65: . | CS65: . | CT65: . | CU65: 42 | CV65: 47 | CW65: . | CX65: .
B66: 1e halfjaar 2018 | C66: 525 | E66: 130 | G66: 20 | H66: 15 | I66: 25 | J66: 30 | K66: 35 | L66: . | M66: . | O66: 40 | Q66: . | R66: . | S66: . | T66: . | U66: . | V66: . | X66: . | Y66: . | Z66: . | AB66: . | AC66: . | AD66: . | AE66: . | AF66: . | AG66: . | AI66: . | AJ66: . | AK66: . | AM66: . | AN66: . | AO66: . | AP66: . | AQ66: . | AR66: . | AT66: . | AU66: . | AV66: . | AX66: 10 | AY66: 5 | AZ66: . | BA66: . | BB66: . | BC66: . | BE66: . | BF66: . | BG66: . | BI66: 20 | BJ66: 15 | BK66: 10 | BL66: . | BM66: . | BN66: . | BP66: 15 | BQ66: . | BR66: 15 | BT66: . | BU66: . | BV66: . | BW66: . | BX66: . | BY66: . | CA66: . | CB66: . | CC66: . | CE66: . | CF66: . | CG66: . | CH66: . | CI66: . | CJ66: . | CL66: . | CM66: . | CN66: . | CP66: 31 | CR66: . | CS66: . | CT66: . | CU66: 31 | CV66: 58 | CW66: . | CX66: .
B67: 2e halfjaar 2018 | C67: 475 | E67: 110 | G67: 20 | H67: 10 | I67: 20 | J67: 30 | K67: 20 | L67: 10 | M67: . | O67: 35 | Q67: . | R67: . | S67: . | T67: . | U67: . | V67: . | X67: . | Y67: . | Z67: . | AB67: . | AC67: . | AD67: . | AE67: . | AF67: . | AG67: . | AI67: . | AJ67: . | AK67: . | AM67: 10 | AN67: 5 | AO67: . | AP67: . | AQ67: . | AR67: . | AT67: . | AU67: . | AV67: . | AX67: 10 | AY67: 5 | AZ67: . | BA67: . | BB67: . | BC67: . | BE67: . | BF67: . | BG67: . | BI67: 10 | BJ67: . | BK67: . | BL67: . | BM67: . | BN67: . | BP67: 5 | BQ67: . | BR67: . | BT67: . | BU67: . | BV67: . | BW67: . | BX67: . | BY67: . | CA67: . | CB67: . | CC67: . | CE67: . | CF67: . | CG67: . | CH67: . | CI67: . | CJ67: . | CL67: . | CM67: . | CN67: . | CP67: 33 | CR67: . | CS67: . | CT67: 47 | CU67: 34 | CV67: 41 | CW67: . | CX67: .
B68: 1e halfjaar 2019 | C68: 500 | E68: 110 | G68: 30 | H68: 10 | I68: 10 | J68: 20 | K68: 20 | L68: 15 | M68: . | O68: 40 | Q68: 10 | R68: 10 | S68: . | T68: . | U68: . | V68: . | X68: . | Y68: . | Z68: . | AB68: . | AC68: . | AD68: . | AE68: . | AF68: . | AG68: . | AI68: . | AJ68: . | AK68: . | AM68: . | AN68: . | AO68: . | AP68: . | AQ68: . | AR68: . | AT68: . | AU68: . | AV68: . | AX68: . | AY68: . | AZ68: . | BA68: . | BB68: . | BC68: . | BE68: . | BF68: . | BG68: . | BI68: 10 | BJ68: . | BK68: . | BL68: . | BM68: . | BN68: . | BP68: . | BQ68: . | BR68: . | BT68: . | BU68: . | BV68: . | BW68: . | BX68: . | BY68: . | CA68: . | CB68: . | CC68: . | CE68: . | CF68: . | CG68: . | CH68: . | CI68: . | CJ68: . | CL68: . | CM68: . | CN68: . | CP68: 37 | CR68: 33 | CS68: . | CT68: . | CU68: . | CV68: 50 | CW68: . | CX68: .
B69: 2e halfjaar 2019 | C69: 550 | E69: 130 | G69: 30 | H69: 10 | I69: 15 | J69: 25 | K69: 25 | L69: 20 | M69: . | O69: 45 | Q69: . | R69: . | S69: . | T69: . | U69: . | V69: . | X69: . | Y69: . | Z69: . | AB69: . | AC69: . | AD69: . | AE69: . | AF69: . | AG69: . | AI69: . | AJ69: . | AK69: . | AM69: . | AN69: . | AO69: . | AP69: . | AQ69: . | AR69: . | AT69: . | AU69: . | AV69: . | AX69: 15 | AY69: 10 | AZ69: 10 | BA69: . | BB69: . | BC69: . | BE69: . | BF69: . | BG69: . | BI69: 10 | BJ69: . | BK69: . | BL69: . | BM69: . | BN69: . | BP69: . | BQ69: . | BR69: . | BT69: 10 | BU69: . | BV69: . | BW69: . | BX69: . | BY69: . | CA69: 10 | CB69: . | CC69: 5 | CE69: . | CF69: . | CG69: . | CH69: . | CI69: . | CJ69: . | CL69: . | CM69: . | CN69: . | CP69: 33 | CR69: . | CS69: . | CT69: . | CU69: 48 | CV69: 42 | CW69: 56 | CX69: .
B70: 1e halfjaar 2020 | C70: 470 | E70: 160 | G70: 35 | H70: 15 | I70: 25 | J70: 25 | K70: 25 | L70: 20 | M70: 15 | O70: 65 | Q70: . | R70: . | S70: . | T70: . | U70: . | V70: . | X70: . | Y70: . | Z70: . | AB70: . | AC70: . | AD70: . | AE70: . | AF70: . | AG70: . | AI70: . | AJ70: . | AK70: . | AM70: . | AN70: . | AO70: . | AP70: . | AQ70: . | AR70: . | AT70: . | AU70: . | AV70: . | AX70: 15 | AY70: 15 | AZ70: 10 | BA70: . | BB70: . | BC70: . | BE70: . | BF70: . | BG70: . | BI70: 15 | BJ70: 10 | BK70: . | BL70: . | BM70: . | BN70: . | BP70: 10 | BQ70: . | BR70: 10 | BT70: 15 | BU70: 10 | BV70: . | BW70: . | BX70: . | BY70: . | CA70: 10 | CB70: . | CC70: 10 | CE70: 10 | CF70: . | CG70: . | CH70: . | CI70: . | CJ70: . | CL70: 10 | CM70: . | CN70: 5 | CP70: 41 | CR70: . | CS70: . | CT70: . | CU70: 71 | CV70: 58 | CW70: 73 | CX70: 63
B71: 2e halfjaar 2020 | C71: 515 | E71: 150 | G71: 25 | H71: 10 | I71: 20 | J71: 35 | K71: 30 | L71: 15 | M71: 20 | O71: 70 | Q71: 10 | R71: 10 | S71: . | T71: . | U71: . | V71: . | X71: . | Y71: . | Z71: . | AB71: . | AC71: . | AD71: . | AE71: . | AF71: . | AG71: . | AI71: . | AJ71: . | AK71: . | AM71: . | AN71: . | AO71: . | AP71: . | AQ71: . | AR71: . | AT71: . | AU71: . | AV71: . | AX71: 15 | AY71: 10 | AZ71: . | BA71: . | BB71: . | BC71: . | BE71: 10 | BF71: . | BG71: . | BI71: 20 | BJ71: 10 | BK71: . | BL71: . | BM71: . | BN71: 5 | BP71: 10 | BQ71: . | BR71: 10 | BT71: 5 | BU71: . | BV71: . | BW71: . | BX71: . | BY71: . | CA71: . | CB71: . | CC71: . | CE71: 15 | CF71: 10 | CG71: . | CH71: . | CI71: . | CJ71: 5 | CL71: 10 | CM71: . | CN71: 10 | CP71: 48 | CR71: 38 | CS71: . | CT71: . | CU71: 47 | CV71: 56 | CW71: 54 | CX71: 79
B72: 1e halfjaar 2021 | C72: 465 | E72: 130 | G72: 20 | H72: 10 | I72: 15 | J72: 25 | K72: 20 | L72: 20 | M72: 30 | O72: 50 | Q72: . | R72: . | S72: . | T72: . | U72: . | V72: . | X72: . | Y72: . | Z72: . | AB72: . | AC72: . | AD72: . | AE72: . | AF72: . | AG72: . | AI72: . | AJ72: . | AK72: . | AM72: . | AN72: . | AO72: . | AP72: . | AQ72: . | AR72: . | AT72: . | AU72: . | AV72: . | AX72: . | AY72: . | AZ72: . | BA72: . | BB72: . | BC72: . | BE72: . | BF72: . | BG72: . | BI72: 10 | BJ72: . | BK72: . | BL72: . | BM72: . | BN72: . | BP72: . | BQ72: . | BR72: . | BT72: 10 | BU72: 5 | BV72: . | BW72: . | BX72: . | BY72: . | CA72: 10 | CB72: . | CC72: 10 | CE72: 15 | CF72: . | CG72: . | CH72: . | CI72: . | CJ72: . | CL72: 15 | CM72: . | CN72: 15 | CP72: 37 | CR72: . | CS72: . | CT72: . | CU72: . | CV72: 42 | CW72: 53 | CX72: 52
B73: 2e halfjaar 2021 | C73: 425 | E73: 135 | G73: 25 | H73: 15 | I73: 10 | J73: 30 | K73: 20 | L73: 15 | M73: 25 | O73: 45 | Q73: . | R73: . | S73: . | T73: . | U73: . | V73: . | X73: . | Y73: . | Z73: . | AB73: . | AC73: . | AD73: . | AE73: . | AF73: . | AG73: . | AI73: . | AJ73: . | AK73: . | AM73: . | AN73: . | AO73: . | AP73: . | AQ73: . | AR73: . | AT73: . | AU73: . | AV73: . | AX73: 20 | AY73: 10 | AZ73: 10 | BA73: . | BB73: . | BC73: . | BE73: 10 | BF73: . | BG73: 10 | BI73: . | BJ73: . | BK73: . | BL73: . | BM73: . | BN73: . | BP73: . | BQ73: . | BR73: . | BT73: . | BU73: . | BV73: . | BW73: . | BX73: . | BY73: . | CA73: . | CB73: . | CC73: . | CE73: 15 | CF73: 10 | CG73: . | CH73: . | CI73: . | CJ73: . | CL73: 10 | CM73: . | CN73: 10 | CP73: 32 | CR73: . | CS73: . | CT73: . | CU73: 71 | CV73: . | CW73: . | CX73: 61
B74: 1e halfjaar 2022 | C74: 390 | E74: 130 | G74: 25 | H74: 15 | I74: 10 | J74: 20 | K74: 20 | L74: 10 | M74: 35 | O74: 60 | Q74: 5 | R74: . | S74: . | T74: . | U74: . | V74: . | X74: . | Y74: . | Z74: . | AB74: . | AC74: . | AD74: . | AE74: . | AF74: . | AG74: . | AI74: . | AJ74: . | AK74: . | AM74: . | AN74: . | AO74: . | AP74: . | AQ74: . | AR74: . | AT74: . | AU74: . | AV74: . | AX74: 10 | AY74: 10 | AZ74: . | BA74: . | BB74: . | BC74: . | BE74: . | BF74: . | BG74: . | BI74: 10 | BJ74: . | BK74: . | BL74: . | BM74: . | BN74: . | BP74: . | BQ74: . | BR74: . | BT74: . | BU74: . | BV74: . | BW74: . | BX74: . | BY74: . | CA74: . | CB74: . | CC74: . | CE74: 25 | CF74: 10 | CG74: 5 | CH74: . | CI74: . | CJ74: 5 | CL74: 20 | CM74: . | CN74: 20 | CP74: 45 | CR74: 29 | CS74: . | CT74: . | CU74: 50 | CV74: 50 | CW74: . | CX74: 68
B75: 2e halfjaar 2022 | C75: 445 | E75: 150 | G75: 20 | H75: 15 | I75: 15 | J75: 25 | K75: 20 | L75: 15 | M75: 35 | O75: 65 | Q75: . | R75: . | S75: . | T75: . | U75: . | V75: . | X75: . | Y75: . | Z75: . | AB75: . | AC75: . | AD75: . | AE75: . | AF75: . | AG75: . | AI75: . | AJ75: . | AK75: . | AM75: . | AN75: . | AO75: . | AP75: . | AQ75: . | AR75: . | AT75: . | AU75: . | AV75: . | AX75: 15 | AY75: 10 | AZ75: 10 | BA75: . | BB75: . | BC75: . | BE75: . | BF75: . | BG75: . | BI75: 15 | BJ75: 10 | BK75: . | BL75: . | BM75: . | BN75: . | BP75: 10 | BQ75: . | BR75: 5 | BT75: 10 | BU75: . | BV75: . | BW75: . | BX75: . | BY75: . | CA75: 10 | CB75: . | CC75: 10 | CE75: 20 | CF75: 10 | CG75: 10 | CH75: . | CI75: . | CJ75: . | CL75: 20 | CM75: . | CN75: 15 | CP75: 43 | CR75: . | CS75: . | CT75: . | CU75: 48 | CV75: 68 | CW75: 71 | CX75: 57
B76: 1e halfjaar 2023 | C76: 395 | E76: 145 | G76: 20 | H76: 15 | I76: 15 | J76: 30 | K76: 25 | L76: 10 | M76: 30 | O76: 60 | Q76: . | R76: . | S76: . | T76: . | U76: . | V76: . | X76: . | Y76: . | Z76: . | AB76: . | AC76: . | AD76: . | AE76: . | AF76: . | AG76: . | AI76: . | AJ76: . | AK76: . | AM76: . | AN76: . | AO76: . | AP76: . | AQ76: . | AR76: . | AT76: . | AU76: . | AV76: . | AX76: 10 | AY76: 10 | AZ76: . | BA76: . | BB76: . | BC76: . | BE76: . | BF76: . | BG76: . | BI76: 10 | BJ76: 5 | BK76: . | BL76: . | BM76: . | BN76: . | BP76: . | BQ76: . | BR76: . | BT76: 5 | BU76: . | BV76: . | BW76: . | BX76: . | BY76: . | CA76: . | CB76: . | CC76: . | CE76: 25 | CF76: 20 | CG76: 10 | CH76: . | CI76: . | CJ76: 15 | CL76: 20 | CM76: . | CN76: 20 | CP76: 41 | CR76: . | CS76: . | CT76: . | CU76: 38 | CV76: 38 | CW76: 88 | CX76: 81
B77: 2e halfjaar 2023 | C77: 330 | E77: 130 | G77: 20 | H77: 10 | I77: 15 | J77: 20 | K77: 25 | L77: 15 | M77: 25 | O77: 55 | Q77: . | R77: . | S77: . | T77: . | U77: . | V77: . | X77: . | Y77: . | Z77: . | AB77: . | AC77: . | AD77: . | AE77: . | AF77: . | AG77: . | AI77: . | AJ77: . | AK77: . | AM77: . | AN77: . | AO77: . | AP77: . | AQ77: . | AR77: . | AT77: . | AU77: . | AV77: . | AX77: 10 | AY77: 10 | AZ77: . | BA77: . | BB77: . | BC77: . | BE77: . | BF77: . | BG77: . | BI77: 15 | BJ77: 10 | BK77: . | BL77: . | BM77: . | BN77: . | BP77: . | BQ77: . | BR77: . | BT77: 10 | BU77: 5 | BV77: . | BW77: . | BX77: . | BY77: . | CA77: . | CB77: . | CC77: . | CE77: 15 | CF77: . | CG77: . | CH77: . | CI77: . | CJ77: . | CL77: 15 | CM77: . | CN77: 10 | CP77: 42 | CR77: . | CS77: . | CT77: . | CU77: 43 | CV77: 57 | CW77: 56 | CX77: 56
B78: 1e halfjaar 2024 | C78: 360 | E78: 150 | G78: 15 | H78: 15 | I78: 10 | J78: 30 | K78: 10 | L78: 15 | M78: 55 | O78: 70 | Q78: . | R78: . | S78: . | T78: . | U78: . | V78: . | X78: . | Y78: . | Z78: . | AB78: . | AC78: . | AD78: . | AE78: . | AF78: . | AG78: . | AI78: . | AJ78: . | AK78: . | AM78: . | AN78: . | AO78: . | AP78: . | AQ78: . | AR78: . | AT78: . | AU78: . | AV78: . | AX78: 10 | AY78: 10 | AZ78: . | BA78: . | BB78: . | BC78: . | BE78: . | BF78: . | BG78: . | BI78: 5 | BJ78: . | BK78: . | BL78: . | BM78: . | BN78: . | BP78: . | BQ78: . | BR78: . | BT78: 10 | BU78: . | BV78: . | BW78: . | BX78: . | BY78: . | CA78: . | CB78: . | CC78: . | CE78: 40 | CF78: 20 | CG78: 10 | CH78: . | CI78: . | CJ78: 10 | CL78: 35 | CM78: . | CN78: 35 | CP78: 47 | CR78: . | CS78: . | CT78: . | CU78: 39 | CV78: 58 | CW78: 60 | CX78: 72
B79: 2e halfjaar 2024 | C79: 335 | E79: 130 | G79: 15 | H79: 15 | I79: 15 | J79: 25 | K79: 10 | L79: 10 | M79: 45 | O79: 55 | Q79: . | R79: . | S79: . | T79: . | U79: . | V79: . | X79: . | Y79: . | Z79: . | AB79: . | AC79: . | AD79: . | AE79: . | AF79: . | AG79: . | AI79: . | AJ79: . | AK79: . | AM79: . | AN79: . | AO79: . | AP79: . | AQ79: . | AR79: . | AT79: . | AU79: . | AV79: . | AX79: 15 | AY79: 5 | AZ79: . | BA79: . | BB79: . | BC79: . | BE79: 10 | BF79: . | BG79: 5 | BI79: 10 | BJ79: . | BK79: . | BL79: . | BM79: . | BN79: . | BP79: . | BQ79: . | BR79: . | BT79: . | BU79: . | BV79: . | BW79: . | BX79: . | BY79: . | CA79: . | CB79: . | CC79: . | CE79: 25 | CF79: 10 | CG79: . | CH79: . | CI79: . | CJ79: . | CL79: 20 | CM79: . | CN79: 20 | CP79: 44 | CR79: . | CS79: . | CT79: . | CU79: 61 | CV79: 73 | CW79: . | CX79: 56
B80: 1e halfjaar 2025 | C80: 280 | E80: 145 | G80: 15 | H80: 25 | I80: 15 | J80: 25 | K80: 15 | L80: 5 | M80: 45 | O80: 55 | Q80: . | R80: . | S80: . | T80: . | U80: . | V80: . | X80: . | Y80: . | Z80: . | AB80: . | AC80: . | AD80: . | AE80: . | AF80: . | AG80: . | AI80: . | AJ80: . | AK80: . | AM80: . | AN80: . | AO80: . | AP80: . | AQ80: . | AR80: . | AT80: . | AU80: . | AV80: . | AX80: 10 | AY80: . | AZ80: . | BA80: . | BB80: . | BC80: . | BE80: . | BF80: . | BG80: . | BI80: 10 | BJ80: 5 | BK80: . | BL80: . | BM80: . | BN80: . | BP80: . | BQ80: . | BR80: . | BT80: . | BU80: . | BV80: . | BW80: . | BX80: . | BY80: . | CA80: . | CB80: . | CC80: . | CE80: 30 | CF80: 15 | CG80: 10 | CH80: . | CI80: . | CJ80: . | CL80: 25 | CM80: . | CN80: 25 | CP80: 38 | CR80: . | CS80: . | CT80: . | CU80: 40 | CV80: 64 | CW80: . | CX80: 66
B81: 2e halfjaar 2025 | C81: 305 | E81: 140 | G81: 20 | H81: 15 | I81: 15 | J81: 20 | K81: 15 | L81: . | M81: 40 | O81: 60 | Q81: . | R81: . | S81: . | T81: . | U81: . | V81: . | X81: . | Y81: . | Z81: . | AB81: . | AC81: . | AD81: . | AE81: . | AF81: . | AG81: . | AI81: . | AJ81: . | AK81: . | AM81: . | AN81: . | AO81: . | AP81: . | AQ81: . | AR81: . | AT81: . | AU81: . | AV81: . | AX81: 10 | AY81: 10 | AZ81: 10 | BA81: . | BB81: . | BC81: . | BE81: . | BF81: . | BG81: . | BI81: 10 | BJ81: 5 | BK81: . | BL81: . | BM81: . | BN81: . | BP81: 5 | BQ81: . | BR81: . | BT81: . | BU81: . | BV81: . | BW81: . | BX81: . | BY81: . | CA81: . | CB81: . | CC81: . | CE81: 30 | CF81: 15 | CG81: . | CH81: . | CI81: . | CJ81: 10 | CL81: 20 | CM81: . | CN81: 20 | CP81: 43 | CR81: . | CS81: . | CT81: . | CU81: 52 | CV81: 69 | CW81: . | CX81: 68
B82: 1e halfjaar 2026 | C82: 230 | E82: 115 | G82: 15 | H82: 10 | I82: 20 | J82: 15 | K82: 10 | L82: . | M82: 40 | O82: 55 | Q82: . | R82: . | S82: . | T82: . | U82: . | V82: . | X82: . | Y82: . | Z82: . | AB82: . | AC82: . | AD82: . | AE82: . | AF82: . | AG82: . | AI82: . | AJ82: . | AK82: . | AM82: . | AN82: . | AO82: . | AP82: . | AQ82: . | AR82: . | AT82: . | AU82: . | AV82: . | AX82: . | AY82: . | AZ82: . | BA82: . | BB82: . | BC82: . | BE82: . | BF82: . | BG82: . | BI82: 10 | BJ82: . | BK82: . | BL82: . | BM82: . | BN82: . | BP82: . | BQ82: . | BR82: . | BT82: . | BU82: . | BV82: . | BW82: . | BX82: . | BY82: . | CA82: . | CB82: . | CC82: . | CE82: 30 | CF82: 15 | CG82: 10 | CH82: . | CI82: . | CJ82: 10 | CL82: 20 | CM82: . | CN82: 20 | CP82: 45 | CR82: . | CS82: . | CT82: . | CU82: . | CV82: 67 | CW82: . | CX82: 72
A84: Episode met alleen jeugdreclassering | B84: 1e halfjaar 2015 | C84: 1825 | E84: 25 | G84: 20 | H84: . | I84: . | J84: . | K84: . | L84: . | M84: . | O84: . | Q84: . | R84: . | S84: . | T84: . | U84: . | V84: . | X84: . | Y84: . | Z84: . | AB84: . | AC84: . | AD84: . | AE84: . | AF84: . | AG84: . | AI84: . | AJ84: . | AK84: . | AM84: . | AN84: . | AO84: . | AP84: . | AQ84: . | AR84: . | AT84: . | AU84: . | AV84: . | AX84: . | AY84: . | AZ84: . | BA84: . | BB84: . | BC84: . | BE84: . | BF84: . | BG84: . | BI84: . | BJ84: . | BK84: . | BL84: . | BM84: . | BN84: . | BP84: . | BQ84: . | BR84: . | BT84: . | BU84: . | BV84: . | BW84: . | BX84: . | BY84: . | CA84: . | CB84: . | CC84: . | CE84: . | CF84: . | CG84: . | CH84: . | CI84: . | CJ84: . | CL84: . | CM84: . | CN84: . | CP84: . | CR84: . | CS84: . | CT84: . | CU84: . | CV84: . | CW84: . | CX84: .
B85: 2e halfjaar 2015 | C85: 2080 | E85: 395 | G85: 25 | H85: 205 | I85: 165 | J85: . | K85: . | L85: . | M85: . | O85: 25 | Q85: . | R85: . | S85: . | T85: . | U85: . | V85: . | X85: . | Y85: . | Z85: . | AB85: 10 | AC85: . | AD85: . | AE85: . | AF85: . | AG85: . | AI85: . | AJ85: . | AK85: . | AM85: 20 | AN85: 10 | AO85: . | AP85: . | AQ85: . | AR85: . | AT85: 15 | AU85: . | AV85: 10 | AX85: . | AY85: . | AZ85: . | BA85: . | BB85: . | BC85: . | BE85: . | BF85: . | BG85: . | BI85: . | BJ85: . | BK85: . | BL85: . | BM85: . | BN85: . | BP85: . | BQ85: . | BR85: . | BT85: . | BU85: . | BV85: . | BW85: . | BX85: . | BY85: . | CA85: . | CB85: . | CC85: . | CE85: . | CF85: . | CG85: . | CH85: . | CI85: . | CJ85: . | CL85: . | CM85: . | CN85: . | CP85: 7 | CR85: . | CS85: 4 | CT85: 12 | CU85: . | CV85: . | CW85: . | CX85: .
B86: 1e halfjaar 2016 | C86: 1690 | E86: 645 | G86: 50 | H86: 265 | I86: 225 | J86: 105 | K86: . | L86: . | M86: . | O86: 45 | Q86: . | R86: . | S86: . | T86: . | U86: . | V86: . | X86: . | Y86: . | Z86: . | AB86: 10 | AC86: . | AD86: . | AE86: . | AF86: . | AG86: . | AI86: 5 | AJ86: . | AK86: . | AM86: 25 | AN86: 5 | AO86: . | AP86: . | AQ86: . | AR86: 5 | AT86: 20 | AU86: . | AV86: 20 | AX86: 10 | AY86: . | AZ86: . | BA86: . | BB86: . | BC86: . | BE86: 10 | BF86: . | BG86: 10 | BI86: . | BJ86: . | BK86: . | BL86: . | BM86: . | BN86: . | BP86: . | BQ86: . | BR86: . | BT86: . | BU86: . | BV86: . | BW86: . | BX86: . | BY86: . | CA86: . | CB86: . | CC86: . | CE86: . | CF86: . | CG86: . | CH86: . | CI86: . | CJ86: . | CL86: . | CM86: . | CN86: . | CP86: 7 | CR86: . | CS86: 4 | CT86: 11 | CU86: 12 | CV86: . | CW86: . | CX86: .
B87: 2e halfjaar 2016 | C87: 1785 | E87: 845 | G87: 50 | H87: 270 | I87: 295 | J87: 230 | K87: . | L87: . | M87: . | O87: 60 | Q87: . | R87: . | S87: . | T87: . | U87: . | V87: . | X87: . | Y87: . | Z87: . | AB87: 10 | AC87: . | AD87: . | AE87: . | AF87: . | AG87: . | AI87: 10 | AJ87: . | AK87: 10 | AM87: 15 | AN87: . | AO87: . | AP87: . | AQ87: . | AR87: . | AT87: 15 | AU87: . | AV87: 10 | AX87: 35 | AY87: 10 | AZ87: . | BA87: . | BB87: . | BC87: 10 | BE87: 30 | BF87: . | BG87: 25 | BI87: . | BJ87: . | BK87: . | BL87: . | BM87: . | BN87: . | BP87: . | BQ87: . | BR87: . | BT87: . | BU87: . | BV87: . | BW87: . | BX87: . | BY87: . | CA87: . | CB87: . | CC87: . | CE87: . | CF87: . | CG87: . | CH87: . | CI87: . | CJ87: . | CL87: . | CM87: . | CN87: . | CP87: 7 | CR87: . | CS87: 4 | CT87: 5 | CU87: 15 | CV87: . | CW87: . | CX87: .
B88: 1e halfjaar 2017 | C88: 1650 | E88: 1170 | G88: 60 | H88: 245 | I88: 260 | J88: 415 | K88: 190 | L88: . | M88: . | O88: 195 | Q88: . | R88: . | S88: . | T88: . | U88: . | V88: . | X88: . | Y88: . | Z88: . | AB88: 15 | AC88: . | AD88: . | AE88: . | AF88: . | AG88: . | AI88: 10 | AJ88: . | AK88: 5 | AM88: 20 | AN88: . | AO88: . | AP88: . | AQ88: . | AR88: . | AT88: 20 | AU88: . | AV88: 15 | AX88: 95 | AY88: 25 | AZ88: . | BA88: . | BB88: . | BC88: 20 | BE88: 80 | BF88: 15 | BG88: 70 | BI88: 65 | BJ88: 15 | BK88: . | BL88: . | BM88: . | BN88: 10 | BP88: 55 | BQ88: 5 | BR88: 50 | BT88: . | BU88: . | BV88: . | BW88: . | BX88: . | BY88: . | CA88: . | CB88: . | CC88: . | CE88: . | CF88: . | CG88: . | CH88: . | CI88: . | CJ88: . | CL88: . | CM88: . | CN88: . | CP88: 17 | CR88: . | CS88: 5 | CT88: 8 | CU88: 23 | CV88: 35 | CW88: . | CX88: .
B89: 2e halfjaar 2017 | C89: 1650 | E89: 1435 | G89: 80 | H89: 285 | I89: 270 | J89: 445 | K89: 350 | L89: . | M89: . | O89: 260 | Q89: . | R89: . | S89: . | T89: . | U89: . | V89: . | X89: . | Y89: . | Z89: . | AB89: 10 | AC89: 5 | AD89: . | AE89: . | AF89: . | AG89: . | AI89: . | AJ89: . | AK89: . | AM89: 15 | AN89: . | AO89: . | AP89: . | AQ89: . | AR89: . | AT89: 10 | AU89: . | AV89: 10 | AX89: 100 | AY89: 25 | AZ89: . | BA89: . | BB89: . | BC89: 15 | BE89: 85 | BF89: 15 | BG89: 75 | BI89: 130 | BJ89: 35 | BK89: . | BL89: 10 | BM89: 10 | BN89: 25 | BP89: 115 | BQ89: 10 | BR89: 105 | BT89: . | BU89: . | BV89: . | BW89: . | BX89: . | BY89: . | CA89: . | CB89: . | CC89: . | CE89: . | CF89: . | CG89: . | CH89: . | CI89: . | CJ89: . | CL89: . | CM89: . | CN89: . | CP89: 18 | CR89: . | CS89: 4 | CT89: 6 | CU89: 23 | CV89: 37 | CW89: . | CX89: .
B90: 1e halfjaar 2018 | C90: 1565 | E90: 1425 | G90: 65 | H90: 230 | I90: 260 | J90: 445 | K90: 390 | L90: 35 | M90: . | O90: 325 | Q90: . | R90: . | S90: . | T90: . | U90: . | V90: . | X90: . | Y90: . | Z90: . | AB90: 15 | AC90: . | AD90: . | AE90: . | AF90: . | AG90: . | AI90: 10 | AJ90: . | AK90: . | AM90: 25 | AN90: 10 | AO90: . | AP90: . | AQ90: . | AR90: . | AT90: 20 | AU90: . | AV90: 15 | AX90: 105 | AY90: 20 | AZ90: . | BA90: . | BB90: . | BC90: 20 | BE90: 95 | BF90: 15 | BG90: 85 | BI90: 160 | BJ90: 50 | BK90: . | BL90: 10 | BM90: 10 | BN90: 35 | BP90: 130 | BQ90: 15 | BR90: 120 | BT90: 20 | BU90: . | BV90: . | BW90: . | BX90: . | BY90: . | CA90: 20 | CB90: . | CC90: 20 | CE90: . | CF90: . | CG90: . | CH90: . | CI90: . | CJ90: . | CL90: . | CM90: . | CN90: . | CP90: 23 | CR90: . | CS90: 6 | CT90: 10 | CU90: 23 | CV90: 41 | CW90: 62 | CX90: .
B91: 2e halfjaar 2018 | C91: 1510 | E91: 1430 | G91: 60 | H91: 235 | I91: 260 | J91: 425 | K91: 360 | L91: 85 | M91: . | O91: 290 | Q91: . | R91: . | S91: . | T91: . | U91: . | V91: . | X91: . | Y91: . | Z91: . | AB91: . | AC91: . | AD91: . | AE91: . | AF91: . | AG91: . | AI91: . | AJ91: . | AK91: . | AM91: 20 | AN91: . | AO91: . | AP91: . | AQ91: . | AR91: . | AT91: 15 | AU91: . | AV91: 10 | AX91: 85 | AY91: 30 | AZ91: . | BA91: . | BB91: 5 | BC91: 20 | BE91: 70 | BF91: 5 | BG91: 65 | BI91: 130 | BJ91: 40 | BK91: . | BL91: . | BM91: 10 | BN91: 30 | BP91: 110 | BQ91: 15 | BR91: 100 | BT91: 45 | BU91: 15 | BV91: . | BW91: . | BX91: 5 | BY91: 15 | CA91: 40 | CB91: 5 | CC91: 40 | CE91: . | CF91: . | CG91: . | CH91: . | CI91: . | CJ91: . | CL91: . | CM91: . | CN91: . | CP91: 20 | CR91: . | CS91: . | CT91: 8 | CU91: 20 | CV91: 36 | CW91: 52 | CX91: .
B92: 1e halfjaar 2019 | C92: 1450 | E92: 1415 | G92: 70 | H92: 230 | I92: 235 | J92: 435 | K92: 325 | L92: 100 | M92: 20 | O92: 340 | Q92: . | R92: . | S92: . | T92: . | U92: . | V92: . | X92: . | Y92: . | Z92: . | AB92: 10 | AC92: . | AD92: . | AE92: . | AF92: . | AG92: . | AI92: . | AJ92: . | AK92: . | AM92: 30 | AN92: 10 | AO92: . | AP92: . | AQ92: . | AR92: 5 | AT92: 20 | AU92: . | AV92: 15 | AX92: 100 | AY92: 25 | AZ92: . | BA92: . | BB92: . | BC92: 20 | BE92: 85 | BF92: 15 | BG92: 75 | BI92: 125 | BJ92: 35 | BK92: . | BL92: . | BM92: 10 | BN92: 30 | BP92: 100 | BQ92: 15 | BR92: 95 | BT92: 65 | BU92: 20 | BV92: . | BW92: . | BX92: 10 | BY92: 15 | CA92: 60 | CB92: 5 | CC92: 60 | CE92: 10 | CF92: . | CG92: . | CH92: . | CI92: . | CJ92: . | CL92: 10 | CM92: . | CN92: . | CP92: 24 | CR92: . | CS92: 3 | CT92: 13 | CU92: 23 | CV92: 38 | CW92: 66 | CX92: 50
B93: 2e halfjaar 2019 | C93: 1385 | E93: 1370 | G93: 65 | H93: 245 | I93: 210 | J93: 410 | K93: 335 | L93: 85 | M93: 20 | O93: 320 | Q93: . | R93: . | S93: . | T93: . | U93: . | V93: . | X93: . | Y93: . | Z93: . | AB93: 10 | AC93: . | AD93: . | AE93: . | AF93: . | AG93: . | AI93: 10 | AJ93: . | AK93: 5 | AM93: 15 | AN93: . | AO93: . | AP93: . | AQ93: . | AR93: . | AT93: 15 | AU93: . | AV93: 10 | AX93: 100 | AY93: 25 | AZ93: . | BA93: . | BB93: 10 | BC93: 10 | BE93: 85 | BF93: 15 | BG93: 70 | BI93: 120 | BJ93: 30 | BK93: . | BL93: . | BM93: 10 | BN93: 25 | BP93: 100 | BQ93: 10 | BR93: 100 | BT93: 55 | BU93: 30 | BV93: . | BW93: . | BX93: . | BY93: 25 | CA93: 45 | CB93: . | CC93: 40 | CE93: 15 | CF93: . | CG93: . | CH93: . | CI93: . | CJ93: . | CL93: 15 | CM93: . | CN93: 10 | CP93: 23 | CR93: . | CS93: 4 | CT93: 8 | CU93: 25 | CV93: 36 | CW93: 67 | CX93: 59
B94: 1e halfjaar 2020 | C94: 1320 | E94: 1305 | G94: 55 | H94: 245 | I94: 225 | J94: 375 | K94: 280 | L94: 90 | M94: 35 | O94: 320 | Q94: . | R94: . | S94: . | T94: . | U94: . | V94: . | X94: . | Y94: . | Z94: . | AB94: 10 | AC94: . | AD94: . | AE94: . | AF94: . | AG94: . | AI94: 10 | AJ94: . | AK94: . | AM94: 25 | AN94: 10 | AO94: . | AP94: . | AQ94: . | AR94: . | AT94: 15 | AU94: . | AV94: 10 | AX94: 75 | AY94: 20 | AZ94: . | BA94: . | BB94: . | BC94: 15 | BE94: 65 | BF94: 10 | BG94: 60 | BI94: 125 | BJ94: 30 | BK94: . | BL94: . | BM94: 10 | BN94: 20 | BP94: 110 | BQ94: 15 | BR94: 95 | BT94: 55 | BU94: 20 | BV94: . | BW94: . | BX94: 5 | BY94: 15 | CA94: 50 | CB94: 5 | CC94: 45 | CE94: 25 | CF94: . | CG94: . | CH94: . | CI94: . | CJ94: . | CL94: 25 | CM94: 10 | CN94: 20 | CP94: 24 | CR94: . | CS94: 4 | CT94: 10 | CU94: 20 | CV94: 45 | CW94: 63 | CX94: 74
B95: 2e halfjaar 2020 | C95: 1525 | E95: 1520 | G95: 70 | H95: 160 | I95: 285 | J95: 520 | K95: 335 | L95: 105 | M95: 45 | O95: 365 | Q95: . | R95: . | S95: . | T95: . | U95: . | V95: . | X95: . | Y95: . | Z95: . | AB95: . | AC95: . | AD95: . | AE95: . | AF95: . | AG95: . | AI95: . | AJ95: . | AK95: . | AM95: 30 | AN95: 5 | AO95: . | AP95: . | AQ95: . | AR95: . | AT95: 20 | AU95: . | AV95: 15 | AX95: 120 | AY95: 45 | AZ95: . | BA95: . | BB95: 10 | BC95: 35 | BE95: 85 | BF95: 15 | BG95: 75 | BI95: 120 | BJ95: 35 | BK95: . | BL95: . | BM95: 15 | BN95: 25 | BP95: 105 | BQ95: 20 | BR95: 95 | BT95: 65 | BU95: 20 | BV95: . | BW95: . | BX95: 10 | BY95: 15 | CA95: 60 | CB95: 10 | CC95: 55 | CE95: 25 | CF95: 15 | CG95: . | CH95: . | CI95: . | CJ95: 10 | CL95: 20 | CM95: . | CN95: 20 | CP95: 24 | CR95: . | CS95: . | CT95: 10 | CU95: 23 | CV95: 36 | CW95: 62 | CX95: 58
B96: 1e halfjaar 2021 | C96: 1400 | E96: 1395 | G96: 85 | H96: 195 | I96: 220 | J96: 495 | K96: 285 | L96: 80 | M96: 40 | O96: 335 | Q96: . | R96: . | S96: . | T96: . | U96: . | V96: . | X96: . | Y96: . | Z96: . | AB96: . | AC96: . | AD96: . | AE96: . | AF96: . | AG96: . | AI96: . | AJ96: . | AK96: . | AM96: 20 | AN96: 10 | AO96: . | AP96: . | AQ96: . | AR96: . | AT96: 10 | AU96: . | AV96: 10 | AX96: 125 | AY96: 35 | AZ96: . | BA96: . | BB96: 10 | BC96: 25 | BE96: 95 | BF96: 5 | BG96: 90 | BI96: 100 | BJ96: 30 | BK96: . | BL96: . | BM96: 10 | BN96: 25 | BP96: 85 | BQ96: 5 | BR96: 80 | BT96: 55 | BU96: 15 | BV96: . | BW96: . | BX96: . | BY96: 15 | CA96: 45 | CB96: . | CC96: 45 | CE96: 25 | CF96: 10 | CG96: . | CH96: . | CI96: . | CJ96: 10 | CL96: 25 | CM96: . | CN96: 25 | CP96: 24 | CR96: . | CS96: . | CT96: 8 | CU96: 25 | CV96: 36 | CW96: 67 | CX96: 71
B97: 2e halfjaar 2021 | C97: 1360 | E97: 1355 | G97: 85 | H97: 175 | I97: 235 | J97: 465 | K97: 280 | L97: 75 | M97: 45 | O97: 340 | Q97: . | R97: . | S97: . | T97: . | U97: . | V97: . | X97: . | Y97: . | Z97: . | AB97: . | AC97: . | AD97: . | AE97: . | AF97: . | AG97: . | AI97: . | AJ97: . | AK97: . | AM97: 30 | AN97: 10 | AO97: . | AP97: . | AQ97: . | AR97: . | AT97: 20 | AU97: . | AV97: 20 | AX97: 120 | AY97: 15 | AZ97: . | BA97: . | BB97: . | BC97: 10 | BE97: 115 | BF97: 15 | BG97: 105 | BI97: 110 | BJ97: 20 | BK97: . | BL97: . | BM97: . | BN97: 15 | BP97: 100 | BQ97: 10 | BR97: 95 | BT97: 45 | BU97: 20 | BV97: . | BW97: . | BX97: . | BY97: 15 | CA97: 30 | CB97: . | CC97: 30 | CE97: 30 | CF97: 10 | CG97: . | CH97: . | CI97: . | CJ97: 10 | CL97: 25 | CM97: . | CN97: 25 | CP97: 25 | CR97: . | CS97: . | CT97: 13 | CU97: 26 | CV97: 39 | CW97: 57 | CX97: 67
B98: 1e halfjaar 2022 | C98: 1150 | E98: 1150 | G98: 85 | H98: 185 | I98: 230 | J98: 315 | K98: 230 | L98: 70 | M98: 35 | O98: 260 | Q98: . | R98: . | S98: . | T98: . | U98: . | V98: . | X98: . | Y98: . | Z98: . | AB98: . | AC98: . | AD98: . | AE98: . | AF98: . | AG98: . | AI98: . | AJ98: . | AK98: . | AM98: 20 | AN98: . | AO98: . | AP98: . | AQ98: . | AR98: . | AT98: 10 | AU98: . | AV98: 10 | AX98: 75 | AY98: 15 | AZ98: . | BA98: . | BB98: . | BC98: 10 | BE98: 60 | BF98: . | BG98: 55 | BI98: 95 | BJ98: 25 | BK98: . | BL98: . | BM98: 10 | BN98: 15 | BP98: 80 | BQ98: 10 | BR98: 75 | BT98: 45 | BU98: 20 | BV98: . | BW98: . | BX98: . | BY98: 15 | CA98: 35 | CB98: . | CC98: 30 | CE98: 20 | CF98: . | CG98: . | CH98: . | CI98: . | CJ98: . | CL98: 20 | CM98: . | CN98: 20 | CP98: 23 | CR98: . | CS98: . | CT98: 8 | CU98: 24 | CV98: 41 | CW98: 66 | CX98: 59
B99: 2e halfjaar 2022 | C99: 1305 | E99: 1305 | G99: 90 | H99: 195 | I99: 215 | J99: 405 | K99: 285 | L99: 85 | M99: 30 | O99: 325 | Q99: . | R99: . | S99: . | T99: . | U99: . | V99: . | X99: . | Y99: . | Z99: . | AB99: 10 | AC99: . | AD99: . | AE99: . | AF99: . | AG99: . | AI99: 10 | AJ99: . | AK99: . | AM99: 15 | AN99: . | AO99: . | AP99: . | AQ99: . | AR99: . | AT99: 10 | AU99: . | AV99: 10 | AX99: 105 | AY99: 25 | AZ99: . | BA99: . | BB99: . | BC99: 20 | BE99: 85 | BF99: . | BG99: 85 | BI99: 120 | BJ99: 30 | BK99: . | BL99: . | BM99: . | BN99: 25 | BP99: 105 | BQ99: 10 | BR99: 100 | BT99: 50 | BU99: 15 | BV99: . | BW99: . | BX99: . | BY99: 10 | CA99: 45 | CB99: . | CC99: 40 | CE99: 25 | CF99: 15 | CG99: . | CH99: . | CI99: . | CJ99: 15 | CL99: 20 | CM99: . | CN99: 20 | CP99: 25 | CR99: . | CS99: 6 | CT99: 6 | CU99: 26 | CV99: 42 | CW99: 60 | CX99: 84
B100: 1e halfjaar 2023 | C100: 1220 | E100: 1215 | G100: 90 | H100: 165 | I100: 220 | J100: 405 | K100: 230 | L100: 75 | M100: 30 | O100: 255 | Q100: . | R100: . | S100: . | T100: . | U100: . | V100: . | X100: . | Y100: . | Z100: . | AB100: . | AC100: . | AD100: . | AE100: . | AF100: . | AG100: . | AI100: . | AJ100: . | AK100: . | AM100: 25 | AN100: 10 | AO100: . | AP100: . | AQ100: . | AR100: . | AT100: 20 | AU100: . | AV100: 20 | AX100: 90 | AY100: 20 | AZ100: . | BA100: . | BB100: . | BC100: 15 | BE100: 75 | BF100: 10 | BG100: 70 | BI100: 80 | BJ100: 20 | BK100: . | BL100: . | BM100: . | BN100: 20 | BP100: 65 | BQ100: 10 | BR100: 60 | BT100: 35 | BU100: 10 | BV100: . | BW100: . | BX100: . | BY100: 5 | CA100: 30 | CB100: . | CC100: 30 | CE100: 20 | CF100: 10 | CG100: . | CH100: . | CI100: 5 | CJ100: 5 | CL100: 20 | CM100: . | CN100: 20 | CP100: 21 | CR100: . | CS100: . | CT100: 11 | CU100: 22 | CV100: 36 | CW100: 47 | CX100: 66
B101: 2e halfjaar 2023 | C101: 1125 | E101: 1125 | G101: 60 | H101: 165 | I101: 220 | J101: 350 | K101: 225 | L101: 65 | M101: 35 | O101: 295 | Q101: . | R101: . | S101: . | T101: . | U101: . | V101: . | X101: . | Y101: . | Z101: . | AB101: 5 | AC101: . | AD101: . | AE101: . | AF101: . | AG101: . | AI101: . | AJ101: . | AK101: . | AM101: 25 | AN101: . | AO101: . | AP101: . | AQ101: . | AR101: . | AT101: 20 | AU101: . | AV101: 20 | AX101: 95 | AY101: 25 | AZ101: . | BA101: . | BB101: . | BC101: 15 | BE101: 75 | BF101: . | BG101: 75 | BI101: 100 | BJ101: 20 | BK101: . | BL101: . | BM101: . | BN101: 15 | BP101: 85 | BQ101: . | BR101: 85 | BT101: 50 | BU101: 15 | BV101: . | BW101: . | BX101: . | BY101: 15 | CA101: 45 | CB101: . | CC101: 45 | CE101: 25 | CF101: 10 | CG101: . | CH101: . | CI101: . | CJ101: 10 | CL101: 20 | CM101: . | CN101: 15 | CP101: 26 | CR101: . | CS101: 4 | CT101: 12 | CU101: 27 | CV101: 43 | CW101: 72 | CX101: 70
B102: 1e halfjaar 2024 | C102: 1170 | E102: 1170 | G102: 80 | H102: 170 | I102: 220 | J102: 385 | K102: 225 | L102: 60 | M102: 30 | O102: 295 | Q102: . | R102: . | S102: . | T102: . | U102: . | V102: . | X102: . | Y102: . | Z102: . | AB102: . | AC102: . | AD102: . | AE102: . | AF102: . | AG102: . | AI102: . | AJ102: . | AK102: . | AM102: 30 | AN102: 10 | AO102: . | AP102: . | AQ102: . | AR102: 5 | AT102: 20 | AU102: . | AV102: 15 | AX102: 100 | AY102: 20 | AZ102: . | BA102: . | BB102: . | BC102: 15 | BE102: 90 | BF102: 10 | BG102: 85 | BI102: 95 | BJ102: 20 | BK102: . | BL102: . | BM102: . | BN102: 15 | BP102: 85 | BQ102: . | BR102: 85 | BT102: 35 | BU102: 10 | BV102: . | BW102: . | BX102: . | BY102: 10 | CA102: 25 | CB102: . | CC102: 25 | CE102: 25 | CF102: 5 | CG102: . | CH102: . | CI102: . | CJ102: . | CL102: 25 | CM102: 5 | CN102: 25 | CP102: 25 | CR102: . | CS102: . | CT102: 13 | CU102: 26 | CV102: 43 | CW102: 56 | CX102: 84
B103: 2e halfjaar 2024 | C103: 1290 | E103: 1290 | G103: 75 | H103: 185 | I103: 255 | J103: 420 | K103: 225 | L103: 85 | M103: 45 | O103: 340 | Q103: . | R103: . | S103: . | T103: . | U103: . | V103: . | X103: . | Y103: . | Z103: . | AB103: 10 | AC103: . | AD103: . | AE103: . | AF103: . | AG103: . | AI103: . | AJ103: . | AK103: . | AM103: 35 | AN103: 10 | AO103: . | AP103: . | AQ103: . | AR103: 10 | AT103: 25 | AU103: . | AV103: 20 | AX103: 100 | AY103: 20 | AZ103: . | BA103: . | BB103: . | BC103: 15 | BE103: 85 | BF103: 15 | BG103: 75 | BI103: 100 | BJ103: 30 | BK103: . | BL103: . | BM103: 5 | BN103: 25 | BP103: 80 | BQ103: . | BR103: 75 | BT103: 55 | BU103: 10 | BV103: . | BW103: . | BX103: . | BY103: 5 | CA103: 45 | CB103: . | CC103: 45 | CE103: 40 | CF103: 20 | CG103: . | CH103: . | CI103: . | CJ103: 20 | CL103: 35 | CM103: . | CN103: 35 | CP103: 26 | CR103: . | CS103: 4 | CT103: 13 | CU103: 24 | CV103: 44 | CW103: 61 | CX103: 93
B104: 1e halfjaar 2025 | C104: 1280 | E104: 1280 | G104: 55 | H104: 200 | I104: 235 | J104: 420 | K104: 240 | L104: 85 | M104: 40 | O104: 325 | Q104: . | R104: . | S104: . | T104: . | U104: . | V104: . | X104: . | Y104: . | Z104: . | AB104: 10 | AC104: . | AD104: . | AE104: . | AF104: . | AG104: . | AI104: . | AJ104: . | AK104: . | AM104: 25 | AN104: . | AO104: . | AP104: . | AQ104: . | AR104: . | AT104: 25 | AU104: . | AV104: 20 | AX104: 105 | AY104: 25 | AZ104: . | BA104: . | BB104: . | BC104: 20 | BE104: 85 | BF104: 5 | BG104: 80 | BI104: 100 | BJ104: 25 | BK104: . | BL104: . | BM104: . | BN104: 25 | BP104: 75 | BQ104: 10 | BR104: 70 | BT104: 55 | BU104: 20 | BV104: . | BW104: . | BX104: . | BY104: 15 | CA104: 45 | CB104: 5 | CC104: 40 | CE104: 30 | CF104: 15 | CG104: . | CH104: . | CI104: . | CJ104: 10 | CL104: 20 | CM104: . | CN104: 20 | CP104: 25 | CR104: . | CS104: 5 | CT104: 11 | CU104: 25 | CV104: 41 | CW104: 62 | CX104: 68
B105: 2e halfjaar 2025 | C105: 1360 | E105: 1355 | G105: 70 | H105: 175 | I105: 225 | J105: 490 | K105: 285 | L105: 80 | M105: 30 | O105: 370 | Q105: . | R105: . | S105: . | T105: . | U105: . | V105: . | X105: . | Y105: . | Z105: . | AB105: 10 | AC105: . | AD105: . | AE105: . | AF105: . | AG105: . | AI105: 10 | AJ105: . | AK105: 5 | AM105: 25 | AN105: 10 | AO105: . | AP105: . | AQ105: . | AR105: 10 | AT105: 15 | AU105: . | AV105: 15 | AX105: 140 | AY105: 20 | AZ105: . | BA105: . | BB105: . | BC105: 15 | BE105: 130 | BF105: 15 | BG105: 120 | BI105: 120 | BJ105: 30 | BK105: . | BL105: . | BM105: . | BN105: 25 | BP105: 105 | BQ105: 15 | BR105: 100 | BT105: 50 | BU105: 20 | BV105: . | BW105: . | BX105: . | BY105: 20 | CA105: 40 | CB105: 5 | CC105: 35 | CE105: 25 | CF105: . | CG105: . | CH105: . | CI105: . | CJ105: . | CL105: 20 | CM105: . | CN105: 20 | CP105: 27 | CR105: . | CS105: 6 | CT105: 10 | CU105: 29 | CV105: 43 | CW105: 62 | CX105: 74
...

Sheet Tabel 3.3_Na
A1: Tabel 3.3
A2: Jeugdhulp na afgesloten aansluitende episodes van jeugdbeschermings- en/of jeugdreclasseringsmaatregelen, 2015-2025
C3: Aantal afgesloten episodes van maatregelen | E3: waarvan1
E4: zonder jeugdhulp die lopend was in de 12 maanden na eind van de episode | G4: met één of meerdere jeugdhulptrajecten waarbij de vroegste is gestart voor en lopend was in de 12 maanden na eind van de episode | R4: met één of meerdere jeugdhulptrajecten waarbij de vroegste is gestart tussen 0 en 1 maand(en) na eind van de episode | AC4: met één of meerdere jeugdhulptrajecten waarbij de vroegste is gestart tussen 1 en 12 maand(en) na eind van de episode | AN4: zonder jeugdhulp die lopend was in de 12 maanden na eind van de episode | AP4: met één of meerdere jeugdhulptrajecten waarbij de vroegste is gestart voor en lopend was in de 12 maanden na eind van de episode | AR4: met één of meerdere jeugdhulptrajecten waarbij de vroegste is gestart tussen 0 en 1 maand(en) na eind van de episode | AT4: met één of meerdere jeugdhulptrajecten waarbij de vroegste is gestart tussen 1 en 12 maand(en) na eind van de episode
G5: Totaal | H5: waaronder | R5: Totaal | S5: waaronder | AC5: Totaal | AD5: waaronder | AN5: Totaal | AP5: Totaal | AR5: Totaal | AT5: Totaal
H6: jeugdhulp met verblijf | N6: jeugdhulp zonder verblijf | S6: jeugdhulp met verblijf | Y6: jeugdhulp zonder verblijf | AD6: jeugdhulp met verblijf | AJ6: jeugdhulp zonder verblijf
H7: totaal | I7: pleegzorg | J7: gezinsgericht | K7: gesloten plaatsing | L7: overig | N7: totaal | O7: door wijkteam | P7: overig | S7: totaal | T7: pleegzorg | U7: gezinsgericht | V7: gesloten plaatsing | W7: overig | Y7: totaal | Z7: door wijkteam | AA7: overig | AD7: totaal | AE7: pleegzorg | AF7: gezinsgericht | AG7: gesloten plaatsing | AH7: overig | AJ7: totaal | AK7: door wijkteam | AL7: overig
C9: Aantal | AN9: %
A11: Totaal | B11: 1e halfjaar 2015 | C11: 7040 | E11: 4135 | G11: 2340 | H11: 1120 | I11: 600 | J11: 110 | K11: 60 | L11: 465 | N11: 1815 | O11: 335 | P11: 1675 | R11: 80 | S11: 15 | T11: . | U11: . | V11: . | W11: 10 | Y11: 75 | Z11: 25 | AA11: 55 | AC11: 485 | AD11: 75 | AE11: 25 | AF11: 10 | AG11: . | AH11: 45 | AJ11: 440 | AK11: 115 | AL11: 345 | AN11: 59 | AP11: 33 | AR11: 1 | AT11: 7
B12: 2e halfjaar 2015 | C12: 7630 | E12: 4135 | G12: 2960 | H12: 1410 | I12: 795 | J12: 150 | K12: 45 | L12: 565 | N12: 2310 | O12: 495 | P12: 2090 | R12: 55 | S12: 10 | T12: . | U12: . | V12: . | W12: 10 | Y12: 50 | Z12: 25 | AA12: 30 | AC12: 480 | AD12: 70 | AE12: 25 | AF12: 10 | AG12: . | AH12: 45 | AJ12: 440 | AK12: 130 | AL12: 335 | AN12: 54 | AP12: 39 | AR12: 1 | AT12: 6
B13: 1e halfjaar 2016 | C13: 6360 | E13: 3455 | G13: 2420 | H13: 1130 | I13: 630 | J13: 115 | K13: 45 | L13: 475 | N13: 1830 | O13: 505 | P13: 1580 | R13: 65 | S13: 20 | T13: . | U13: . | V13: . | W13: 15 | Y13: 55 | Z13: 20 | AA13: 40 | AC13: 415 | AD13: 60 | AE13: 20 | AF13: . | AG13: . | AH13: 35 | AJ13: 385 | AK13: 125 | AL13: 290 | AN13: 54 | AP13: 38 | AR13: 1 | AT13: 7
B14: 2e halfjaar 2016 | C14: 6420 | E14: 3160 | G14: 2850 | H14: 1285 | I14: 665 | J14: 135 | K14: 55 | L14: 565 | N14: 2235 | O14: 625 | P14: 1940 | R14: 65 | S14: 10 | T14: . | U14: . | V14: . | W14: 10 | Y14: 60 | Z14: 20 | AA14: 45 | AC14: 350 | AD14: 50 | AE14: 20 | AF14: . | AG14: . | AH14: 35 | AJ14: 315 | AK14: 80 | AL14: 250 | AN14: 49 | AP14: 44 | AR14: 1 | AT14: 5
B15: 1e halfjaar 2017 | C15: 6150 | E15: 3105 | G15: 2635 | H15: 1145 | I15: 610 | J15: 125 | K15: 45 | L15: 505 | N15: 2030 | O15: 625 | P15: 1690 | R15: 75 | S15: 20 | T15: . | U15: . | V15: . | W15: 15 | Y15: 60 | Z15: 15 | AA15: 55 | AC15: 340 | AD15: 55 | AE15: 25 | AF15: 10 | AG15: . | AH15: 25 | AJ15: 310 | AK15: 90 | AL15: 245 | AN15: 50 | AP15: 43 | AR15: 1 | AT15: 6
B16: 2e halfjaar 2017 | C16: 6145 | E16: 2940 | G16: 2840 | H16: 1180 | I16: 570 | J16: 145 | K16: 95 | L16: 530 | N16: 2280 | O16: 720 | P16: 1920 | R16: 60 | S16: 10 | T16: . | U16: . | V16: . | W16: 5 | Y16: 55 | Z16: 15 | AA16: 45 | AC16: 300 | AD16: 50 | AE16: 25 | AF16: . | AG16: . | AH16: 20 | AJ16: 270 | AK16: 95 | AL16: 190 | AN16: 48 | AP16: 46 | AR16: 1 | AT16: 5
B17: 1e halfjaar 2018 | C17: 5935 | E17: 3055 | G17: 2520 | H17: 1060 | I17: 540 | J17: 130 | K17: 45 | L17: 475 | N17: 1945 | O17: 600 | P17: 1635 | R17: 70 | S17: 15 | T17: . | U17: . | V17: . | W17: 10 | Y17: 65 | Z17: 25 | AA17: 50 | AC17: 290 | AD17: 50 | AE17: 15 | AF17: . | AG17: 10 | AH17: 25 | AJ17: 265 | AK17: 75 | AL17: 210 | AN17: 51 | AP17: 42 | AR17: 1 | AT17: 5
B18: 2e halfjaar 2018 | C18: 6080 | E18: 2940 | G18: 2770 | H18: 1115 | I18: 585 | J18: 125 | K18: 55 | L18: 495 | N18: 2210 | O18: 660 | P18: 1890 | R18: 65 | S18: 10 | T18: . | U18: . | V18: . | W18: . | Y18: 65 | Z18: 25 | AA18: 45 | AC18: 300 | AD18: 35 | AE18: 15 | AF18: . | AG18: . | AH18: 20 | AJ18: 280 | AK18: 75 | AL18: 225 | AN18: 48 | AP18: 46 | AR18: 1 | AT18: 5
B19: 1e halfjaar 2019 | C19: 6060 | E19: 3025 | G19: 2685 | H19: 1120 | I19: 575 | J19: 120 | K19: 45 | L19: 460 | N19: 2100 | O19: 635 | P19: 1825 | R19: 65 | S19: 10 | T19: . | U19: . | V19: . | W19: 10 | Y19: 60 | Z19: 15 | AA19: 50 | AC19: 280 | AD19: 45 | AE19: 10 | AF19: 10 | AG19: . | AH19: 30 | AJ19: 250 | AK19: 55 | AL19: 215 | AN19: 50 | AP19: 44 | AR19: 1 | AT19: 5
B20: 2e halfjaar 2019 | C20: 6075 | E20: 2875 | G20: 2860 | H20: 1175 | I20: 605 | J20: 120 | K20: 60 | L20: 495 | N20: 2265 | O20: 655 | P20: 1970 | R20: 60 | S20: 10 | T20: . | U20: . | V20: . | W20: 5 | Y20: 55 | Z20: 20 | AA20: 40 | AC20: 280 | AD20: 45 | AE20: 25 | AF20: . | AG20: . | AH20: 25 | AJ20: 255 | AK20: 75 | AL20: 190 | AN20: 47 | AP20: 47 | AR20: 1 | AT20: 5
B21: 1e halfjaar 2020 | C21: 5545 | E21: 2810 | G21: 2355 | H21: 1000 | I21: 545 | J21: 130 | K21: 35 | L21: 380 | N21: 1815 | O21: 480 | P21: 1600 | R21: 95 | S21: 25 | T21: 15 | U21: . | V21: . | W21: 10 | Y21: 80 | Z21: 20 | AA21: 65 | AC21: 280 | AD21: 55 | AE21: 15 | AF21: . | AG21: . | AH21: 35 | AJ21: 245 | AK21: 45 | AL21: 215 | AN21: 51 | AP21: 43 | AR21: 2 | AT21: 5
B22: 2e halfjaar 2020 | C22: 6100 | E22: 2940 | G22: 2760 | H22: 1160 | I22: 570 | J22: 150 | K22: 40 | L22: 505 | N22: 2145 | O22: 545 | P22: 1895 | R22: 95 | S22: 20 | T22: . | U22: . | V22: . | W22: 10 | Y22: 85 | Z22: 15 | AA22: 70 | AC22: 305 | AD22: 55 | AE22: 10 | AF22: . | AG22: . | AH22: 35 | AJ22: 270 | AK22: 45 | AL22: 235 | AN22: 48 | AP22: 45 | AR22: 2 | AT22: 5
B23: 1e halfjaar 2021 | C23: 6280 | E23: 2865 | G23: 3090 | H23: 1235 | I23: 610 | J23: 165 | K23: 30 | L23: 545 | N23: 2425 | O23: 515 | P23: 2205 | R23: 70 | S23: 10 | T23: . | U23: . | V23: . | W23: 10 | Y23: 65 | Z23: 15 | AA23: 50 | AC23: 260 | AD23: 40 | AE23: 10 | AF23: . | AG23: . | AH23: 30 | AJ23: 235 | AK23: 55 | AL23: 190 | AN23: 46 | AP23: 49 | AR23: 1 | AT23: 4
B24: 2e halfjaar 2021 | C24: 6075 | E24: 2810 | G24: 2925 | H24: 1170 | I24: 600 | J24: 140 | K24: 45 | L24: 495 | N24: 2315 | O24: 480 | P24: 2125 | R24: 55 | S24: 5 | T24: . | U24: . | V24: . | W24: . | Y24: 55 | Z24: 20 | AA24: 40 | AC24: 285 | AD24: 35 | AE24: 10 | AF24: . | AG24: . | AH24: 20 | AJ24: 270 | AK24: 55 | AL24: 225 | AN24: 46 | AP24: 48 | AR24: 1 | AT24: 5
B25: 1e halfjaar 2022 | C25: 6195 | E25: 2725 | G25: 3080 | H25: 1230 | I25: 615 | J25: 165 | K25: 35 | L25: 550 | N25: 2460 | O25: 475 | P25: 2300 | R25: 95 | S25: 10 | T25: . | U25: . | V25: . | W25: 5 | Y25: 90 | Z25: 20 | AA25: 75 | AC25: 300 | AD25: 55 | AE25: 20 | AF25: . | AG25: . | AH25: 35 | AJ25: 270 | AK25: 65 | AL25: 230 | AN25: 44 | AP25: 50 | AR25: 2 | AT25: 5
B26: 2e halfjaar 2022 | C26: 6260 | E26: 2635 | G26: 3255 | H26: 1365 | I26: 620 | J26: 200 | K26: 45 | L26: 665 | N26: 2580 | O26: 495 | P26: 2390 | R26: 60 | S26: 10 | T26: . | U26: . | V26: . | W26: 5 | Y26: 55 | Z26: . | AA26: 55 | AC26: 315 | AD26: 35 | AE26: 10 | AF26: . | AG26: . | AH26: 20 | AJ26: 295 | AK26: 55 | AL26: 255 | AN26: 42 | AP26: 52 | AR26: 1 | AT26: 5
