Workbook
Name CountryCode: Param!$D$99
Name CountryIeaList: Param!$D$8:$D$67
Name CountryIndex: Param!$D$96
Name CountryIsoList: Param!$E$8:$E$67
Name CountryList: Param!$C$8:$C$67
Name CountryUser: 'Table 1'!$D$2
Name CsvCountry: Param!$D$106
Name CsvCountryName: Param!$D$108
Name CsvMonth: Param!$D$102
Name CsvMonthName: Param!$D$109
Name CsvYear: Param!$D$103
Name DataT1: 'Table 1'!$D$14:$J$25
Name DataT2: 'Table 2'!$D$8:$AD$27
Name DataT3: 'Table 3'!$C$8:$AG$174
Name DataT4: 'Table 4'!$C$8:$AG$174
Name DataT5: 'Table 5'!$D$8:$AI$43
Name DataT5b_5c_1: 'Table 5b_5c'!$D$8:$AI$25
Name DataT5b_5c_2: 'Table 5b_5c'!$D$28:$AI$37
Name DataT5b_5c_3: 'Table 5b_5c'!$D$42:$D$50
Name DataT5b_5c_4: 'Table 5b_5c'!$D$55:$AI$56
Name DataT6: 'Table 6'!$C$8:$AH$66
Name DataT6b: 'Table 6b'!$C$8:$AH$66
Name DataT7: 'Table 7'!$C$8:$AH$66
Name DataT8: 'Table 8'!$C$8:$AH$66
Name DataT8b: 'Table 8b'!$C$8:$AH$66
Name DataT8c: 'Table 8c'!$C$8:$AH$66
Name DataT9: 'Table 9'!$C$8:$AH$66
Name DataTRem: Remarks!$D$4:$D$43
Name DatatypeT1: 'Table 1'!$AS$8
Name DatatypeT2: 'Table 2'!$AT$2
Name DatatypeT3: 'Table 3'!$AT$4
Name DatatypeT4: 'Table 4'!$AT$4
Name DatatypeT5: 'Table 5'!$AT$4
Name DatatypeT5b_5c_1: 'Table 5b_5c'!$AT$2
Name DatatypeT5b_5c_2: 'Table 5b_5c'!$AT$2
Name DatatypeT5b_5c_3: 'Table 5b_5c'!$AT$2
Name DatatypeT5b_5c_4: 'Table 5b_5c'!$AT$2
Name DatatypeT6: 'Table 6'!$AT$2
Name DatatypeT6b: 'Table 6b'!$AT$2
Name DatatypeT7: 'Table 7'!$AT$2
Name DatatypeT8: 'Table 8'!$AT$2
Name DatatypeT8b: 'Table 8b'!$AT$2
Name DatatypeT8c: 'Table 8c'!$AT$2
Name DatatypeT9: 'Table 9'!$AT$2
Name DatatypeTRem: Remarks!$AI$2
Name DS: Summary!$D$8
Name EnCMember: Param!$D$101
Name EUDSDCodesT1: 'Table 1'!$DS$14:$EE$25
Name EUDSDCodesT2: 'Table 2'!$DS$8:$EE$27
Name EUDSDCodesT3: 'Table 3'!$DS$8:$EE$174
Name EUDSDCodesT4: 'Table 4'!$DS$8:$EE$174
Name EUDSDCodesT5: 'Table 5'!$DS$8:$EE$43
Name EUDSDCodesT5b_5c: 'Table 5b_5c'!$DS$8:$EE$37,'Table 5b_5c'!$DS$42:$EE$44,'Table 5b_5c'!$DS$47:$EE$50,'Table 5b_5c'!$DS$55:$EE$56
Name EUDSDCodesT6: 'Table 6'!$DS$8:$EE$64
Name EUDSDCodesT6b: 'Table 6b'!$DS$8:$EE$64
Name EUDSDCodesT7: 'Table 7'!$DS$8:$EE$64
Name EUDSDCodesT8: 'Table 8'!$DS$8:$EE$64
Name EUDSDCodesT8b: 'Table 8b'!$DS$8:$EE$64
Name EUDSDCodesT8c: 'Table 8c'!$DS$8:$EE$64
Name EUDSDCodesT9: 'Table 9'!$DS$8:$EE$64

Sheet Summary
D5: =IF('Table 1'!D2=0,"",'Table 1'!D2) -> Netherlands | G5: =IF(EXACT(CountryUser,"(select country)"),"",(IF('Table 1'!D3=0,"",'Table 1'!D3 & " " & QuestYear))) -> September 2026
DS6: *** DSD codes ***
DS7: REF_AREA | DT7: ENERGY_PRODUCT | DU7: MAIN_FLOW | DV7: FLOW_BREAKDOWN | DW7: PLANT_TECH | DX7: PLANT_TYPE | DY7: STOCKS | DZ7: INFRASTRUCTURE_IND | EA7: VIS_A_VIS_AREA | EB7: MEASURE_VALUE_TYPE | EC7: FACILITY_ID | ED7: UNIT_MEASURE | EE7: TIME_PERIOD
D8: 2026.1 | DS8: =VLOOKUP(CountryUser,Param!$C$9:$E$67,3,0) -> NL | DU8: _Z | DV8: _Z | DW8: _Z | DX8: _Z | DY8: _Z | DZ8: _Z | EA8: _Z | EB8: _Z | EC8: _Z | ED8: _Z | EE8: =QuestYear&"-"&TEXT(MATCH(FirstMonth,Param!C71:C82,0),"00") -> 2026-09
D9: All data should be entered in thousand metric tons, with 3 decimal places.
D10: Please round data before calculating the totals.
D11: All opening stock levels should equal closing stock levels of the previous month.
D12: Before sending your submission, please ensure there are no discrepancies left.
D13: A summary table of all discrepancies is shown below on this page.
D14: You can address your questions to the MOS section: | J14: mos@iea.org
D15: and to Eurostat: | J15: estat-energy-monthly@ec.europa.eu
B16: A summary of main discrepancies found in the tables:
B18: ='Table 1'!A8 -> Table 1: SUPPLY OF CRUDE OIL, NGL, REFINERY FEEDSTOCKS, ADDITIVES AND OTHER HYDROCARBONS
B19: =IF('Table 1'!H28=0,"","Total Backflows in Table 1 is not equal to Total Backflows in Table 2.")
B20: =IF('Table 1'!H29=0,"","Total Products transferred in Table 1 is not equal to Total Products transferred in Table 2.") -> Total Products transferred in Table 1 is not equal to Total Products transferred in Table 2.
B21: =IF('Table 1'!H30=0,"","Total Imports in Table 1 is not equal to Total Imports in Table 3.") -> Total Imports in Table 1 is not equal to Total Imports in Table 3.
B22: =IF('Table 1'!H31=0,"","Total Exports in Table 1 is not equal to Total Exports in Table 4.") -> Total Exports in Table 1 is not equal to Total Exports in Table 4.
B23: =IF('Table 1'!H32=0,"","Total Direct use in Table 1 is not equal to Total Primary product receipts in Table 2.")
B24: =IF('Table 1'!H33=0,"","Total Stock changes in Table 1 is not equal to Total Closing stocks minus Total Opening stocks in Table 5.")
B25: =IF('Table 1'!$H$34=0,"","Refinery losses not equal to difference between refinery intake and gross output")
B26: =IF(MIN('Table 1'!D14,'Table 1'!D18:D20,'Table 1'!D24,'Table 1'!E14,'Table 1'!E18:E20,'Table 1'!E24,'Table 1'!F16:F20,'Table 1'!F24,'Table 1'!G14:G15,'Table 1'!G18:G20,'Table 1'!G24:G24,'Table 1'!I14:I15,'Table 1'!I18:I20,'Table 1'!I24,'Table 1'!J14:J20,'Table 1'!J24:J24,'Table 1'!J22)<0,"There are some NEGATIVE numbers.","")
B27: ='Table 2'!A4 -> Table 2: SUPPLY OF FINISHED PRODUCTS
B28: =IF('Table 2'!I32="OK","",'Table 2'!I32)
B29: =IF('Table 2'!I33="OK","",'Table 2'!I33) -> Imports (Balance) for Total products is not equal to Total Imports in Table 3 for Total products.
B30: =IF('Table 2'!I34="OK","",'Table 2'!I34) -> Exports (Balance) for Total products is not equal to Total Exports in Table 4 for Total products.
B31: =IF('Table 2'!I35="OK","",'Table 2'!I35) -> Interproduct transfers of Total products is not equal to 0.
B32: =IF('Table 2'!I36="OK","",'Table 2'!I36) -> Products transferred of Total products is not equal to Products transferred of Total in Table 1.
B33: =IF('Table 2'!I37="OK","",'Table 2'!I37)
B34: =IF('Table 2'!I39="OK","",'Table 2'!I39)
B35: =IF('Table 2'!I40="OK","",'Table 2'!I40)
B36: =IF('Table 2'!I41="OK","",'Table 2'!I41)
B37: =IF('Table 2'!I42="OK","",'Table 2'!I42)
B38: =IF('Table 2'!I43="OK","",'Table 2'!I43)
B39: =IF('Table 2'!I44="OK","",'Table 2'!I44)
B40: =IF(MIN('Table 2'!D8:AD8,'Table 2'!F9:AD11,'Table 2'!G12:AD13,'Table 2'!F14:AD14,'Table 2'!F16:AD16,'Table 2'!D20:AD20,'Table 2'!D22:AD22,'Table 2'!W23:W23,'Table 2'!AD23:AD23,'Table 2'!N21:O21,'Table 2'!M21,'Table 2'!H23)<0,"There are some NEGATIVE numbers.","")
B41: =LEFT('Table 3'!A4,26) -> Table 3: IMPORTS BY ORIGIN
B42: =IF('Table 3'!H177=0,"","Total Crude oil Imports in Table 3 is not equal to Total Imports in Table 1.") -> Total Crude oil Imports in Table 3 is not equal to Total Imports in Table 1.
B43: =IF('Table 3'!H178=0,"","Total Products Imports in Table 3 is not equal to Total Imports in Table 2.") -> Total Products Imports in Table 3 is not equal to Total Imports in Table 2.
B44: =IF('Table 3'!H179=0,"","Total Imports in Table 3 is not equal to the sum of its components for Total.")
B45: =IF('Table 3'!H180=0,"","Total Imports in Table 3 is not equal to the sum of its components for Total products.")
...

Sheet Table 1
A1: MONTHLY OIL QUESTIONNAIRE | F1: Brexit date | G1: 43861 | J1: 2007.2 | M1: Final
A2: 2012 | B2: Country | D2: Netherlands | F2: reference date | G2: =DATE(QuestYear,MATCH(FirstMonth,MonthList,0),2) -> 46267 | L2: Provisional | M2: Provisional
B3: Month of data | D3: September | E3: 2026 | F3: After Brexit? | G3: =IF(G2>G1,1,2) -> 1
B4: Status of data (final/provisional) | D4: Final | F4: (1=yes, 2= no)
B5: Prepared by
B6: Date of transmission | DS6: *** DSD codes ***
AS7: Datatype | DS7: REF_AREA | DT7: ENERGY_PRODUCT | DU7: MAIN_FLOW | DV7: FLOW_BREAKDOWN | DW7: PLANT_TECH | DX7: PLANT_TYPE | DY7: STOCKS | DZ7: INFRASTRUCTURE_IND | EA7: VIS_A_VIS_AREA | EB7: MEASURE_VALUE_TYPE | EC7: FACILITY_ID | ED7: UNIT_MEASURE | EE7: TIME_PERIOD
A8: Table 1: SUPPLY OF CRUDE OIL, NGL, REFINERY FEEDSTOCKS, ADDITIVES AND OTHER HYDROCARBONS | AS8: BALANCE | DS8: =VLOOKUP(CountryUser, Param!$C$9:$E$67, 3, 0) -> NL | EE8: =QuestYear&"-"&TEXT(MATCH(FirstMonth, Param!C71:C82,0), "00") -> 2026-09
J10: Unit: Thousand metric tons
D11: Crude oil | E11: Natural gas liquids | F11: Refinery feedstocks | G11: Additives / oxygenates | I11: Other hydrocarbons | J11: Total (A to F, excl. E) | L11: Probate
H12: Of which Biofuels
D13: A | E13: B | F13: C | G13: D | H13: E | I13: F | J13: G | L13: H | AS13: Item1 ê
A14: + | B14: Indigenous production | C14: 1 | D14: 27.846 | E14: 6.211 | G14: 17.899 | I14: 0 | J14: =ROUND(D14+E14+G14+I14,3) -> 51.956 | L14: =IF(ROUND(J14-SUM(D14:E14,G14,I14),3)=0,"","Total is not equal to the sum of each product") | AS14: INDPROD | DT14: Row 1000 | DU14: PRODUCT | DV14: INDPROD | DW14: _Z | DX14: _Z | DY14: _Z | DZ14: _Z | EA14: _Z | EB14: WEIGHT | EC14: _Z | ED14: KT
A15: + | B15: Receipts from other sources | C15: 2 | G15: 140.14 | H15: 140.14 | I15: 0 | J15: =ROUND(SUM(G15,I15),3) -> 140.14 | L15: =IF(ROUND(J15-SUM(G15,I15),3)=0,"","Total is not equal to the sum of each product") | AS15: OSOURCES | DU15: PRODUCT | DV15: OSOURCES | DW15: _Z | DX15: _Z | DY15: _Z | DZ15: _Z | EA15: _Z | EB15: WEIGHT | EC15: _Z | ED15: KT
A16: + | B16: Backflows1 | C16: 3 | F16: 242.67 | J16: =ROUND(F16,3) -> 242.67 | L16: =IF(ROUND(J16-SUM(F16,),3)=0,"","Total is not equal to the sum of each product") | AS16: BACKFLOW | DU16: SUPPLY | DV16: BACKFLOW | DW16: _Z | DX16: _Z | DY16: _Z | DZ16: _Z | EA16: _Z | EB16: WEIGHT | EC16: _Z | ED16: KT
A17: + | B17: Products transferred2 | C17: 4 | D17: 0 | F17: 271.421 | J17: =ROUND(D17+F17,3) -> 271.421 | L17: =IF(ROUND(J17-SUM(D17,F17,),3)=0,"","Total is not equal to the sum of each product") | AS17: PTRANSF | DU17: TRANSFER | DV17: PTRANSF | DW17: _Z | DX17: _Z | DY17: _Z | DZ17: _Z | EA17: _Z | EB17: WEIGHT | EC17: _Z | ED17: KT
A18: + | B18: Imports (Balance)3 | C18: 5 | D18: 4422.602 | E18: 686.362 | F18: 0 | G18: 204.591 | I18: 0 | J18: =ROUND(SUM(D18:G18,I18),3) -> 5313.555 | L18: =IF(ROUND(J18-SUM(D18:G18,I18),3)=0,"","Total is not equal to the sum of each product") | AS18: TOTIMPSB | DU18: IMPORTS | DV18: TOTIMPSB | DW18: _Z | DX18: _Z | DY18: _Z | DZ18: _Z | EA18: _Z | EB18: WEIGHT | EC18: _Z | ED18: KT
A19: - | B19: Exports (Balance)4 | C19: 6 | D19: 29.035 | E19: 10.33 | F19: 0 | G19: 139.797 | I19: 0 | J19: =ROUND(SUM(D19:G19,I19),3) -> 179.162 | L19: =IF(ROUND(J19-SUM(D19:G19,I19),3)=0,"","Total is not equal to the sum of each product") | AS19: TOTEXPSB | DU19: EXPORTS | DV19: TOTEXPSB | DW19: _Z | DX19: _Z | DY19: _Z | DZ19: _Z | EA19: _Z | EB19: WEIGHT | EC19: _Z | ED19: KT
A20: - | B20: Direct use5 | C20: 7 | D20: 85.716 | E20: 205.369 | F20: 242.67 | G20: 219.717 | H20: 128.242 | I20: 0 | J20: =ROUND(SUM(D20:G20,I20),3) -> 753.472 | L20: =IF(ROUND(J20-SUM(D20:G20,I20),3)=0,"","Total is not equal to the sum of each product") | AS20: DIRECUSE | DU20: TRANSFER | DV20: DIRECUSE | DW20: _Z | DX20: _Z | DY20: _Z | DZ20: _Z | EA20: _Z | EB20: WEIGHT | EC20: _Z | ED20: KT
A21: - | B21: Stock changes6 | C21: 8 | D21: 164.654 | E21: -113.411 | F21: 0 | G21: 2.622 | H21: 11.898 | I21: 0 | J21: =ROUND(SUM(D21:G21,I21),3) -> 53.865 | L21: =IF(ROUND(J21-SUM(D21:G21,I21),3)=0,"","Total is not equal to the sum of each product") | AS21: STCHANAT | DU21: STOCKS | DV21: STOCKCH | DW21: _Z | DX21: _Z | DY21: NATTER | DZ21: _Z | EA21: _Z | EB21: WEIGHT | EC21: _Z | ED21: KT
A22: = | B22: Refinery intake (Calculated) | C22: 9 | D22: =ROUND(D14+D17+D18-+D19-D20-D21,3) -> 4171.043 | E22: =ROUND(E14+E18-E19-E20-E21,3) -> 590.285 | F22: =ROUND(F16+F17+F18-F19-F20-F21,3) -> 271.421 | G22: =ROUND(G14+G15+G18-G19-G20-G21,3) -> 0.494 | H22: =ROUND(H15-H20-H21,3) -> 0 | I22: =ROUND(I14+I15+I18-I19-I20-I21,3) -> 0 | J22: =ROUND(SUM(D22:G22,I22),3) -> 5033.243 | L22: =IF(ROUND(J22-SUM(D22:G22,I22),3)=0,"","Total is not equal to the sum of each product") | AS22: REFINCAL | DU22: SUPPLY | DV22: REFINCAL | DW22: _Z | DX22: _Z | DY22: _Z | DZ22: _Z | EA22: _Z | EB22: WEIGHT | EC22: _Z | ED22: KT
A23: - | B23: Statistical difference | C23: 10 | D23: =ROUND(D22-D24,3) -> -16.818 | E23: =ROUND(E22-E24,3) -> 32.532 | F23: =ROUND(F22-F24,3) -> 0 | G23: =ROUND(G22-G24,3) -> 0.292 | H23: =ROUND(H22-H24,3) -> 0 | I23: =ROUND(I22-I24,3) -> 0 | J23: =ROUND(SUM(D23:G23,I23),3) -> 16.006 | L23: =IF(ROUND(J23-SUM(D23:G23,I23),3)=0,"","Total is not equal to the sum of each product") | AS23: STATDIFF | DU23: STATDIFF | DV23: REFINCAL | DW23: _Z | DX23: _Z | DY23: _Z | DZ23: _Z | EA23: _Z | EB23: WEIGHT | EC23: _Z | ED23: KT
A24: = | B24: Refinery intake (Observed) | C24: 11 | D24: 4187.861 | E24: 557.753 | F24: 271.421 | G24: 0.202 | H24: 0 | I24: 0 | J24: =ROUND(SUM(D24:G24,I24),3) -> 5017.237 | L24: =IF(ROUND(J24-SUM(D24:G24,I24),3)=0,"","Total is not equal to the sum of each product") | AS24: REFINOBS | DU24: DEMAND | DV24: REFINOBS | DW24: _Z | DX24: _Z | DY24: _Z | DZ24: _Z | EA24: _Z | EB24: WEIGHT | EC24: _Z | ED24: KT
B25: Memo Item: Refinery losses | C25: 12 | D25: 52.021 | E25: 0 | F25: 0 | G25: 0 | H25: 0 | I25: 0 | J25: =ROUND(SUM(D25:G25,I25),3) -> 52.021 | L25: =IF(ROUND(J25-SUM(D25:G25,I25),3)=0,"","Total is not equal to the sum of each product") | AS25: REFLOSS | DU25: LOSSES | DV25: REFLOSS | DW25: _Z | DX25: _Z | DY25: _Z | DZ25: _Z | EA25: _Z | EB25: WEIGHT | EC25: _Z | ED25: KT
D26: =IF(MIN(D14,D18:D20,D24)<0,"Negative number","") | E26: =IF(MIN(E14,E18:E20,E24)<0,"Negative number","") | F26: =IF(MIN(F16:F20,F24)<0,"Negative number","") | G26: =IF(MIN(G14:G15,G18:G20,G24:G24)<0,"Negative number","") | H26: =IF(MIN(H14:H15,H18:H20,H24:H24)<0,"Negative number","") | I26: =IF(MIN(I14:I15,I18:I20,I24)<0,"Negative number","") | J26: =IF(MIN(J14:J20,J24)<0,"Negative number","")
H27: =IF(OR(H14>G14,H15>G15,H18>G18,H19>G19,H20>G20,H24>G24,H25>G25),"Error: Of which Biofuels greater than Additives / Oxygenates","")
A28: 1 | B28: Total of Backflows (reference G3) should correspond to Total products of Backflows to refineries in Table 2 (reference AA19). | H28: =ROUND(J16-'Table 2'!AD26,3) -> 0 | I28: =IF(H28=0,"OK","Total of Backflows not equal to Backflows to refineries of Total products in Table 2") -> OK
A29: 2 | B29: Total of Products transferred (reference G4) should correspond to Total products of Products transferred in Table 2 (reference AA9). | H29: =ROUND(J17-'Table 2'!AD16,3) -> -0.001 | I29: =IF(H29=0,"OK","Total of Products transferred not equal to Total products of Products transferred in Table 2") -> Total of Products transferred not equal to Total products of Products transferred in Table 2
A30: 3 | B30: Imports (Balance) should correspond to Total imports for these products in Table 3 (references A165 to F165). | H30: =ROUND(J18-'Table 3'!H174,3) -> -0.004 | I30: =IF(H30=0,"OK","Total Imports (Balance) do not equal Total Imports in Table 3") -> Total Imports (Balance) do not equal Total Imports in Table 3
A31: 4 | B31: Exports (Balance) should correspond to Total exports for these products in Table 4 (references A165 to F165). | H31: =ROUND(J19-'Table 4'!H174,3) -> 0.001 | I31: =IF(H31=0,"OK","Total Exports do not equal Total Exports in Table 4") -> Total Exports do not equal Total Exports in Table 4
A32: 5 | B32: Direct use should be carried over to Primary product receipts in Table 2 (line 1). | H32: =ROUND(J20-'Table 2'!AD8,3) -> 0 | I32: =IF(H32=0,"OK","Total Direct use figure does not equal Total products of Primary product receipts in Table 2") -> OK
A33: 6 | B33: Stock changes should correspond to Closing level minus Opening level of Stocks on national territory, Table 5 (line 2 minus line 1). | H33: =ROUND(J21-('Table 5'!J9-'Table 5'!J8),3) -> 0 | I33: =IF(H33=0,"OK","Stock changes not equal to Closing minus Opening levels on National territory, Table 5") -> OK
A34: 7 | B34: Refinery Losses CRNGFEED = Refinery intake (observed) CRNGFEED of Table 1- Refinery Gross Output Total products of Table 2 | H34: =ROUND(J25-(J24-'Table 2'!AD9),3) -> 0 | I34: =IF(H34=0,"OK","Refinery losses not equal to difference between refinery intake and gross output") -> OK
B130: Products è | D130: CRUDEOIL | E130: NGL | F130: REFFEEDS | G130: ADDITIVE | H130: BIOFUELS | I130: NONCRUDE | J130: CRNGFEED
B1000: ENERGY_PRODUCT | D1000: O4100 | E1000: O4200 | F1000: O4300 | G1000: O4400 | H1000: O4410 | I1000: O4500 | J1000: O4A00

Sheet Table 2
A1: MONTHLY OIL QUESTIONNAIRE | AT1: Datatype
A2: =IF('Table 1'!D2=0,"",'Table 1'!D2) -> Netherlands | AT2: BALANCE
A3: =IF('Table 1'!D3=0,"",'Table 1'!D3 & " " & QuestYear) -> September 2026
A4: Table 2: SUPPLY OF FINISHED PRODUCTS | AD4: Unit: Thousand metric tons
D5: Crude oil | E5: Natural gas liquids | F5: Refinery gas | G5: Ethane | H5: LPG | I5: Naphtha | J5: Total motor gasoline | M5: Aviation gasoline | N5: Gasoline type jet fuel | O5: Total kerosene type jet fuel | R5: Other kerosene | U5: Total gas/diesel oil | X5: Total fuel oil | AB5: Petroleum coke | AC5: Other products | AD5: Total products | AF5: Probate
K6: Biogasoline | L6: Non-biogasoline | P6: Bio jet kerosene | Q6: Non-bio jet kerosene | S6: Road diesel | T6: Heating and other gas oil | V6: Biodiesels | W6: Non-bio gas/diesel oil | Y6: Fuel oil- low sulphur (<1%) | Z6: Of which: Fuel oil- very low sulphur (<0.5%) | AA6: Fuel oil- high sulphur (>=1%) | DS6: *** DSD codes ***
D7: A | E7: B | F7: C | G7: D | H7: E | I7: F | J7: G | K7: H | L7: I | M7: J | N7: K | O7: L | P7: M | Q7: N | R7: O | S7: P | T7: Q | U7: R | V7: S | W7: T | X7: U | Y7: V | Z7: W | AA7: X | AB7: Y | AC7: Z | AD7: AA | AF7: AB | AT7: Item1 ê | DS7: REF_AREA | DT7: ENERGY_PRODUCT | DU7: MAIN_FLOW | DV7: FLOW_BREAKDOWN | DW7: PLANT_TECH | DX7: PLANT_TYPE | DY7: STOCKS | DZ7: INFRASTRUCTURE_IND | EA7: VIS_A_VIS_AREA | EB7: MEASURE_VALUE_TYPE | EC7: FACILITY_ID | ED7: UNIT_MEASURE | EE7: TIME_PERIOD
A8: + | B8: Primary product receipts1 | C8: 1 | D8: 85.716 | E8: 205.369 | F8: 179.878 | G8: 0 | H8: 0 | I8: 21.535 | J8: 136.723 | K8: 47.557 | L8: 89.165 | M8: 0 | N8: 0 | O8: 0 | P8: 0 | Q8: 0 | R8: 0 | S8: 56.987 | T8: 28.618 | U8: 85.605 | V8: 80.685 | W8: 4.921 | X8: 0 | Y8: 0 | Z8: 0 | AA8: 0 | AB8: 0 | AC8: 38.646 | AD8: =ROUND(SUM(D8:J8,M8:O8,R8,U8,X8,AB8:AC8),3) -> 753.472 | AF8: =IF(ROUND(AD8-SUM(D8:J8,M8:O8,R8,U8,X8,AB8:AC8),3)=0,"","Total products is not equal to the sum of products") | AT8: PPRECPTS | DS8: =VLOOKUP(CountryUser, Param!$C$9:$E$67, 3, 0) -> NL | DT8: Row 1000 | DU8: SUPPLY | DV8: PPRECPTS | DW8: _Z | DX8: _Z | DY8: _Z | DZ8: _Z | EA8: _Z | EB8: WEIGHT | EC8: _Z | ED8: KT | EE8: =QuestYear&"-"&TEXT(MATCH(FirstMonth, Param!C71:C82,0), "00") -> 2026-09
A9: + | B9: Refinery gross output | C9: 2 | F9: 184.85 | G9: 0 | H9: 68.274 | I9: 860.233 | J9: 397.53 | K9: 0 | L9: 397.53 | M9: 9.194 | N9: 0 | O9: 505.115 | P9: 0 | Q9: 505.115 | R9: 122.315 | S9: 1486.198 | T9: 172.792 | U9: 1658.99 | V9: 0 | W9: 1658.99 | X9: 878.164 | Y9: 595.443 | Z9: 0 | AA9: 282.721 | AB9: 33.458 | AC9: 247.093 | AD9: =ROUND(SUM(F9:J9,M9:O9,R9,U9,X9,AB9:AC9),3) -> 4965.216 | AF9: =IF(ROUND(AD9-SUM(F9:J9,M9:O9,R9,U9,X9,AB9:AC9),3)=0,"","Total products is not equal to the sum of products") | AT9: REFGROUT | DU9: PRODUCT | DV9: REFGROUT | DW9: _Z | DX9: _Z | DY9: _Z | DZ9: _Z | EA9: _Z | EB9: WEIGHT | EC9: _Z | ED9: KT
A10: + | B10: Recycled products | C10: 3 | F10: 10.786 | G10: 0 | H10: 0 | I10: 0 | J10: 0 | K10: 0 | L10: 0 | M10: 0 | N10: 0 | O10: 0 | P10: 0 | Q10: 0 | R10: 0 | S10: 0 | T10: 0 | U10: 0 | V10: 0 | W10: 0 | X10: 0 | Y10: 0 | Z10: 0 | AA10: 0 | AB10: 0 | AC10: 0 | AD10: =ROUND(SUM(F10:J10,M10:O10,R10,U10,X10,AB10:AC10),3) -> 10.786 | AF10: =IF(ROUND(AD10-SUM(F10:J10,M10:O10,R10,U10,X10,AB10:AC10),3)=0,"","Total products is not equal to the sum of products") | AT10: RECYCLED | DU10: SUPPLY | DV10: RECYCLED | DW10: _Z | DX10: _Z | DY10: _Z | DZ10: _Z | EA10: _Z | EB10: WEIGHT | EC10: _Z | ED10: KT
A11: - | B11: Refinery fuel | C11: 4 | F11: 179.652 | G11: 0 | H11: 4.389 | I11: 0 | J11: 0 | K11: 0 | L11: 0 | M11: 0 | N11: 0 | O11: 0 | P11: 0 | Q11: 0 | R11: 0 | S11: 0 | T11: 0 | U11: 0 | V11: 0 | W11: 0 | X11: 0 | Y11: 0 | Z11: 0 | AA11: 0 | AB11: 26.093 | AC11: 0.002 | AD11: =ROUND(SUM(F11:J11,M11:O11,R11,U11,X11,AB11:AC11),3) -> 210.136 | AF11: =IF(ROUND(AD11-SUM(F11:J11,M11:O11,R11,U11,X11,AB11:AC11),3)=0,"","Total products is not equal to the sum of products") | AT11: REFFUEL | DU11: ENERGUSE | DV11: REFFUEL | DW11: _Z | DX11: _Z | DY11: _Z | DZ11: _Z | EA11: _Z | EB11: WEIGHT | EC11: _Z | ED11: KT
A12: + | B12: Imports (Balance)2 | C12: 5 | G12: 0 | H12: 408.97 | I12: 1913.84 | J12: 540.212 | K12: 0 | L12: 540.212 | M12: 0 | N12: 0 | O12: 618.09 | P12: 0 | Q12: 592.552 | R12: 65.435 | S12: 561.737 | T12: 658.887 | U12: 1220.624 | V12: 0 | W12: 1220.624 | X12: 2185.815 | Y12: 930.869 | Z12: 0 | AA12: 1254.946 | AB12: 151.193 | AC12: 590.196 | AD12: =ROUND(SUM(G12:J12,M12:O12,R12,U12,X12,AB12:AC12),3) -> 7694.375 | AF12: =IF(ROUND(AD12-SUM(G12:J12,M12:O12,R12,U12,X12,AB12:AC12),3)=0,"","Total products is not equal to the sum of products") | AT12: TOTIMPSB | DU12: IMPORTS | DV12: TOTIMPSB | DW12: _Z | DX12: _Z | DY12: _Z | DZ12: _Z | EA12: _Z | EB12: WEIGHT | EC12: _Z | ED12: KT
A13: - | B13: Exports (Balance)3 | C13: 6 | G13: 0 | H13: 134.665 | I13: 1237.39 | J13: 1916.642 | K13: 0 | L13: 1916.642 | M13: 9.473 | N13: 0 | O13: 899.7 | P13: 0 | Q13: 899.7 | R13: 78.974 | S13: 1647.19 | T13: 547.758 | U13: 2194.948 | V13: 1.414 | W13: 2193.535 | X13: 1895.167 | Y13: 1213.689 | Z13: 0 | AA13: 681.478 | AB13: 114.691 | AC13: 678.853 | AD13: =ROUND(SUM(G13:J13,M13:O13,R13,U13,X13,AB13:AC13),3) -> 9160.503 | AF13: =IF(ROUND(AD13-SUM(G13:J13,M13:O13,R13,U13,X13,AB13:AC13),3)=0,"","Total products is not equal to the sum of products") | AT13: TOTEXPSB | DU13: EXPORTS | DV13: TOTEXPSB | DW13: _Z | DX13: _Z | DY13: _Z | DZ13: _Z | EA13: _Z | EB13: WEIGHT | EC13: _Z | ED13: KT
A14: - | B14: International marine bunkers | C14: 7 | F14: 0 | G14: 0 | H14: 0 | I14: 0 | J14: 0 | K14: 0 | L14: 0 | M14: 0 | N14: 0 | O14: 0 | P14: 0 | Q14: 0 | R14: 0 | S14: 0 | T14: 174.259 | U14: 174.259 | V14: 23.131 | W14: 151.128 | X14: 755.291 | Y14: 430.327 | Z14: 0 | AA14: 324.963 | AB14: 0 | AC14: 0 | AD14: =ROUND(SUM(F14:J14,M14:O14,R14,U14,X14,AB14:AC14),3) -> 929.55 | AF14: =IF(ROUND(AD14-SUM(F14:J14,M14:O14,R14,U14,X14,AB14:AC14),3)=0,"","Total products is not equal to the sum of products") | AT14: BUNKERS | DU14: MARBUNK | DV14: _Z | DW14: _Z | DX14: _Z | DY14: _Z | DZ14: _Z | EA14: _Z | EB14: WEIGHT | EC14: _Z | ED14: KT
A15: + | B15: Interproduct transfers4 | C15: 8 | D15: -85.714 | E15: -71.294 | F15: 0 | G15: 0 | H15: -24.398 | I15: -941.773 | J15: 1152.044 | K15: 0 | L15: 1152.044 | M15: 0 | N15: 0 | O15: 142.736 | P15: 0 | Q15: 142.736 | R15: -93.827 | S15: -48.455 | T15: 20.339 | U15: -28.116 | V15: 0 | W15: -28.116 | X15: 53.887 | Y15: 214.538 | Z15: 0 | AA15: -160.651 | AB15: 0 | AC15: -103.557 | AD15: =ROUND(SUM(D15:J15,M15:O15,R15,U15,X15,AB15:AC15),3) -> -0.012 | AF15: =IF(ROUND(AD15-SUM(D15:J15,M15:O15,R15,U15,X15,AB15:AC15),3)=0,"","Total products is not equal to the sum of products") | AT15: IPTRANSF | DU15: TRANSFER | DV15: IPTRANSF | DW15: _Z | DX15: _Z | DY15: _Z | DZ15: _Z | EA15: _Z | EB15: WEIGHT | EC15: _Z | ED15: KT
A16: - | B16: Products transferred5 | C16: 9 | F16: 0 | G16: 0 | H16: 0 | I16: 0 | J16: 0 | K16: 0 | L16: 0 | M16: 0 | N16: 0 | O16: 7.222 | P16: 0 | Q16: 7.222 | R16: 0.963 | S16: 0 | T16: 19.764 | U16: 19.764 | V16: 0 | W16: 19.764 | X16: 229.933 | Y16: 0 | Z16: 0 | AA16: 229.933 | AB16: 0 | AC16: 13.54 | AD16: =ROUND(SUM(F16:J16,M16:O16,R16,U16,X16,AB16:AC16),3) -> 271.422 | AF16: =IF(ROUND(AD16-SUM(F16:J16,M16:O16,R16,U16,X16,AB16:AC16),3)=0,"","Total products is not equal to the sum of products") | AT16: PTRANSF | DU16: TRANSFER | DV16: PTRANSF | DW16: _Z | DX16: _Z | DY16: _Z | DZ16: _Z | EA16: _Z | EB16: WEIGHT | EC16: _Z | ED16: KT
A17: - | B17: Stock changes6 | C17: 10 | G17: 0 | H17: -0.201 | I17: -35.287 | J17: -42.371 | K17: 0 | L17: -42.371 | M17: -0.004 | N17: 0 | O17: 32.484 | P17: 0 | Q17: 32.484 | R17: 8.046 | S17: 8.49 | T17: 113.407 | U17: 121.897 | V17: 0 | W17: 121.897 | X17: 237.476 | Y17: 96.834 | Z17: 0 | AA17: 140.642 | AB17: 8.716 | AC17: 0.108 | AD17: =ROUND(SUM(G17:J17,M17:O17,R17,U17,X17,AB17:AC17),3) -> 330.864 | AF17: =IF(ROUND(AD17-SUM(G17:J17,M17:O17,R17,U17,X17,AB17:AC17),3)=0,"","Total products is not equal to the sum of products") | AT17: STCHANAT | DU17: STOCKS | DV17: STOCKCH | DW17: _Z | DX17: _Z | DY17: NATTER | DZ17: _Z | EA17: _Z | EB17: WEIGHT | EC17: _Z | ED17: KT
A18: = | B18: Gross inland deliveries (Calculated) | C18: 11 | D18: =ROUND(D8+D15,3) -> 0.002 | E18: =ROUND(E8+E15,3) -> 134.075 | F18: =ROUND(F8+F9+F10-F11-F14+F15-F16,3) -> 195.862 | G18: =ROUND(G8+G9+G10-G11+G12-G13-G14+G15-G16-G17,3) -> 0 | H18: =ROUND(H8+H9+H10-H11+H12-H13-H14+H15-H16-H17,3) -> 313.993 | I18: =ROUND(I8+I9+I10-I11+I12-I13-I14+I15-I16-I17,3) -> 651.732 | J18: =ROUND(J8+J9+J10-J11+J12-J13-J14+J15-J16-J17,3) -> 352.238 | K18: =ROUND(K8+K9+K10-K11+K12-K13-K14+K15-K16-K17,3) -> 47.557 | L18: =ROUND(L8+L9+L10-L11+L12-L13-L14+L15-L16-L17,3) -> 304.68 | M18: =ROUND(M8+M9+M10-M11+M12-M13-M14+M15-M16-M17,3) -> -0.275 | N18: =ROUND(N8+N9+N10-N11+N12-N13-N14+N15-N16-N17,3) -> 0 | ... AC18: =ROUND(AC8+AC9+AC10-AC11+AC12-AC13-AC14+AC15-AC16-AC17,3) -> 79.875 | AD18: =ROUND(SUM(D18:J18,M18:O18,R18,U18,X18,AB18:AC18),3) -> 2521.362 | AF18: =IF(ROUND(AD18-SUM(D18:J18,M18:O18,R18,U18,X18,AB18:AC18),3)=0,"","Total products is not equal to the sum of products") | AT18: GDINCTRC | DU18: SUPPLY | DV18: INLDEMC | DW18: _Z | DX18: _Z | DY18: _Z | DZ18: _Z | EA18: _Z | EB18: WEIGHT | EC18: _Z | ED18: KT
A19: - | B19: Statistical difference | C19: 12 | D19: =ROUND(D18-D20,3) -> 0.002 | E19: =ROUND(E18-E20,3) -> 0.001 | F19: =ROUND(F18-F20,3) -> -0.049 | G19: =ROUND(G18-G20,3) -> 0 | H19: =ROUND(H18-H20,3) -> 0.057 | I19: =ROUND(I18-I20,3) -> -0.013 | J19: =ROUND(J18-J20,3) -> 0 | K19: =ROUND(K18-K20,3) -> 0 | ... AC19: =ROUND(AC18-AC20,3) -> -5.997 | AD19: =ROUND(SUM(D19:J19,M19:O19,R19,U19,X19,AB19:AC19),3) -> -6.271 | AF19: =IF(ROUND(AD19-SUM(D19:J19,M19:O19,R19,U19,X19,AB19:AC19),3)=0,"","Total products is not equal to the sum of products") | AT19: STATDIFF | DU19: STATDIFF | DV19: _Z | DW19: _Z | DX19: _Z | DY19: _Z | DZ19: _Z | EA19: _Z | EB19: WEIGHT | EC19: _Z | ED19: KT
A20: = | B20: Gross inland deliveries (Observed) | C20: 13 | D20: 0 | E20: 134.074 | F20: 195.911 | G20: 0 | H20: 313.936 | I20: 651.745 | J20: 352.238 | K20: 47.557 | L20: 304.68 | M20: 0.015 | N20: 0 | O20: 326.535 | P20: 0 | Q20: 300.997 | R20: 5.948 | S20: 400.76 | T20: 25.448 | U20: 426.208 | V20: 56.14 | W20: 370.068 | X20: 0 | Y20: 0 | Z20: 0 | AA20: 0 | AB20: 35.151 | AC20: 85.872 | AD20: =ROUND(SUM(D20:J20,M20:O20,R20,U20,X20,AB20:AC20),3) -> 2527.633 | AF20: =IF(ROUND(AD20-SUM(D20:J20,M20:O20,R20,U20,X20,AB20:AC20),3)=0,"","Total products is not equal to the sum of products") | AT20: GDINCTRO | DU20: DEMAND | DV20: INLDEMO | DW20: _Z | DX20: _Z | DY20: _Z | DZ20: _Z | EA20: _Z | EB20: WEIGHT | EC20: _Z | ED20: KT
B21: Memo Items:7 Deliveries to international aviation | C21: 14 | M21: 0 | N21: 0 | O21: 318.353 | P21: 0 | Q21: 292.815 | AD21: =ROUND(SUM(M21:O21),3) -> 318.353 | AF21: =IF(ROUND(AD21-SUM(M21:O21),3)=0,"","There is an error in this line") | AT21: INTLCIAV | DU21: ENERGUSE | DV21: INTLAIR | DW21: _Z | DX21: _Z | DY21: _Z | DZ21: _Z | EA21: _Z | EB21: WEIGHT | EC21: _Z | ED21: KT
B22: Deliveries to main activity producer power plants | C22: 15 | D22: 0 | E22: 0 | F22: 0 | G22: 0 | H22: 0 | I22: 0 | J22: 0 | K22: 0 | L22: 0 | M22: 0 | N22: 0 | O22: 0 | P22: 0 | Q22: 0 | R22: 0 | S22: 0 | T22: 0 | U22: 0 | V22: 0 | W22: 0 | X22: 0 | Y22: 0 | Z22: 0 | AA22: 0 | AB22: 0 | AC22: 0 | AD22: =ROUND(SUM(D22:J22,M22:O22,R22,U22,X22,AB22:AC22),3) -> 0 | AF22: =IF(ROUND(AD22-SUM(D22:J22,M22:O22,R22,U22,X22,AB22:AC22),3)=0,"","Total products is not equal to the sum of products") | AT22: PUBELEC | DU22: TRANSFOR | DV22: _Z | DW22: _Z | DX22: MAINTOT | DY22: _Z | DZ22: _Z | EA22: _Z | EB22: WEIGHT | EC22: _Z | ED22: KT
B23: Deliveries of automotive LPG | C23: 16 | H23: 9.143 | AD23: =ROUND(H23,3) -> 9.143 | AF23: =IF(ROUND(AD23-H23,3)=0,"","Total products is not equal to deliveries of Automotive LPG reported") | AT23: AUDILPG | DU23: ENERGUSE | DV23: ROAD | DW23: _Z | DX23: _Z | DY23: _Z | DZ23: _Z | EA23: _Z | EB23: WEIGHT | EC23: _Z | ED23: KT
B24: Deliveries of rail and marine diesel | C24: 17 | T24: 1.68 | U24: 1.68 | V24: 0.249 | W24: 1.43 | AD24: =ROUND(U24,3) -> 1.68 | AF24: =IF(ROUND(AD24-U24,3)=0,"","Total products is not equal to Deliveries of rail and marine diesel of Total gas/diesel oil") | AT24: ERAILMAR | DU24: ENERGUSE | DV24: RAILMAR | DW24: _Z | DX24: _Z | DY24: _Z | DZ24: _Z | EA24: _Z | EB24: WEIGHT | EC24: _Z | ED24: KT
B25: Gross deliveries to the petrochemical industry8 | C25: 18 | D25: 0 | E25: 134.074 | F25: 182.974 | G25: 0 | H25: 294.329 | I25: 651.732 | J25: 0 | K25: 0 | L25: 0 | M25: 0 | N25: 0 | O25: 0 | P25: 0 | Q25: 0 | R25: 4.593 | S25: 0 | T25: 0.244 | U25: 1.579 | V25: 0 | W25: 1.579 | X25: 0 | Y25: 0 | Z25: 0 | AA25: 0 | AB25: 0 | AC25: 48.27 | AD25: =ROUND(SUM(D25:J25,M25:O25,R25,U25,X25,AB25:AC25),3) -> 1317.551 | AF25: =IF(ROUND(AD25-SUM(D25:J25,M25:O25,R25,U25,X25,AB25:AC25),3)=0,"","Total products is not equal to the sum of products") | AT25: GDPETCH | DU25: CONSUMPT | DV25: PETCHEM | DW25: _Z | DX25: _Z | DY25: _Z | DZ25: _Z | EA25: _Z | EB25: WEIGHT | EC25: _Z | ED25: KT
B26: Backflows to refineries9 | C26: 19 | F26: 179.878 | G26: 0 | H26: 0 | I26: 21.535 | J26: 0 | K26: 0 | L26: 0 | M26: 0 | N26: 0 | O26: 0 | P26: 0 | Q26: 0 | R26: 0 | S26: 0 | T26: 4.921 | U26: 4.921 | V26: 0 | W26: 4.921 | X26: 0 | Y26: 0 | Z26: 0 | AA26: 0 | AB26: 0 | AC26: 36.336 | AD26: =ROUND(SUM(F26:J26,M26:O26,R26,U26,X26,AB26:AC26),3) -> 242.67 | AF26: =IF(ROUND(AD26-SUM(F26:J26,M26:O26,R26,U26,X26,AB26:AC26),3)=0,"","Total products is not equal to the sum of products") | AT26: BACKFLOW | DU26: SUPPLY | DV26: BACKFLOW | DW26: _Z | DX26: _Z | DY26: _Z | DZ26: _Z | EA26: _Z | EB26: WEIGHT | EC26: _Z | ED26: KT
B27: Net deliveries of Total products | C27: 20 | AD27: =ROUND(AD20-AD26,3) -> 2284.963 | AT27: NETDELIC | DU27: NETDELIV | DV27: _T | DW27: _Z | DX27: _Z | DY27: _Z | DZ27: _Z | EA27: _Z | EB27: WEIGHT | EC27: _Z | ED27: KT
D28: =IF(MIN(D8,D18,D20,D22,D25)<0,"Negative number","") | E28: =IF(MIN(E8,E18,E20,E22,E25)<0,"Negative number","") | F28: =IF(MIN(F8:F11,F14,F16,F18,F20,F22,F25,F26)<0,"Negative number","") | G28: =IF(MIN(G8:G14,G16,G18,G20,G22,G25,G26)<0,"Negative number","") | H28: =IF(MIN(H8:H14,H16,H18,H20,H22,H23,H25,H26)<0,"Negative number","") | I28: =IF(MIN(I8:I14,I16,I18,I20,I22,I25,I26)<0,"Negative number","") | J28: =IF(MIN(J8:J14,J16,J18,J20,J22,J25,J26)<0,"Negative number","") | K28: =IF(MIN(K8:K14,K16,K18,K20,K22,K25,K26)<0,"Negative number","") | L28: =IF(MIN(L8:L14,L16,L18,L20,L22,L25,L26)<0,"Negative number","") | M28: =IF(MIN(M8:M14,M16,M18,M20,M21,M22,M25,M26)<0,"Negative number","") -> Negative number | N28: =IF(MIN(N8:N14,N16,N18,N20,N21,N22,N25,N26)<0,"Negative number","") | O28: =IF(MIN(O8:O14,O16,O18,O20,O21,O22,O25,O26)<0,"Negative number","") | P28: =IF(MIN(P8:P14,P16,P18,P20,P21,P22,P25,P26)<0,"Negative number","") | Q28: =IF(MIN(Q8:Q14,Q16,Q18,Q20,Q21,Q22,Q25,Q26)<0,"Negative number","") | R28: =IF(MIN(R8:R14,R16,R18,R20,R22,R25,R26)<0,"Negative number","") | S28: =IF(MIN(S8:S14,S16,S18,S20,S22,S25,S26)<0,"Negative number","") | T28: =IF(MIN(T8:T14,T16,T18,T20,T22,T25,T26)<0,"Negative number","") | U28: =IF(MIN(U8:U14,U16,U18,U20,U22,U24,U25,U26)<0,"Negative number","") | V28: =IF(MIN(V8:V14,V16,V18,V20,V22,V24,V25,V26)<0,"Negative number","") | W28: =IF(MIN(W8:W14,W16,W18,W20,W22,W24,W25,W26)<0,"Negative number","") | X28: =IF(MIN(X8:X14,X16,X18,X20,X22,X25,X26)<0,"Negative number","") -> Negative number | Y28: =IF(MIN(Y8:Y14,Y16,Y18,Y20,Y22,Y25,Y26)<0,"Negative number","") | AA28: =IF(MIN(AA8:AA14,AA16,AA18,AA20,AA22,AA25,AA26)<0,"Negative number","") | AB28: =IF(MIN(AB8:AB14,AB16,AB18,AB20,AB22,AB25,AB26)<0,"Negative number","") | AC28: =IF(MIN(AC8:AC14,AC16,AC18,AC20,AC22,AC25,AC26)<0,"Negative number","") | AD28: =IF(MIN(AD8:AD14,AD16,AD18,AD20,AD21:AD27)<0,"Negative number","")
L29: =IF(OR(L8>J8,L9>J9,L10>J10,L11>J11,L12>J12,L13>J13,L14>J14,L16>J16,L18>J18,L20>J20,L22>J22,L25>J25,L26>J26),"Error: Non-biogasoline is greater than Total.","") | Q29: =IF(OR(Q8>O8,Q9>O9,Q10>O10,Q11>O11,Q12>O12,Q13>O13,Q14>O14,Q16>O16,Q18>O18,Q20>O20,Q22>O22,Q25>O25,Q26>O26),"Error: Non-biogasoline is greater than Total.","") | U29: =IF(OR(U8<>S8+T8,U9<>S9+T9,U10<>S10+T10,U11<>S11+T11,U12<>S12+T12,U13<>S13+T13,U14<>S14+T14,U16<>S16+T16,U18<>S18+T18,U20<>S20+T20,U22<>S22+T22,T24<>U24,U25<>S25+T25,U26<>S26+T26),"Error: Sum not equal Total.","") -> Error: Sum not equal Total. | X29: =IF(OR(X8<>Y8+AA8,X9<>Y9+AA9,X10<>Y10+AA10,X11<>Y11+AA11,X12<>Y12+AA12,X13<>Y13+AA13,X14<>Y14+AA14,X16<>Y16+AA16,X18<>Y18+AA18,X20<>Y20+AA20,X22<>Y22+AA22,X25<>Y25+AA25,X26<>Y26+AA26),"Error: Sum not equal Total.","") -> Error: Sum not equal Total.
K30: =IF(OR(K8>J8,K9>J9,K10>J10,K11>J11,K12>J12,K13>J13,K14>J14,K16>J16,K18>J18,K20>J20,K22>J22,K25>J25,K26>J26),"Error: Biogasoline is greater than Total.","") | P30: =IF(OR(P8>O8,P9>O9,P10>O10,P11>O11,P12>O12,P13>O13,P14>O14,P16>O16,P18>O18,P20>O20,P21>O21,P22>O22,P25>O25,P26>O26),"Error: Bjo jet kerosene is greater than Total.","") | T30: =IF(OR(T8>$U8,T9>$U9,T10>$U10,T11>$U11,T12>$U12,T13>$U13,T14>$U14,T16>$U16,T18>$U18,T20>$U20,T22>$U22,T24>$U24,T25>$U25,T26>$U26),"Error: Heating and othergas oil is greater than Total gas/diesel oil.","") | V30: =IF(OR(V8>U8,V9>U9,V10>U10,V11>U11,V12>U12,V13>U13,V14>U14,V16>U16,V18>U18,V20>U20,V22>U22,V24>U24,V25>U25,V26>U26),"Error: Biodiesels is greater than Total.","") | Y30: =IF(OR(Y8>X8,Y9>X9,Y10>X10,Y11>X11,Y12>X12,Y13>X13,Y14>X14,Y16>X16,Y18>X18,Y20>X20,Y22>X22,Y25>X25,Y26>X26),"Error: Fuel oil-low sulphur (<1%) is greater than Total.","") -> Error: Fuel oil-low sulphur (<1%) is greater than Total.
J31: =IF(OR(J8<>K8+L8,J9<>K9+L9,J10<>K10+L10,J11<>K11+L11,J12<>K12+L12,J13<>K13+L13,J14<>K14+L14,J15<>K15+L15,J16<>K16+L16,J17<>K17+L17,J18<>K18+L18,J19<>K19+L19,J20<>K20+L20,J22<>K22+L22,J25<>K25+L25,J26<>K26+L26),"Error: Sum not equal Total.","") -> Error: Sum not equal Total. | O31: =IF(OR(O8<>P8+Q8,O9<>P9+Q9,O10<>P10+Q10,O11<>P11+Q11,O12<>P12+Q12,O13<>P13+Q13,O14<>P14+Q14,O16<>P16+Q16,O18<>P18+Q18,O20<>P20+Q20,O21<>P21+Q21,O22<>P22+Q22,O25<>P25+Q25,O26<>P26+Q26),"Error: Sum not equal Total.","") -> Error: Sum not equal Total. | S31: =IF(OR(S8>$U8,S9>$U9,S10>$U10,S11>$U11,S12>$U12,S13>$U13,S14>$U14,S16>$U16,S18>$U18,S20>$U20,S22>$U22,S25>$U25,S26>$U26),"Error: Road diesel is greater than Total gas/diesel oil.","") | W31: =IF(OR(W8>U8,W9>U9,W10>U10,W11>U11,W12>U12,W13>U13,W14>U14,W16>U16,W18>U18,W20>U20,W22>U22,W24>U24,W25>U25,W26>U26),"Error: Non-bio gas/diesel oil is greater than Total.","") | AA31: =IF(OR(AA8>X8,AA9>X9,AA10>X10,AA11>X11,AA12>X12,AA13>X13,AA14>X14,AA16>X16,AA18>X18,AA20>X20,AA22>X22,AA25>X25,AA26>X26),"Error: Fuel oil-high sulphur (>=1%) is greater than Total.","") -> Error: Fuel oil-high sulphur (>=1%) is greater than Total.
A32: 1 | B32: Total of Primary product receipts (reference AA1) should correspond to Total of Direct use in Table 1 (reference G7). | H32: =ROUND(AD8-'Table 1'!J20,3) -> 0 | I32: =IF(H32=0,"OK","Total of 'Primary product receipts' not equal to total of 'Direct use' in Table 1.") -> OK
A33: 2 | B33: Imports (Balance) should correspond to Total Imports for these products in Table 3 (references G165 to AC165). | H33: =ROUND(AD12-'Table 3'!AF174,3) -> -0.28 | I33: =IF(H33=0,"OK","Imports (Balance) for Total products is not equal to Total Imports in Table 3 for Total products.") -> Imports (Balance) for Total products is not equal to Total Imports in Table 3 for Total products.
A34: 3 | B34: Exports (Balance) should correspond to Total Exports for these products in Table 4 (references F165 to AC165). | H34: =ROUND(AD13-'Table 4'!AF174,3) -> 0.196 | I34: =IF(H34=0,"OK","Exports (Balance) for Total products is not equal to Total Exports in Table 4 for Total products.") -> Exports (Balance) for Total products is not equal to Total Exports in Table 4 for Total products.
A35: 4 | B35: Total of Interproduct transfers (reference AA8) should add to 0. | H35: =ROUND(AD15,3) -> -0.012 | I35: =IF(H35=0,"OK","Interproduct transfers of Total products is not equal to 0.") -> Interproduct transfers of Total products is not equal to 0.
A36: 5 | B36: Total products of Products transferred (reference AA9) should correspond to Total of Products transferred in Table 1 (reference G4). | H36: =ROUND(AD16-'Table 1'!J17,3) -> 0.001 | I36: =IF(H36=0,"OK","Products transferred of Total products is not equal to Products transferred of Total in Table 1.") -> Products transferred of Total products is not equal to Products transferred of Total in Table 1.
A37: 6 | B37: Stock changes is Closing level minus Opening level of Stocks on national territory, Table 5 (line 2 minus line 1). | H37: =ROUND(AD17-('Table 5'!AH9-'Table 5'!AH8),3) -> 0 | I37: =IF(H37=0,"OK","Stock change for Total products is not equal to Closing stock level minus the Opening stock level on National territory in Table 5 for Total products.") -> OK
A38: 7 | B38: Memo item shouldn't be greater than the Gross inland deliveries (Observed): | I38: =IF(OR(H22+H23>H20,M21+M22>M20,N21+N22>N20,O22+O21>O20,P21+P22>P20,Q22+Q21>Q20,T22+T24>T20,U22+U24>U20,V22+V24>V20,W22+W24>W20),"Sum of Memo Items shoud not exceed Gross inland deliveries (Observed).","")
B39: - Deliveries to international aviation. | H39: =IF(OR(M21>M20,N21>N20,O21>O20,P21>P20,Q21>Q20),1,0) -> 0 | I39: =IF(H39=0,"OK","Deliveries to international aviation shoud not exceed Gross inland deliveries (Observed).") -> OK
B40: - Deliveries to main activity producer power plants. | H40: =IF(OR(D22>D20,E22>E20,F22>F20,G22>G20,H22>H20,I22>I20,J22>J20,K22>K20,L22>L20,M22>M20,N22>N20,O22>O20,P22>P20,Q22>Q20,R22>R20,S22>S20,T22>T20,U22>U20,V22>V20,W22>W20,X22>X20,Y22>Y20,AA22>AA20,AB22>AB20,AC22>AC20),1,0) -> 0 | I40: =IF(H40=0,"OK","Deliveries to Main activity producer power plants should not exceed Gross inland deliveries (Observed).") -> OK
...

Sheet Table 3
A1: MONTHLY OIL QUESTIONNAIRE
A2: =IF('Table 1'!D2=0,"",'Table 1'!D2) -> Netherlands
A3: =IF('Table 1'!D3=0,"",'Table 1'!D3 & " " & QuestYear) -> September 2026 | AT3: Datatype
A4: Table 3: IMPORTS BY ORIGIN | AG4: Unit: Thousand Metric Tons | AT4: IMPORTS
C5: Crude oil | D5: Natural gas liquids | E5: Refinery feedstocks | F5: Additives / oxygenates | G5: Other hydro-carbons | H5: Total (A to E) | I5: Ethane | J5: LPG | K5: Naphtha | L5: Total motor gasoline | O5: Aviation gasoline | P5: Gasoline type jet fuel | Q5: Total kerosene type jet fuel | T5: Other kerosene | W5: Total gas/diesel oil | Z5: Total fuel oil | AD5: Petroleum coke | AE5: Other products | AF5: Total products | AG5: Total oil | AI5: Probate
M6: Biogasoline | N6: Non-biogasoline | R6: Bio jet kerosene | S6: Non-bio jet kerosene | U6: Road diesel | V6: Heating and other gas oil | X6: Biodiesels | Y6: Non-bio gas/diesel oil | AA6: Fuel oil- low sulphur (<1%) | AB6: Of which: Fuel oil- very low sulphur (<0.5%) | AC6: Fuel oil- high sulphur (>=1%) | DS6: *** DSD codes ***
C7: A | D7: B | E7: C | F7: D | G7: E | H7: F | I7: G | J7: H | K7: I | L7: J | M7: K | N7: L | O7: M | P7: N | Q7: O | R7: P | S7: Q | T7: R | U7: S | V7: T | W7: U | X7: V | Y7: W | Z7: X | AA7: Y | AB7: Z | AC7: AA | AD7: AB | AE7: AC | AF7: AD | AG7: AE | AI7: AF | AS7: Item1 ê | DS7: REF_AREA | DT7: ENERGY_PRODUCT | DU7: MAIN_FLOW | DV7: FLOW_BREAKDOWN | DW7: PLANT_TECH | DX7: PLANT_TYPE | DY7: STOCKS | DZ7: INFRASTRUCTURE_IND | EA7: VIS_A_VIS_AREA | EB7: MEASURE_VALUE_TYPE | EC7: FACILITY_ID | ED7: UNIT_MEASURE | EE7: TIME_PERIOD
A8: Albania | B8: 1 | C8: 0 | D8: 0 | E8: 0 | F8: 0 | G8: 0 | H8: =ROUND(SUM(C8:G8),3) -> 0 | I8: 0 | J8: 0 | K8: 0 | L8: 0 | M8: 0 | N8: 0 | O8: 0 | P8: 0 | Q8: 0 | R8: 0 | S8: 0 | T8: 0 | U8: 0 | V8: 0 | W8: 0 | X8: 0 | Y8: 0 | Z8: 0 | AA8: 0 | AB8: 0 | AC8: 0 | AD8: 0 | AE8: 0 | AF8: =ROUND(SUM(I8:L8,O8:Q8,T8,W8,Z8,AD8:AE8),3) -> 0 | AG8: =ROUND(SUM(H8,AF8),3) -> 0 | AH8: =IF(ROUND(H8-SUM(C8:G8),3)=0,0,1)+IF(ROUND(AF8-SUM(I8:L8,O8:Q8,T8,W8,Z8,AD8:AE8),3)=0,0,1)+IF(ROUND(AG8-SUM(AF8,H8),3)=0,0,1) -> 0 | AI8: =IF(AH8=0," ",IF(AH8=1,"A total is not equal to the sum of its components: ",AH8&" totals are not equal to the sum of their components: "))&IF(AH8=0,"",IF(H8-SUM(C8:G8)=0,"","Total (column F). ")&IF(AF8-SUM(I8:L8,O8:Q8,T8,W8,Z8,AD8:AE8)=0,"","Total products. ")&IF(AG8-SUM(AF8,H8)=0,"","Total oil.")) | AS8: AL | AT8: ALBANIA | DS8: =VLOOKUP(CountryUser, Param!$C$9:$E$67, 3, 0) -> NL | DT8: Row 1000 | DU8: IMPORTS | DV8: _Z | DW8: _Z | DX8: _Z | DY8: _Z | DZ8: _Z | EA8: AL | EB8: WEIGHT | EC8: _Z | ED8: KT | EE8: =QuestYear&"-"&TEXT(MATCH(FirstMonth, Param!C71:C82,0), "00") -> 2026-09
A9: Algeria | B9: 2 | C9: 0 | D9: 0 | E9: 0 | F9: 0 | G9: 0 | H9: =ROUND(SUM(C9:G9),3) -> 0 | I9: 0 | J9: 24.298 | K9: 13.115 | L9: 3.702 | M9: 0 | N9: 3.702 | O9: 0 | P9: 0 | Q9: 0 | R9: 0 | S9: 0 | T9: 0 | U9: 0 | V9: 0 | W9: 0 | X9: 0 | Y9: 0 | Z9: 0 | AA9: 0 | AB9: 0 | AC9: 0 | AD9: 0 | AE9: 0 | AF9: =ROUND(SUM(I9:L9,O9:Q9,T9,W9,Z9,AD9:AE9),3) -> 41.115 | AG9: =ROUND(SUM(H9,AF9),3) -> 41.115 | AH9: =IF(ROUND(H9-SUM(C9:G9),3)=0,0,1)+IF(ROUND(AF9-SUM(I9:L9,O9:Q9,T9,W9,Z9,AD9:AE9),3)=0,0,1)+IF(ROUND(AG9-SUM(AF9,H9),3)=0,0,1) -> 0 | AI9: =IF(AH9=0," ",IF(AH9=1,"A total is not equal to the sum of its components: ",AH9&" totals are not equal to the sum of their components: "))&IF(AH9=0,"",IF(H9-SUM(C9:G9)=0,"","Total (column F). ")&IF(AF9-SUM(I9:L9,O9:Q9,T9,W9,Z9,AD9:AE9)=0,"","Total products. ")&IF(AG9-SUM(AF9,H9)=0,"","Total oil.")) | AS9: DZ | AT9: ALGERIA | DU9: IMPORTS | DV9: _Z | DW9: _Z | DX9: _Z | DY9: _Z | DZ9: _Z | EA9: DZ | EB9: WEIGHT | EC9: _Z | ED9: KT
A10: Andorra | B10: 3 | C10: 0 | D10: 0 | E10: 0 | F10: 0 | G10: 0 | H10: =ROUND(SUM(C10:G10),3) -> 0 | I10: 0 | J10: 0 | K10: 0 | L10: 0 | M10: 0 | N10: 0 | O10: 0 | P10: 0 | Q10: 0 | R10: 0 | S10: 0 | T10: 0 | U10: 0 | V10: 0 | W10: 0 | X10: 0 | Y10: 0 | Z10: 0 | AA10: 0 | AB10: 0 | AC10: 0 | AD10: 0 | AE10: 0 | AF10: =ROUND(SUM(I10:L10,O10:Q10,T10,W10,Z10,AD10:AE10),3) -> 0 | AG10: =ROUND(SUM(H10,AF10),3) -> 0 | AH10: =IF(ROUND(H10-SUM(C10:G10),3)=0,0,1)+IF(ROUND(AF10-SUM(I10:L10,O10:Q10,T10,W10,Z10,AD10:AE10),3)=0,0,1)+IF(ROUND(AG10-SUM(AF10,H10),3)=0,0,1) -> 0 | AI10: =IF(AH10=0," ",IF(AH10=1,"A total is not equal to the sum of its components: ",AH10&" totals are not equal to the sum of their components: "))&IF(AH10=0,"",IF(H10-SUM(C10:G10)=0,"","Total (column F). ")&IF(AF10-SUM(I10:L10,O10:Q10,T10,W10,Z10,AD10:AE10)=0,"","Total products. ")&IF(AG10-SUM(AF10,H10)=0,"","Total oil.")) | AS10: AD | AT10: ANDORRA | DU10: IMPORTS | DV10: _Z | DW10: _Z | DX10: _Z | DY10: _Z | DZ10: _Z | EA10: AD | EB10: WEIGHT | EC10: _Z | ED10: KT
A11: Angola | B11: 4 | C11: 113.778 | D11: 0 | E11: 0 | F11: 0 | G11: 0 | H11: =ROUND(SUM(C11:G11),3) -> 113.778 | I11: 0 | J11: 0 | K11: 5.612 | L11: 1.585 | M11: 0 | N11: 1.585 | O11: 0 | P11: 0 | Q11: 0 | R11: 0 | S11: 0 | T11: 0 | U11: 0 | V11: 0 | W11: 0 | X11: 0 | Y11: 0 | Z11: 0 | AA11: 0 | AB11: 0 | AC11: 0 | AD11: 0 | AE11: 0 | AF11: =ROUND(SUM(I11:L11,O11:Q11,T11,W11,Z11,AD11:AE11),3) -> 7.197 | AG11: =ROUND(SUM(H11,AF11),3) -> 120.975 | AH11: =IF(ROUND(H11-SUM(C11:G11),3)=0,0,1)+IF(ROUND(AF11-SUM(I11:L11,O11:Q11,T11,W11,Z11,AD11:AE11),3)=0,0,1)+IF(ROUND(AG11-SUM(AF11,H11),3)=0,0,1) -> 0 | AI11: =IF(AH11=0," ",IF(AH11=1,"A total is not equal to the sum of its components: ",AH11&" totals are not equal to the sum of their components: "))&IF(AH11=0,"",IF(H11-SUM(C11:G11)=0,"","Total (column F). ")&IF(AF11-SUM(I11:L11,O11:Q11,T11,W11,Z11,AD11:AE11)=0,"","Total products. ")&IF(AG11-SUM(AF11,H11)=0,"","Total oil.")) | AS11: AO | AT11: ANGOLA | DU11: IMPORTS | DV11: _Z | DW11: _Z | DX11: _Z | DY11: _Z | DZ11: _Z | EA11: AO | EB11: WEIGHT | EC11: _Z | ED11: KT
A12: Argentina | B12: 5 | C12: 50.46 | D12: 0 | E12: 0 | F12: 0.001 | G12: 0 | H12: =ROUND(SUM(C12:G12),3) -> 50.461 | I12: 0 | J12: 0 | K12: 0 | L12: 0 | M12: 0 | N12: 0 | O12: 0 | P12: 0 | Q12: 0 | R12: 0 | S12: 0 | T12: 0 | U12: 0 | V12: 0 | W12: 0 | X12: 0 | Y12: 0 | Z12: 0 | AA12: 0 | AB12: 0 | AC12: 0 | AD12: 0 | AE12: 0.003 | AF12: =ROUND(SUM(I12:L12,O12:Q12,T12,W12,Z12,AD12:AE12),3) -> 0.003 | AG12: =ROUND(SUM(H12,AF12),3) -> 50.464 | AH12: =IF(ROUND(H12-SUM(C12:G12),3)=0,0,1)+IF(ROUND(AF12-SUM(I12:L12,O12:Q12,T12,W12,Z12,AD12:AE12),3)=0,0,1)+IF(ROUND(AG12-SUM(AF12,H12),3)=0,0,1) -> 0 | AI12: =IF(AH12=0," ",IF(AH12=1,"A total is not equal to the sum of its components: ",AH12&" totals are not equal to the sum of their components: "))&IF(AH12=0,"",IF(H12-SUM(C12:G12)=0,"","Total (column F). ")&IF(AF12-SUM(I12:L12,O12:Q12,T12,W12,Z12,AD12:AE12)=0,"","Total products. ")&IF(AG12-SUM(AF12,H12)=0,"","Total oil.")) | AS12: AR | AT12: ARGENTINA | DU12: IMPORTS | DV12: _Z | DW12: _Z | DX12: _Z | DY12: _Z | DZ12: _Z | EA12: AR | EB12: WEIGHT | EC12: _Z | ED12: KT
A13: Armenia | B13: 6 | C13: 0 | D13: 0 | E13: 0 | F13: 0 | G13: 0 | H13: =ROUND(SUM(C13:G13),3) -> 0 | I13: 0 | J13: 0 | K13: 0 | L13: 0 | M13: 0 | N13: 0 | O13: 0 | P13: 0 | Q13: 0 | R13: 0 | S13: 0 | T13: 0 | U13: 0 | V13: 0 | W13: 0 | X13: 0 | Y13: 0 | Z13: 0 | AA13: 0 | AB13: 0 | AC13: 0 | AD13: 0 | AE13: 0 | AF13: =ROUND(SUM(I13:L13,O13:Q13,T13,W13,Z13,AD13:AE13),3) -> 0 | AG13: =ROUND(SUM(H13,AF13),3) -> 0 | AH13: =IF(ROUND(H13-SUM(C13:G13),3)=0,0,1)+IF(ROUND(AF13-SUM(I13:L13,O13:Q13,T13,W13,Z13,AD13:AE13),3)=0,0,1)+IF(ROUND(AG13-SUM(AF13,H13),3)=0,0,1) -> 0 | AI13: =IF(AH13=0," ",IF(AH13=1,"A total is not equal to the sum of its components: ",AH13&" totals are not equal to the sum of their components: "))&IF(AH13=0,"",IF(H13-SUM(C13:G13)=0,"","Total (column F). ")&IF(AF13-SUM(I13:L13,O13:Q13,T13,W13,Z13,AD13:AE13)=0,"","Total products. ")&IF(AG13-SUM(AF13,H13)=0,"","Total oil.")) | AS13: AM | AT13: ARMENIA | DU13: IMPORTS | DV13: _Z | DW13: _Z | DX13: _Z | DY13: _Z | DZ13: _Z | EA13: AM | EB13: WEIGHT | EC13: _Z | ED13: KT
A14: Aruba | B14: 7 | C14: 0 | D14: 0 | E14: 0 | F14: 0 | G14: 0 | H14: =ROUND(SUM(C14:G14),3) -> 0 | I14: 0 | J14: 0 | K14: 0 | L14: 0 | M14: 0 | N14: 0 | O14: 0 | P14: 0 | Q14: 0 | R14: 0 | S14: 0 | T14: 0 | U14: 0 | V14: 0 | W14: 0 | X14: 0 | Y14: 0 | Z14: 0 | AA14: 0 | AB14: 0 | AC14: 0 | AD14: 0 | AE14: 0 | AF14: =ROUND(SUM(I14:L14,O14:Q14,T14,W14,Z14,AD14:AE14),3) -> 0 | AG14: =ROUND(SUM(H14,AF14),3) -> 0 | AH14: =IF(ROUND(H14-SUM(C14:G14),3)=0,0,1)+IF(ROUND(AF14-SUM(I14:L14,O14:Q14,T14,W14,Z14,AD14:AE14),3)=0,0,1)+IF(ROUND(AG14-SUM(AF14,H14),3)=0,0,1) -> 0 | AI14: =IF(AH14=0," ",IF(AH14=1,"A total is not equal to the sum of its components: ",AH14&" totals are not equal to the sum of their components: "))&IF(AH14=0,"",IF(H14-SUM(C14:G14)=0,"","Total (column F). ")&IF(AF14-SUM(I14:L14,O14:Q14,T14,W14,Z14,AD14:AE14)=0,"","Total products. ")&IF(AG14-SUM(AF14,H14)=0,"","Total oil.")) | AS14: AW | AT14: ARUBA | DU14: IMPORTS | DV14: _Z | DW14: _Z | DX14: _Z | DY14: _Z | DZ14: _Z | EA14: AW | EB14: WEIGHT | EC14: _Z | ED14: KT
A15: Australia | B15: 8 | C15: 0 | D15: 0 | E15: 0 | F15: 0 | G15: 0 | H15: =ROUND(SUM(C15:G15),3) -> 0 | I15: 0 | J15: 0 | K15: 0 | L15: 0 | M15: 0 | N15: 0 | O15: 0 | P15: 0 | Q15: 0 | R15: 0 | S15: 0 | T15: 0 | U15: 0 | V15: 0 | W15: 0 | X15: 0 | Y15: 0 | Z15: 0 | AA15: 0 | AB15: 0 | AC15: 0 | AD15: 0 | AE15: 0 | AF15: =ROUND(SUM(I15:L15,O15:Q15,T15,W15,Z15,AD15:AE15),3) -> 0 | AG15: =ROUND(SUM(H15,AF15),3) -> 0 | AH15: =IF(ROUND(H15-SUM(C15:G15),3)=0,0,1)+IF(ROUND(AF15-SUM(I15:L15,O15:Q15,T15,W15,Z15,AD15:AE15),3)=0,0,1)+IF(ROUND(AG15-SUM(AF15,H15),3)=0,0,1) -> 0 | AI15: =IF(AH15=0," ",IF(AH15=1,"A total is not equal to the sum of its components: ",AH15&" totals are not equal to the sum of their components: "))&IF(AH15=0,"",IF(H15-SUM(C15:G15)=0,"","Total (column F). ")&IF(AF15-SUM(I15:L15,O15:Q15,T15,W15,Z15,AD15:AE15)=0,"","Total products. ")&IF(AG15-SUM(AF15,H15)=0,"","Total oil.")) | AS15: AU | AT15: AUSTRALI | DU15: IMPORTS | DV15: _Z | DW15: _Z | DX15: _Z | DY15: _Z | DZ15: _Z | EA15: AU | EB15: WEIGHT | EC15: _Z | ED15: KT
A16: Austria | B16: 9 | C16: 0 | D16: 0 | E16: 0 | F16: 0 | G16: 0 | H16: =ROUND(SUM(C16:G16),3) -> 0 | I16: 0 | J16: 0 | K16: 0 | L16: 0 | M16: 0 | N16: 0 | O16: 0 | P16: 0 | Q16: 0 | R16: 0 | S16: 0 | T16: 0 | U16: 0 | V16: 0 | W16: 0 | X16: 0 | Y16: 0 | Z16: 0 | AA16: 0 | AB16: 0 | AC16: 0 | AD16: 0 | AE16: 0.944 | AF16: =ROUND(SUM(I16:L16,O16:Q16,T16,W16,Z16,AD16:AE16),3) -> 0.944 | AG16: =ROUND(SUM(H16,AF16),3) -> 0.944 | AH16: =IF(ROUND(H16-SUM(C16:G16),3)=0,0,1)+IF(ROUND(AF16-SUM(I16:L16,O16:Q16,T16,W16,Z16,AD16:AE16),3)=0,0,1)+IF(ROUND(AG16-SUM(AF16,H16),3)=0,0,1) -> 0 | AI16: =IF(AH16=0," ",IF(AH16=1,"A total is not equal to the sum of its components: ",AH16&" totals are not equal to the sum of their components: "))&IF(AH16=0,"",IF(H16-SUM(C16:G16)=0,"","Total (column F). ")&IF(AF16-SUM(I16:L16,O16:Q16,T16,W16,Z16,AD16:AE16)=0,"","Total products. ")&IF(AG16-SUM(AF16,H16)=0,"","Total oil.")) | AS16: AT | AT16: AUSTRIA | DU16: IMPORTS | DV16: _Z | DW16: _Z | DX16: _Z | DY16: _Z | DZ16: _Z | EA16: AT | EB16: WEIGHT | EC16: _Z | ED16: KT
A17: Azerbaijan | B17: 10 | C17: 0 | D17: 0 | E17: 0 | F17: 0 | G17: 0 | H17: =ROUND(SUM(C17:G17),3) -> 0 | I17: 0 | J17: 0 | K17: 0 | L17: 0 | M17: 0 | N17: 0 | O17: 0 | P17: 0 | Q17: 0 | R17: 0 | S17: 0 | T17: 0 | U17: 0 | V17: 0 | W17: 0 | X17: 0 | Y17: 0 | Z17: 34.493 | AA17: 14.689 | AB17: 0 | AC17: 19.804 | AD17: 0 | AE17: 2.936 | AF17: =ROUND(SUM(I17:L17,O17:Q17,T17,W17,Z17,AD17:AE17),3) -> 37.429 | AG17: =ROUND(SUM(H17,AF17),3) -> 37.429 | AH17: =IF(ROUND(H17-SUM(C17:G17),3)=0,0,1)+IF(ROUND(AF17-SUM(I17:L17,O17:Q17,T17,W17,Z17,AD17:AE17),3)=0,0,1)+IF(ROUND(AG17-SUM(AF17,H17),3)=0,0,1) -> 0 | AI17: =IF(AH17=0," ",IF(AH17=1,"A total is not equal to the sum of its components: ",AH17&" totals are not equal to the sum of their components: "))&IF(AH17=0,"",IF(H17-SUM(C17:G17)=0,"","Total (column F). ")&IF(AF17-SUM(I17:L17,O17:Q17,T17,W17,Z17,AD17:AE17)=0,"","Total products. ")&IF(AG17-SUM(AF17,H17)=0,"","Total oil.")) | AS17: AZ | AT17: AZERBAIJAN | DU17: IMPORTS | DV17: _Z | DW17: _Z | DX17: _Z | DY17: _Z | DZ17: _Z | EA17: AZ | EB17: WEIGHT | EC17: _Z | ED17: KT
A18: Bahamas | B18: 11 | C18: 0 | D18: 0 | E18: 0 | F18: 0 | G18: 0 | H18: =ROUND(SUM(C18:G18),3) -> 0 | I18: 0 | J18: 0 | K18: 0 | L18: 0 | M18: 0 | N18: 0 | O18: 0 | P18: 0 | Q18: 0 | R18: 0 | S18: 0 | T18: 0 | U18: 0 | V18: 0 | W18: 0 | X18: 0 | Y18: 0 | Z18: 0 | AA18: 0 | AB18: 0 | AC18: 0 | AD18: 0 | AE18: 0 | AF18: =ROUND(SUM(I18:L18,O18:Q18,T18,W18,Z18,AD18:AE18),3) -> 0 | AG18: =ROUND(SUM(H18,AF18),3) -> 0 | AH18: =IF(ROUND(H18-SUM(C18:G18),3)=0,0,1)+IF(ROUND(AF18-SUM(I18:L18,O18:Q18,T18,W18,Z18,AD18:AE18),3)=0,0,1)+IF(ROUND(AG18-SUM(AF18,H18),3)=0,0,1) -> 0 | AI18: =IF(AH18=0," ",IF(AH18=1,"A total is not equal to the sum of its components: ",AH18&" totals are not equal to the sum of their components: "))&IF(AH18=0,"",IF(H18-SUM(C18:G18)=0,"","Total (column F). ")&IF(AF18-SUM(I18:L18,O18:Q18,T18,W18,Z18,AD18:AE18)=0,"","Total products. ")&IF(AG18-SUM(AF18,H18)=0,"","Total oil.")) | AS18: BS | AT18: BAHAMAS | DU18: IMPORTS | DV18: _Z | DW18: _Z | DX18: _Z | DY18: _Z | DZ18: _Z | EA18: BS | EB18: WEIGHT | EC18: _Z | ED18: KT
A19: Bahrain | B19: 12 | C19: 0 | D19: 0 | E19: 0 | F19: 0 | G19: 0 | H19: =ROUND(SUM(C19:G19),3) -> 0 | I19: 0 | J19: 0 | K19: 0 | L19: 0 | M19: 0 | N19: 0 | O19: 0 | P19: 0 | Q19: 0 | R19: 0 | S19: 0 | T19: 0 | U19: 0 | V19: 0 | W19: 0 | X19: 0 | Y19: 0 | Z19: 0 | AA19: 0 | AB19: 0 | AC19: 0 | AD19: 0 | AE19: 0 | AF19: =ROUND(SUM(I19:L19,O19:Q19,T19,W19,Z19,AD19:AE19),3) -> 0 | AG19: =ROUND(SUM(H19,AF19),3) -> 0 | AH19: =IF(ROUND(H19-SUM(C19:G19),3)=0,0,1)+IF(ROUND(AF19-SUM(I19:L19,O19:Q19,T19,W19,Z19,AD19:AE19),3)=0,0,1)+IF(ROUND(AG19-SUM(AF19,H19),3)=0,0,1) -> 0 | AI19: =IF(AH19=0," ",IF(AH19=1,"A total is not equal to the sum of its components: ",AH19&" totals are not equal to the sum of their components: "))&IF(AH19=0,"",IF(H19-SUM(C19:G19)=0,"","Total (column F). ")&IF(AF19-SUM(I19:L19,O19:Q19,T19,W19,Z19,AD19:AE19)=0,"","Total products. ")&IF(AG19-SUM(AF19,H19)=0,"","Total oil.")) | AS19: BH | AT19: BAHRAIN | DU19: IMPORTS | DV19: _Z | DW19: _Z | DX19: _Z | DY19: _Z | DZ19: _Z | EA19: BH | EB19: WEIGHT | EC19: _Z | ED19: KT
A20: Bangladesh | B20: 13 | C20: 0 | D20: 0 | E20: 0 | F20: 0 | G20: 0 | H20: =ROUND(SUM(C20:G20),3) -> 0 | I20: 0 | J20: 0 | K20: 0 | L20: 0 | M20: 0 | N20: 0 | O20: 0 | P20: 0 | Q20: 0 | R20: 0 | S20: 0 | T20: 0 | U20: 0 | V20: 0 | W20: 0 | X20: 0 | Y20: 0 | Z20: 0 | AA20: 0 | AB20: 0 | AC20: 0 | AD20: 0 | AE20: 0 | AF20: =ROUND(SUM(I20:L20,O20:Q20,T20,W20,Z20,AD20:AE20),3) -> 0 | AG20: =ROUND(SUM(H20,AF20),3) -> 0 | AH20: =IF(ROUND(H20-SUM(C20:G20),3)=0,0,1)+IF(ROUND(AF20-SUM(I20:L20,O20:Q20,T20,W20,Z20,AD20:AE20),3)=0,0,1)+IF(ROUND(AG20-SUM(AF20,H20),3)=0,0,1) -> 0 | AI20: =IF(AH20=0," ",IF(AH20=1,"A total is not equal to the sum of its components: ",AH20&" totals are not equal to the sum of their components: "))&IF(AH20=0,"",IF(H20-SUM(C20:G20)=0,"","Total (column F). ")&IF(AF20-SUM(I20:L20,O20:Q20,T20,W20,Z20,AD20:AE20)=0,"","Total products. ")&IF(AG20-SUM(AF20,H20)=0,"","Total oil.")) | AS20: BD | AT20: BANGLADESH | DU20: IMPORTS | DV20: _Z | DW20: _Z | DX20: _Z | DY20: _Z | DZ20: _Z | EA20: BD | EB20: WEIGHT | EC20: _Z | ED20: KT
... A27: Bosnia and Herzegovina | B27: 20 | C27: 0 | D27: 0 | E27: 0 | F27: 0 | G27: 0 | H27: =ROUND(SUM(C27:G27),3) -> 0 | I27: 0 | J27: 0 | K27: 0 | L27: 0 | M27: 0 | N27: 0 | O27: 0 | P27: 0 | Q27: 0 | R27: 0 | S27: 0 | T27: 0 | U27: 0 | V27: 0 | W27: 0 | X27: 0 | Y27: 0 | Z27: 0 | AA27: 0 | AB27: 0 | AC27: 0 | AD27: 0 | AE27: 0 | AF27: =ROUND(SUM(I27:L27,O27:Q27,T27,W27,Z27,AD27:AE27),3) -> 0 | AG27: =ROUND(SUM(H27,AF27),3) -> 0 | AH27: =IF(ROUND(H27-SUM(C27:G27),3)=0,0,1)+IF(ROUND(AF27-SUM(I27:L27,O27:Q27,T27,W27,Z27,AD27:AE27),3)=0,0,1)+IF(ROUND(AG27-SUM(AF27,H27),3)=0,0,1) -> 0 | AI27: =IF(AH27=0," ",IF(AH27=1,"A total is not equal to the sum of its components: ",AH27&" totals are not equal to the sum of their components: "))&IF(AH27=0,"",IF(H27-SUM(C27:G27)=0,"","Total (column F). ")&IF(AF27-SUM(I27:L27,O27:Q27,T27,W27,Z27,AD27:AE27)=0,"","Total products. ")&IF(AG27-SUM(AF27,H27)=0,"","Total oil.")) | AS27: BA | AT27: BOSNIAHERZ | DU27: IMPORTS | DV27: _Z | DW27: _Z | DX27: _Z | DY27: _Z | DZ27: _Z | EA27: BA | EB27: WEIGHT | EC27: _Z | ED27: KT
A28: Botswana | B28: 21 | C28: 0 | D28: 0 | E28: 0 | F28: 0 | G28: 0 | H28: =ROUND(SUM(C28:G28),3) -> 0 | I28: 0 | J28: 0 | K28: 0 | L28: 0 | M28: 0 | N28: 0 | O28: 0 | P28: 0 | Q28: 0 | R28: 0 | S28: 0 | T28: 0 | U28: 0 | V28: 0 | W28: 0 | X28: 0 | Y28: 0 | Z28: 0 | AA28: 0 | AB28: 0 | AC28: 0 | AD28: 0 | AE28: 0 | AF28: =ROUND(SUM(I28:L28,O28:Q28,T28,W28,Z28,AD28:AE28),3) -> 0 | AG28: =ROUND(SUM(H28,AF28),3) -> 0 | AS28: BW | AT28: BOTSWANA | DU28: IMPORTS | DV28: _Z | DW28: _Z | DX28: _Z | DY28: _Z | DZ28: _Z | EA28: BW | EB28: WEIGHT | EC28: _Z | ED28: KT
A29: Brazil | B29: 22 | C29: 538.866 | D29: 0 | E29: 0 | F29: 5.143 | G29: 0 | H29: =ROUND(SUM(C29:G29),3) -> 544.009 | I29: 0 | J29: 0 | K29: 47.45 | L29: 13.393 | M29: 0 | N29: 13.393 | O29: 0 | P29: 0 | Q29: 0 | R29: 0 | S29: 0 | T29: 0 | U29: 0 | V29: 0 | W29: 0 | X29: 0 | Y29: 0 | Z29: 20.737 | AA29: 8.831 | AB29: 0 | AC29: 11.906 | AD29: 0 | AE29: 1.436 | AF29: =ROUND(SUM(I29:L29,O29:Q29,T29,W29,Z29,AD29:AE29),3) -> 83.016 | AG29: =ROUND(SUM(H29,AF29),3) -> 627.025 | AH29: =IF(ROUND(H29-SUM(C29:G29),3)=0,0,1)+IF(ROUND(AF29-SUM(I29:L29,O29:Q29,T29,W29,Z29,AD29:AE29),3)=0,0,1)+IF(ROUND(AG29-SUM(AF29,H29),3)=0,0,1) -> 0 | AI29: =IF(AH29=0," ",IF(AH29=1,"A total is not equal to the sum of its components: ",AH29&" totals are not equal to the sum of their components: "))&IF(AH29=0,"",IF(H29-SUM(C29:G29)=0,"","Total (column F). ")&IF(AF29-SUM(I29:L29,O29:Q29,T29,W29,Z29,AD29:AE29)=0,"","Total products. ")&IF(AG29-SUM(AF29,H29)=0,"","Total oil.")) | AS29: BR | AT29: BRAZIL | DU29: IMPORTS | DV29: _Z | DW29: _Z | DX29: _Z | DY29: _Z | DZ29: _Z | EA29: BR | EB29: WEIGHT | EC29: _Z | ED29: KT
A30: British Virgin Islands | B30: 23 | C30: 0 | D30: 0 | E30: 0 | F30: 0 | G30: 0 | H30: =ROUND(SUM(C30:G30),3) -> 0 | I30: 0 | J30: 0 | K30: 0 | L30: 0 | M30: 0 | N30: 0 | O30: 0 | P30: 0 | Q30: 0 | R30: 0 | S30: 0 | T30: 0 | U30: 0 | V30: 0 | W30: 0 | X30: 0 | Y30: 0 | Z30: 0 | AA30: 0 | AB30: 0 | AC30: 0 | AD30: 0 | AE30: 0 | AF30: =ROUND(SUM(I30:L30,O30:Q30,T30,W30,Z30,AD30:AE30),3) -> 0 | AG30: =ROUND(SUM(H30,AF30),3) -> 0 | AH30: =IF(ROUND(H30-SUM(C30:G30),3)=0,0,1)+IF(ROUND(AF30-SUM(I30:L30,O30:Q30,T30,W30,Z30,AD30:AE30),3)=0,0,1)+IF(ROUND(AG30-SUM(AF30,H30),3)=0,0,1) -> 0 | AI30: =IF(AH30=0," ",IF(AH30=1,"A total is not equal to the sum of its components: ",AH30&" totals are not equal to the sum of their components: "))&IF(AH30=0,"",IF(H30-SUM(C30:G30)=0,"","Total (column F). ")&IF(AF30-SUM(I30:L30,O30:Q30,T30,W30,Z30,AD30:AE30)=0,"","Total products. ")&IF(AG30-SUM(AF30,H30)=0,"","Total oil.")) | AS30: VG | AT30: BRITVIRGIN | DU30: IMPORTS | DV30: _Z | DW30: _Z | DX30: _Z | DY30: _Z | DZ30: _Z | EA30: VG | EB30: WEIGHT | EC30: _Z | ED30: KT
A31: Brunei Darussalam | B31: 24 | C31: 0 | D31: 0 | E31: 0 | F31: 0 | G31: 0 | H31: =ROUND(SUM(C31:G31),3) -> 0 | I31: 0 | J31: 0 | K31: 0 | L31: 0 | M31: 0 | N31: 0 | O31: 0 | P31: 0 | Q31: 0 | R31: 0 | S31: 0 | T31: 0 | U31: 0 | V31: 0 | W31: 0 | X31: 0 | Y31: 0 | Z31: 0 | AA31: 0 | AB31: 0 | AC31: 0 | AD31: 0 | AE31: 0.042 | AF31: =ROUND(SUM(I31:L31,O31:Q31,T31,W31,Z31,AD31:AE31),3) -> 0.042 | AG31: =ROUND(SUM(H31,AF31),3) -> 0.042 | AH31: =IF(ROUND(H31-SUM(C31:G31),3)=0,0,1)+IF(ROUND(AF31-SUM(I31:L31,O31:Q31,T31,W31,Z31,AD31:AE31),3)=0,0,1)+IF(ROUND(AG31-SUM(AF31,H31),3)=0,0,1) -> 0 | AI31: =IF(AH31=0," ",IF(AH31=1,"A total is not equal to the sum of its components: ",AH31&" totals are not equal to the sum of their components: "))&IF(AH31=0,"",IF(H31-SUM(C31:G31)=0,"","Total (column F). ")&IF(AF31-SUM(I31:L31,O31:Q31,T31,W31,Z31,AD31:AE31)=0,"","Total products. ")&IF(AG31-SUM(AF31,H31)=0,"","Total oil.")) | AS31: BN | AT31: BRUNEI | DU31: IMPORTS | DV31: _Z | DW31: _Z | DX31: _Z | DY31: _Z | DZ31: _Z | EA31: BN | EB31: WEIGHT | EC31: _Z | ED31: KT
A32: Bulgaria | B32: 25 | C32: 0 | D32: 0 | E32: 0 | F32: 0 | G32: 0 | H32: =ROUND(SUM(C32:G32),3) -> 0 | I32: 0 | J32: 0 | K32: 0 | L32: 0 | M32: 0 | N32: 0 | O32: 0 | P32: 0 | Q32: 0 | R32: 0 | S32: 0 | T32: 0 | U32: 0 | V32: 0 | W32: 0 | X32: 0 | Y32: 0 | Z32: 10.099 | AA32: 4.301 | AB32: 0 | AC32: 5.798 | AD32: 0 | AE32: 0.685 | AF32: =ROUND(SUM(I32:L32,O32:Q32,T32,W32,Z32,AD32:AE32),3) -> 10.784 | AG32: =ROUND(SUM(H32,AF32),3) -> 10.784 | AH32: =IF(ROUND(H32-SUM(C32:G32),3)=0,0,1)+IF(ROUND(AF32-SUM(I32:L32,O32:Q32,T32,W32,Z32,AD32:AE32),3)=0,0,1)+IF(ROUND(AG32-SUM(AF32,H32),3)=0,0,1) -> 0 | AI32: =IF(AH32=0," ",IF(AH32=1,"A total is not equal to the sum of its components: ",AH32&" totals are not equal to the sum of their components: "))&IF(AH32=0,"",IF(H32-SUM(C32:G32)=0,"","Total (column F). ")&IF(AF32-SUM(I32:L32,O32:Q32,T32,W32,Z32,AD32:AE32)=0,"","Total products. ")&IF(AG32-SUM(AF32,H32)=0,"","Total oil.")) | AS32: BG | AT32: BULGARIA | DU32: IMPORTS | DV32: _Z | DW32: _Z | DX32: _Z | DY32: _Z | DZ32: _Z | EA32: BG | EB32: WEIGHT | EC32: _Z | ED32: KT
