Workbook
Name CountryCode: Param!$D$99
Name CountryIeaList: Param!$D$8:$D$67
Name CountryIndex: Param!$D$96
Name CountryIsoList: Param!$E$8:$E$67
Name CountryList: Param!$C$8:$C$67
Name CountryUser: 'Table 1'!$D$2
Name CsvCountry: Param!$D$106
Name CsvCountryName: Param!$D$108
Name CsvMonth: Param!$D$102
Name CsvMonthName: Param!$D$109
Name CsvYear: Param!$D$103
Name DataT1: 'Table 1'!$D$14:$J$25
Name DataT2: 'Table 2'!$D$8:$AD$27
Name DataT3: 'Table 3'!$C$8:$AG$174
Name DataT4: 'Table 4'!$C$8:$AG$174
Name DataT5: 'Table 5'!$D$8:$AI$43
Name DataT5b_5c_1: 'Table 5b_5c'!$D$8:$AI$25
Name DataT5b_5c_2: 'Table 5b_5c'!$D$28:$AI$37
Name DataT5b_5c_3: 'Table 5b_5c'!$D$42:$D$50
Name DataT5b_5c_4: 'Table 5b_5c'!$D$55:$AI$56
Name DataT6: 'Table 6'!$C$8:$AH$66
Name DataT6b: 'Table 6b'!$C$8:$AH$66
Name DataT7: 'Table 7'!$C$8:$AH$66
Name DataT8: 'Table 8'!$C$8:$AH$66
Name DataT8b: 'Table 8b'!$C$8:$AH$66
Name DataT8c: 'Table 8c'!$C$8:$AH$66
Name DataT9: 'Table 9'!$C$8:$AH$66
Name DataTRem: Remarks!$D$4:$D$43
Name DatatypeT1: 'Table 1'!$AS$8
Name DatatypeT2: 'Table 2'!$AT$2
Name DatatypeT3: 'Table 3'!$AT$4
Name DatatypeT4: 'Table 4'!$AT$4
Name DatatypeT5: 'Table 5'!$AT$4
Name DatatypeT5b_5c_1: 'Table 5b_5c'!$AT$2
Name DatatypeT5b_5c_2: 'Table 5b_5c'!$AT$2
Name DatatypeT5b_5c_3: 'Table 5b_5c'!$AT$2
Name DatatypeT5b_5c_4: 'Table 5b_5c'!$AT$2
Name DatatypeT6: 'Table 6'!$AT$2
Name DatatypeT6b: 'Table 6b'!$AT$2
Name DatatypeT7: 'Table 7'!$AT$2
Name DatatypeT8: 'Table 8'!$AT$2
Name DatatypeT8b: 'Table 8b'!$AT$2
Name DatatypeT8c: 'Table 8c'!$AT$2
Name DatatypeT9: 'Table 9'!$AT$2
Name DatatypeTRem: Remarks!$AI$2
Name DS: Summary!$D$8
Name EnCMember: Param!$D$101
Name EUDSDCodesT1: 'Table 1'!$DS$14:$EE$25
Name EUDSDCodesT2: 'Table 2'!$DS$8:$EE$27
Name EUDSDCodesT3: 'Table 3'!$DS$8:$EE$174
Name EUDSDCodesT4: 'Table 4'!$DS$8:$EE$174
Name EUDSDCodesT5: 'Table 5'!$DS$8:$EE$43
Name EUDSDCodesT5b_5c: 'Table 5b_5c'!$DS$8:$EE$37,'Table 5b_5c'!$DS$42:$EE$44,'Table 5b_5c'!$DS$47:$EE$50,'Table 5b_5c'!$DS$55:$EE$56
Name EUDSDCodesT6: 'Table 6'!$DS$8:$EE$64
Name EUDSDCodesT6b: 'Table 6b'!$DS$8:$EE$64
Name EUDSDCodesT7: 'Table 7'!$DS$8:$EE$64
Name EUDSDCodesT8: 'Table 8'!$DS$8:$EE$64
Name EUDSDCodesT8b: 'Table 8b'!$DS$8:$EE$64
Name EUDSDCodesT8c: 'Table 8c'!$DS$8:$EE$64
Name EUDSDCodesT9: 'Table 9'!$DS$8:$EE$64

Sheet Summary
D5: =IF('Table 1'!D2=0,"",'Table 1'!D2) -> Netherlands | G5: =IF(EXACT(CountryUser,"(select country)"),"",(IF('Table 1'!D3=0,"",'Table 1'!D3 & " " & QuestYear))) -> September 2026
DS6: *** DSD codes ***
DS7: REF_AREA | DT7: ENERGY_PRODUCT | DU7: MAIN_FLOW | DV7: FLOW_BREAKDOWN | DW7: PLANT_TECH | DX7: PLANT_TYPE | DY7: STOCKS | DZ7: INFRASTRUCTURE_IND | EA7: VIS_A_VIS_AREA | EB7: MEASURE_VALUE_TYPE | EC7: FACILITY_ID | ED7: UNIT_MEASURE | EE7: TIME_PERIOD
D8: 2026.1 | DS8: =VLOOKUP(CountryUser,Param!$C$9:$E$67,3,0) -> NL | DU8: _Z | DV8: _Z | DW8: _Z | DX8: _Z | DY8: _Z | DZ8: _Z | EA8: _Z | EB8: _Z | EC8: _Z | ED8: _Z | EE8: =QuestYear&"-"&TEXT(MATCH(FirstMonth,Param!C71:C82,0),"00") -> 2026-09
D9: All data should be entered in thousand metric tons, with 3 decimal places.
D10: Please round data before calculating the totals.
D11: All opening stock levels should equal closing stock levels of the previous month.
D12: Before sending your submission, please ensure there are no discrepancies left.
D13: A summary table of all discrepancies is shown below on this page.
D14: You can address your questions to the MOS section: | J14: mos@iea.org
D15: and to Eurostat: | J15: estat-energy-monthly@ec.europa.eu
B16: A summary of main discrepancies found in the tables:
B18: ='Table 1'!A8 -> Table 1: SUPPLY OF CRUDE OIL, NGL, REFINERY FEEDSTOCKS, ADDITIVES AND OTHER HYDROCARBONS
B19: =IF('Table 1'!H28=0,"","Total Backflows in Table 1 is not equal to Total Backflows in Table 2.")
B20: =IF('Table 1'!H29=0,"","Total Products transferred in Table 1 is not equal to Total Products transferred in Table 2.") -> Total Products transferred in Table 1 is not equal to Total Products transferred in Table 2.
B21: =IF('Table 1'!H30=0,"","Total Imports in Table 1 is not equal to Total Imports in Table 3.") -> Total Imports in Table 1 is not equal to Total Imports in Table 3.
B22: =IF('Table 1'!H31=0,"","Total Exports in Table 1 is not equal to Total Exports in Table 4.") -> Total Exports in Table 1 is not equal to Total Exports in Table 4.
B23: =IF('Table 1'!H32=0,"","Total Direct use in Table 1 is not equal to Total Primary product receipts in Table 2.")
B24: =IF('Table 1'!H33=0,"","Total Stock changes in Table 1 is not equal to Total Closing stocks minus Total Opening stocks in Table 5.")
B25: =IF('Table 1'!$H$34=0,"","Refinery losses not equal to difference between refinery intake and gross output")
B26: =IF(MIN('Table 1'!D14,'Table 1'!D18:D20,'Table 1'!D24,'Table 1'!E14,'Table 1'!E18:E20,'Table 1'!E24,'Table 1'!F16:F20,'Table 1'!F24,'Table 1'!G14:G15,'Table 1'!G18:G20,'Table 1'!G24:G24,'Table 1'!I14:I15,'Table 1'!I18:I20,'Table 1'!I24,'Table 1'!J14:J20,'Table 1'!J24:J24,'Table 1'!J22)<0,"There are some NEGATIVE numbers.","")
B27: ='Table 2'!A4 -> Table 2: SUPPLY OF FINISHED PRODUCTS
B28: =IF('Table 2'!I32="OK","",'Table 2'!I32)
B29: =IF('Table 2'!I33="OK","",'Table 2'!I33) -> Imports (Balance) for Total products is not equal to Total Imports in Table 3 for Total products.
B30: =IF('Table 2'!I34="OK","",'Table 2'!I34) -> Exports (Balance) for Total products is not equal to Total Exports in Table 4 for Total products.
B31: =IF('Table 2'!I35="OK","",'Table 2'!I35) -> Interproduct transfers of Total products is not equal to 0.
B32: =IF('Table 2'!I36="OK","",'Table 2'!I36) -> Products transferred of Total products is not equal to Products transferred of Total in Table 1.
B33: =IF('Table 2'!I37="OK","",'Table 2'!I37)
B34: =IF('Table 2'!I39="OK","",'Table 2'!I39)
B35: =IF('Table 2'!I40="OK","",'Table 2'!I40)
B36: =IF('Table 2'!I41="OK","",'Table 2'!I41)
B37: =IF('Table 2'!I42="OK","",'Table 2'!I42)
B38: =IF('Table 2'!I43="OK","",'Table 2'!I43)
B39: =IF('Table 2'!I44="OK","",'Table 2'!I44)
B40: =IF(MIN('Table 2'!D8:AD8,'Table 2'!F9:AD11,'Table 2'!G12:AD13,'Table 2'!F14:AD14,'Table 2'!F16:AD16,'Table 2'!D20:AD20,'Table 2'!D22:AD22,'Table 2'!W23:W23,'Table 2'!AD23:AD23,'Table 2'!N21:O21,'Table 2'!M21,'Table 2'!H23)<0,"There are some NEGATIVE numbers.","")
B41: =LEFT('Table 3'!A4,26) -> Table 3: IMPORTS BY ORIGIN
B42: =IF('Table 3'!H177=0,"","Total Crude oil Imports in Table 3 is not equal to Total Imports in Table 1.") -> Total Crude oil Imports in Table 3 is not equal to Total Imports in Table 1.
B43: =IF('Table 3'!H178=0,"","Total Products Imports in Table 3 is not equal to Total Imports in Table 2.") -> Total Products Imports in Table 3 is not equal to Total Imports in Table 2.
B44: =IF('Table 3'!H179=0,"","Total Imports in Table 3 is not equal to the sum of its components for Total.")
B45: =IF('Table 3'!H180=0,"","Total Imports in Table 3 is not equal to the sum of its components for Total products.")
B46: =IF('Table 3'!$H$181=0,"","Country is reporting imports to itself")
B47: =IF(MIN('Table 3'!C8:AG174)<0,"There are some NEGATIVE imports.","")
B48: =LEFT('Table 4'!A4,31) -> Table 4: EXPORTS BY DESTINATION
B49: =IF('Table 4'!H177=0,"","Exports of Total in Table 4 is not equal to the Total Exports in Table 1.") -> Exports of Total in Table 4 is not equal to the Total Exports in Table 1.
B50: =IF('Table 4'!H178=0,"","Total products Exports in Table 4 is not equal to Total Exports in Table 2.") -> Total products Exports in Table 4 is not equal to Total Exports in Table 2.
B51: =IF('Table 4'!H179=0,"","Total Exports in Table 4 is not equal to the sum of its components for Total.")
B52: =IF('Table 4'!H180=0,"","Total Exports in Table 4 is not equal to the sum of its components for Total products.")
B53: =IF('Table 4'!$H$181=0,"","Country is reporting exports to itself")
B54: =IF(MIN('Table 4'!C8:AG173)<0,"There are some NEGATIVE exports.","") -> There are some NEGATIVE exports.
B55: ='Table 5'!A4 -> Table 5: STOCK LEVELS
B56: =IF('Table 5'!I48=0,"","Closing stocks minus opening stocks on national territory for Total is not equal to Stock changes in Table 1.")
B57: =IF('Table 5'!I49=0,"","Closing stocks minus opening stocks on national territory for Total products is not equal to Stock changes in Table 2.")
B58: =IF('Table 5'!I50=0,"","Total Stocks held for other countries under official agreement for Total is not equal to total of the same type of stocks in Table 6.")
B59: =IF('Table 5'!I51=0,"","Total Stocks held for other countries under official agreement for Total products is not equal to total of the same type of stocks in Table 6.") -> Total Stocks held for other countries under official agreement for Total products is not equal to total of the same type of stocks in Table 6.
B60: =IF('Table 5'!I52=0,"","Total Other stocks with known foreign destination for Total is not equal to total of the same type of stocks in Table 7.")
B61: =IF('Table 5'!I53=0,"","Total Other stocks with known foreign destination for Total products is not equal to total of the same type of stocks in Table 7.")
B62: =IF('Table 5'!I54=0,"","Total Stocks held abroad under official agreement for Total is not equal to total of the same type of stocks in Table 8.")
B63: =IF('Table 5'!I55=0,"","Total Stocks held abroad under official agreement for Total products is not equal to total of the same type of stocks in Table 8.")
B64: =IF('Table 5'!I56=0,"","Total Stocks held abroad designated definitely for import into your country for Total is not equal to total of the same type of stocks in Table 9.")
B65: =IF('Table 5'!I57=0,"","Total Stocks held abroad designated definitely for import into your country for Total products is not equal to total of the same type of stocks in Table 9.")
B66: =IF(MIN('Table 5'!D8:AF43)<0,"There are some NEGATIVE numbers.","")
D1000: _Z

Sheet Table 1
A1: MONTHLY OIL QUESTIONNAIRE | F1: Brexit date | G1: 43861 | J1: 2007.2 | M1: Final
A2: 2012 | B2: Country | D2: Netherlands | F2: reference date | G2: =DATE(QuestYear,MATCH(FirstMonth,MonthList,0),2) -> 46267 | L2: Provisional | M2: Provisional
B3: Month of data | D3: September | E3: 2026 | F3: After Brexit? | G3: =IF(G2>G1,1,2) -> 1
B4: Status of data (final/provisional) | D4: Final | F4: (1=yes, 2= no)
B5: Prepared by
B6: Date of transmission | DS6: *** DSD codes ***
AS7: Datatype | DS7: REF_AREA | DT7: ENERGY_PRODUCT | DU7: MAIN_FLOW | DV7: FLOW_BREAKDOWN | DW7: PLANT_TECH | DX7: PLANT_TYPE | DY7: STOCKS | DZ7: INFRASTRUCTURE_IND | EA7: VIS_A_VIS_AREA | EB7: MEASURE_VALUE_TYPE | EC7: FACILITY_ID | ED7: UNIT_MEASURE | EE7: TIME_PERIOD
A8: Table 1: SUPPLY OF CRUDE OIL, NGL, REFINERY FEEDSTOCKS, ADDITIVES AND OTHER HYDROCARBONS | AS8: BALANCE | DS8: =VLOOKUP(CountryUser, Param!$C$9:$E$67, 3, 0) -> NL | EE8: =QuestYear&"-"&TEXT(MATCH(FirstMonth, Param!C71:C82,0), "00") -> 2026-09
J10: Unit: Thousand metric tons
D11: Crude oil | E11: Natural gas liquids | F11: Refinery feedstocks | G11: Additives / oxygenates | I11: Other hydrocarbons | J11: Total (A to F, excl. E) | L11: Probate
H12: Of which Biofuels
D13: A | E13: B | F13: C | G13: D | H13: E | I13: F | J13: G | L13: H | AS13: Item1 ê
A14: + | B14: Indigenous production | C14: 1 | D14: 27.846 | E14: 6.211 | G14: 17.899 | I14: 0 | J14: =ROUND(D14+E14+G14+I14,3) -> 51.956 | L14: =IF(ROUND(J14-SUM(D14:E14,G14,I14),3)=0,"","Total is not equal to the sum of each product") | AS14: INDPROD | DT14: Row 1000 | DU14: PRODUCT | DV14: INDPROD | DW14: _Z | DX14: _Z | DY14: _Z | DZ14: _Z | EA14: _Z | EB14: WEIGHT | EC14: _Z | ED14: KT
A15: + | B15: Receipts from other sources | C15: 2 | G15: 140.14 | H15: 140.14 | I15: 0 | J15: =ROUND(SUM(G15,I15),3) -> 140.14 | L15: =IF(ROUND(J15-SUM(G15,I15),3)=0,"","Total is not equal to the sum of each product") | AS15: OSOURCES | DU15: PRODUCT | DV15: OSOURCES | DW15: _Z | DX15: _Z | DY15: _Z | DZ15: _Z | EA15: _Z | EB15: WEIGHT | EC15: _Z | ED15: KT
A16: + | B16: Backflows1 | C16: 3 | F16: 242.67 | J16: =ROUND(F16,3) -> 242.67 | L16: =IF(ROUND(J16-SUM(F16,),3)=0,"","Total is not equal to the sum of each product") | AS16: BACKFLOW | DU16: SUPPLY | DV16: BACKFLOW | DW16: _Z | DX16: _Z | DY16: _Z | DZ16: _Z | EA16: _Z | EB16: WEIGHT | EC16: _Z | ED16: KT
A17: + | B17: Products transferred2 | C17: 4 | D17: 0 | F17: 271.421 | J17: =ROUND(D17+F17,3) -> 271.421 | L17: =IF(ROUND(J17-SUM(D17,F17,),3)=0,"","Total is not equal to the sum of each product") | AS17: PTRANSF | DU17: TRANSFER | DV17: PTRANSF | DW17: _Z | DX17: _Z | DY17: _Z | DZ17: _Z | EA17: _Z | EB17: WEIGHT | EC17: _Z | ED17: KT
A18: + | B18: Imports (Balance)3 | C18: 5 | D18: 4422.602 | E18: 686.362 | F18: 0 | G18: 204.591 | I18: 0 | J18: =ROUND(SUM(D18:G18,I18),3) -> 5313.555 | L18: =IF(ROUND(J18-SUM(D18:G18,I18),3)=0,"","Total is not equal to the sum of each product") | AS18: TOTIMPSB | DU18: IMPORTS | DV18: TOTIMPSB | DW18: _Z | DX18: _Z | DY18: _Z | DZ18: _Z | EA18: _Z | EB18: WEIGHT | EC18: _Z | ED18: KT
A19: - | B19: Exports (Balance)4 | C19: 6 | D19: 29.035 | E19: 10.33 | F19: 0 | G19: 139.797 | I19: 0 | J19: =ROUND(SUM(D19:G19,I19),3) -> 179.162 | L19: =IF(ROUND(J19-SUM(D19:G19,I19),3)=0,"","Total is not equal to the sum of each product") | AS19: TOTEXPSB | DU19: EXPORTS | DV19: TOTEXPSB | DW19: _Z | DX19: _Z | DY19: _Z | DZ19: _Z | EA19: _Z | EB19: WEIGHT | EC19: _Z | ED19: KT
A20: - | B20: Direct use5 | C20: 7 | D20: 85.716 | E20: 205.369 | F20: 242.67 | G20: 219.717 | H20: 128.242 | I20: 0 | J20: =ROUND(SUM(D20:G20,I20),3) -> 753.472 | L20: =IF(ROUND(J20-SUM(D20:G20,I20),3)=0,"","Total is not equal to the sum of each product") | AS20: DIRECUSE | DU20: TRANSFER | DV20: DIRECUSE | DW20: _Z | DX20: _Z | DY20: _Z | DZ20: _Z | EA20: _Z | EB20: WEIGHT | EC20: _Z | ED20: KT
A21: - | B21: Stock changes6 | C21: 8 | D21: 164.654 | E21: -113.411 | F21: 0 | G21: 2.622 | H21: 11.898 | I21: 0 | J21: =ROUND(SUM(D21:G21,I21),3) -> 53.865 | L21: =IF(ROUND(J21-SUM(D21:G21,I21),3)=0,"","Total is not equal to the sum of each product") | AS21: STCHANAT | DU21: STOCKS | DV21: STOCKCH | DW21: _Z | DX21: _Z | DY21: NATTER | DZ21: _Z | EA21: _Z | EB21: WEIGHT | EC21: _Z | ED21: KT
A22: = | B22: Refinery intake (Calculated) | C22: 9 | D22: =ROUND(D14+D17+D18-+D19-D20-D21,3) -> 4171.043 | E22: =ROUND(E14+E18-E19-E20-E21,3) -> 590.285 | F22: =ROUND(F16+F17+F18-F19-F20-F21,3) -> 271.421 | G22: =ROUND(G14+G15+G18-G19-G20-G21,3) -> 0.494 | H22: =ROUND(H15-H20-H21,3) -> 0 | I22: =ROUND(I14+I15+I18-I19-I20-I21,3) -> 0 | J22: =ROUND(SUM(D22:G22,I22),3) -> 5033.243 | L22: =IF(ROUND(J22-SUM(D22:G22,I22),3)=0,"","Total is not equal to the sum of each product") | AS22: REFINCAL | DU22: SUPPLY | DV22: REFINCAL | DW22: _Z | DX22: _Z | DY22: _Z | DZ22: _Z | EA22: _Z | EB22: WEIGHT | EC22: _Z | ED22: KT
A23: - | B23: Statistical difference | C23: 10 | D23: =ROUND(D22-D24,3) -> -16.818 | E23: =ROUND(E22-E24,3) -> 32.532 | F23: =ROUND(F22-F24,3) -> 0 | G23: =ROUND(G22-G24,3) -> 0.292 | H23: =ROUND(H22-H24,3) -> 0 | I23: =ROUND(I22-I24,3) -> 0 | J23: =ROUND(SUM(D23:G23,I23),3) -> 16.006 | L23: =IF(ROUND(J23-SUM(D23:G23,I23),3)=0,"","Total is not equal to the sum of each product") | AS23: STATDIFF | DU23: STATDIFF | DV23: REFINCAL | DW23: _Z | DX23: _Z | DY23: _Z | DZ23: _Z | EA23: _Z | EB23: WEIGHT | EC23: _Z | ED23: KT
A24: = | B24: Refinery intake (Observed) | C24: 11 | D24: 4187.861 | E24: 557.753 | F24: 271.421 | G24: 0.202 | H24: 0 | I24: 0 | J24: =ROUND(SUM(D24:G24,I24),3) -> 5017.237 | L24: =IF(ROUND(J24-SUM(D24:G24,I24),3)=0,"","Total is not equal to the sum of each product") | AS24: REFINOBS | DU24: DEMAND | DV24: REFINOBS | DW24: _Z | DX24: _Z | DY24: _Z | DZ24: _Z | EA24: _Z | EB24: WEIGHT | EC24: _Z | ED24: KT
B25: Memo Item: Refinery losses | C25: 12 | D25: 52.021 | E25: 0 | F25: 0 | G25: 0 | H25: 0 | I25: 0 | J25: =ROUND(SUM(D25:G25,I25),3) -> 52.021 | L25: =IF(ROUND(J25-SUM(D25:G25,I25),3)=0,"","Total is not equal to the sum of each product") | AS25: REFLOSS | DU25: LOSSES | DV25: REFLOSS | DW25: _Z | DX25: _Z | DY25: _Z | DZ25: _Z | EA25: _Z | EB25: WEIGHT | EC25: _Z | ED25: KT
D26: =IF(MIN(D14,D18:D20,D24)<0,"Negative number","") | E26: =IF(MIN(E14,E18:E20,E24)<0,"Negative number","") | F26: =IF(MIN(F16:F20,F24)<0,"Negative number","") | G26: =IF(MIN(G14:G15,G18:G20,G24:G24)<0,"Negative number","") | H26: =IF(MIN(H14:H15,H18:H20,H24:H24)<0,"Negative number","") | I26: =IF(MIN(I14:I15,I18:I20,I24)<0,"Negative number","") | J26: =IF(MIN(J14:J20,J24)<0,"Negative number","")
H27: =IF(OR(H14>G14,H15>G15,H18>G18,H19>G19,H20>G20,H24>G24,H25>G25),"Error: Of which Biofuels greater than Additives / Oxygenates","")
A28: 1 | B28: Total of Backflows (reference G3) should correspond to Total products of Backflows to refineries in Table 2 (reference AA19). | H28: =ROUND(J16-'Table 2'!AD26,3) -> 0 | I28: =IF(H28=0,"OK","Total of Backflows not equal to Backflows to refineries of Total products in Table 2") -> OK
A29: 2 | B29: Total of Products transferred (reference G4) should correspond to Total products of Products transferred in Table 2 (reference AA9). | H29: =ROUND(J17-'Table 2'!AD16,3) -> -0.001 | I29: =IF(H29=0,"OK","Total of Products transferred not equal to Total products of Products transferred in Table 2") -> Total of Products transferred not equal to Total products of Products transferred in Table 2
A30: 3 | B30: Imports (Balance) should correspond to Total imports for these products in Table 3 (references A165 to F165). | H30: =ROUND(J18-'Table 3'!H174,3) -> -0.004 | I30: =IF(H30=0,"OK","Total Imports (Balance) do not equal Total Imports in Table 3") -> Total Imports (Balance) do not equal Total Imports in Table 3
A31: 4 | B31: Exports (Balance) should correspond to Total exports for these products in Table 4 (references A165 to F165). | H31: =ROUND(J19-'Table 4'!H174,3) -> 0.001 | I31: =IF(H31=0,"OK","Total Exports do not equal Total Exports in Table 4") -> Total Exports do not equal Total Exports in Table 4
A32: 5 | B32: Direct use should be carried over to Primary product receipts in Table 2 (line 1). | H32: =ROUND(J20-'Table 2'!AD8,3) -> 0 | I32: =IF(H32=0,"OK","Total Direct use figure does not equal Total products of Primary product receipts in Table 2") -> OK
A33: 6 | B33: Stock changes should correspond to Closing level minus Opening level of Stocks on national territory, Table 5 (line 2 minus line 1). | H33: =ROUND(J21-('Table 5'!J9-'Table 5'!J8),3) -> 0 | I33: =IF(H33=0,"OK","Stock changes not equal to Closing minus Opening levels on National territory, Table 5") -> OK
A34: 7 | B34: Refinery Losses CRNGFEED = Refinery intake (observed) CRNGFEED of Table 1- Refinery Gross Output Total products of Table 2 | H34: =ROUND(J25-(J24-'Table 2'!AD9),3) -> 0 | I34: =IF(H34=0,"OK","Refinery losses not equal to difference between refinery intake and gross output") -> OK
B130: Products è | D130: CRUDEOIL | E130: NGL | F130: REFFEEDS | G130: ADDITIVE | H130: BIOFUELS | I130: NONCRUDE | J130: CRNGFEED
B1000: ENERGY_PRODUCT | D1000: O4100 | E1000: O4200 | F1000: O4300 | G1000: O4400 | H1000: O4410 | I1000: O4500 | J1000: O4A00

Sheet Table 2
A1: MONTHLY OIL QUESTIONNAIRE | AT1: Datatype
A2: =IF('Table 1'!D2=0,"",'Table 1'!D2) -> Netherlands | AT2: BALANCE
A3: =IF('Table 1'!D3=0,"",'Table 1'!D3 & " " & QuestYear) -> September 2026
A4: Table 2: SUPPLY OF FINISHED PRODUCTS | AD4: Unit: Thousand metric tons
D5: Crude oil | E5: Natural gas liquids | F5: Refinery gas | G5: Ethane | H5: LPG | I5: Naphtha | J5: Total motor gasoline | M5: Aviation gasoline | N5: Gasoline type jet fuel | O5: Total kerosene type jet fuel | R5: Other kerosene | U5: Total gas/diesel oil | X5: Total fuel oil | AB5: Petroleum coke | AC5: Other products | AD5: Total products | AF5: Probate
K6: Biogasoline | L6: Non-biogasoline | P6: Bio jet kerosene | Q6: Non-bio jet kerosene | S6: Road diesel | T6: Heating and other gas oil | V6: Biodiesels | W6: Non-bio gas/diesel oil | Y6: Fuel oil- low sulphur (<1%) | Z6: Of which: Fuel oil- very low sulphur (<0.5%) | AA6: Fuel oil- high sulphur (>=1%) | DS6: *** DSD codes ***
D7: A | E7: B | F7: C | G7: D | H7: E | I7: F | J7: G | K7: H | L7: I | M7: J | N7: K | O7: L | P7: M | Q7: N | R7: O | S7: P | T7: Q | U7: R | V7: S | W7: T | X7: U | Y7: V | Z7: W | AA7: X | AB7: Y | AC7: Z | AD7: AA | AF7: AB | AT7: Item1 ê | DS7: REF_AREA | DT7: ENERGY_PRODUCT | DU7: MAIN_FLOW | DV7: FLOW_BREAKDOWN | DW7: PLANT_TECH | DX7: PLANT_TYPE | DY7: STOCKS | DZ7: INFRASTRUCTURE_IND | EA7: VIS_A_VIS_AREA | EB7: MEASURE_VALUE_TYPE | EC7: FACILITY_ID | ED7: UNIT_MEASURE | EE7: TIME_PERIOD
A8: + | B8: Primary product receipts1 | C8: 1 | D8: 85.716 | E8: 205.369 | F8: 179.878 | G8: 0 | H8: 0 | I8: 21.535 | J8: 136.723 | K8: 47.557 | L8: 89.165 | M8: 0 | N8: 0 | O8: 0 | P8: 0 | Q8: 0 | R8: 0 | S8: 56.987 | T8: 28.618 | U8: 85.605 | V8: 80.685 | W8: 4.921 | X8: 0 | Y8: 0 | Z8: 0 | AA8: 0 | AB8: 0 | AC8: 38.646 | AD8: =ROUND(SUM(D8:J8,M8:O8,R8,U8,X8,AB8:AC8),3) -> 753.472 | AF8: =IF(ROUND(AD8-SUM(D8:J8,M8:O8,R8,U8,X8,AB8:AC8),3)=0,"","Total products is not equal to the sum of products") | AT8: PPRECPTS | DS8: =VLOOKUP(CountryUser, Param!$C$9:$E$67, 3, 0) -> NL | DT8: Row 1000 | DU8: SUPPLY | DV8: PPRECPTS | DW8: _Z | DX8: _Z | DY8: _Z | DZ8: _Z | EA8: _Z | EB8: WEIGHT | EC8: _Z | ED8: KT | EE8: =QuestYear&"-"&TEXT(MATCH(FirstMonth, Param!C71:C82,0), "00") -> 2026-09
A9: + | B9: Refinery gross output | C9: 2 | F9: 184.85 | G9: 0 | H9: 68.274 | I9: 860.233 | J9: 397.53 | K9: 0 | L9: 397.53 | M9: 9.194 | N9: 0 | O9: 505.115 | P9: 0 | Q9: 505.115 | R9: 122.315 | S9: 1486.198 | T9: 172.792 | U9: 1658.99 | V9: 0 | W9: 1658.99 | X9: 878.164 | Y9: 595.443 | Z9: 0 | AA9: 282.721 | AB9: 33.458 | AC9: 247.093 | AD9: =ROUND(SUM(F9:J9,M9:O9,R9,U9,X9,AB9:AC9),3) -> 4965.216 | AF9: =IF(ROUND(AD9-SUM(F9:J9,M9:O9,R9,U9,X9,AB9:AC9),3)=0,"","Total products is not equal to the sum of products") | AT9: REFGROUT | DU9: PRODUCT | DV9: REFGROUT | DW9: _Z | DX9: _Z | DY9: _Z | DZ9: _Z | EA9: _Z | EB9: WEIGHT | EC9: _Z | ED9: KT
A10: + | B10: Recycled products | C10: 3 | F10: 10.786 | G10: 0 | H10: 0 | I10: 0 | J10: 0 | K10: 0 | L10: 0 | M10: 0 | N10: 0 | O10: 0 | P10: 0 | Q10: 0 | R10: 0 | S10: 0 | T10: 0 | U10: 0 | V10: 0 | W10: 0 | X10: 0 | Y10: 0 | Z10: 0 | AA10: 0 | AB10: 0 | AC10: 0 | AD10: =ROUND(SUM(F10:J10,M10:O10,R10,U10,X10,AB10:AC10),3) -> 10.786 | AF10: =IF(ROUND(AD10-SUM(F10:J10,M10:O10,R10,U10,X10,AB10:AC10),3)=0,"","Total products is not equal to the sum of products") | AT10: RECYCLED | DU10: SUPPLY | DV10: RECYCLED | DW10: _Z | DX10: _Z | DY10: _Z | DZ10: _Z | EA10: _Z | EB10: WEIGHT | EC10: _Z | ED10: KT
A11: - | B11: Refinery fuel | C11: 4 | F11: 179.652 | G11: 0 | H11: 4.389 | I11: 0 | J11: 0 | K11: 0 | L11: 0 | M11: 0 | N11: 0 | O11: 0 | P11: 0 | Q11: 0 | R11: 0 | S11: 0 | T11: 0 | U11: 0 | V11: 0 | W11: 0 | X11: 0 | Y11: 0 | Z11: 0 | AA11: 0 | AB11: 26.093 | AC11: 0.002 | AD11: =ROUND(SUM(F11:J11,M11:O11,R11,U11,X11,AB11:AC11),3) -> 210.136 | AF11: =IF(ROUND(AD11-SUM(F11:J11,M11:O11,R11,U11,X11,AB11:AC11),3)=0,"","Total products is not equal to the sum of products") | AT11: REFFUEL | DU11: ENERGUSE | DV11: REFFUEL | DW11: _Z | DX11: _Z | DY11: _Z | DZ11: _Z | EA11: _Z | EB11: WEIGHT | EC11: _Z | ED11: KT
A12: + | B12: Imports (Balance)2 | C12: 5 | G12: 0 | H12: 408.97 | I12: 1913.84 | J12: 540.212 | K12: 0 | L12: 540.212 | M12: 0 | N12: 0 | O12: 618.09 | P12: 0 | Q12: 592.552 | R12: 65.435 | S12: 561.737 | T12: 658.887 | U12: 1220.624 | V12: 0 | W12: 1220.624 | X12: 2185.815 | Y12: 930.869 | Z12: 0 | AA12: 1254.946 | AB12: 151.193 | AC12: 590.196 | AD12: =ROUND(SUM(G12:J12,M12:O12,R12,U12,X12,AB12:AC12),3) -> 7694.375 | AF12: =IF(ROUND(AD12-SUM(G12:J12,M12:O12,R12,U12,X12,AB12:AC12),3)=0,"","Total products is not equal to the sum of products") | AT12: TOTIMPSB | DU12: IMPORTS | DV12: TOTIMPSB | DW12: _Z | DX12: _Z | DY12: _Z | DZ12: _Z | EA12: _Z | EB12: WEIGHT | EC12: _Z | ED12: KT
A13: - | B13: Exports (Balance)3 | C13: 6 | G13: 0 | H13: 134.665 | I13: 1237.39 | J13: 1916.642 | K13: 0 | L13: 1916.642 | M13: 9.473 | N13: 0 | O13: 899.7 | P13: 0 | Q13: 899.7 | R13: 78.974 | S13: 1647.19 | T13: 547.758 | U13: 2194.948 | V13: 1.414 | W13: 2193.535 | X13: 1895.167 | Y13: 1213.689 | Z13: 0 | AA13: 681.478 | AB13: 114.691 | AC13: 678.853 | AD13: =ROUND(SUM(G13:J13,M13:O13,R13,U13,X13,AB13:AC13),3) -> 9160.503 | AF13: =IF(ROUND(AD13-SUM(G13:J13,M13:O13,R13,U13,X13,AB13:AC13),3)=0,"","Total products is not equal to the sum of products") | AT13: TOTEXPSB | DU13: EXPORTS | DV13: TOTEXPSB | DW13: _Z | DX13: _Z | DY13: _Z | DZ13: _Z | EA13: _Z | EB13: WEIGHT | EC13: _Z | ED13: KT
A14: - | B14: International marine bunkers | C14: 7 | F14: 0 | G14: 0 | H14: 0 | I14: 0 | J14: 0 | K14: 0 | L14: 0 | M14: 0 | N14: 0 | O14: 0 | P14: 0 | Q14: 0 | R14: 0 | S14: 0 | T14: 174.259 | U14: 174.259 | V14: 23.131 | W14: 151.128 | X14: 755.291 | Y14: 430.327 | Z14: 0 | AA14: 324.963 | AB14: 0 | AC14: 0 | AD14: =ROUND(SUM(F14:J14,M14:O14,R14,U14,X14,AB14:AC14),3) -> 929.55 | AF14: =IF(ROUND(AD14-SUM(F14:J14,M14:O14,R14,U14,X14,AB14:AC14),3)=0,"","Total products is not equal to the sum of products") | AT14: BUNKERS | DU14: MARBUNK | DV14: _Z | DW14: _Z | DX14: _Z | DY14: _Z | DZ14: _Z | EA14: _Z | EB14: WEIGHT | EC14: _Z | ED14: KT
A15: + | B15: Interproduct transfers4 | C15: 8 | D15: -85.714 | E15: -71.294 | F15: 0 | G15: 0 | H15: -24.398 | I15: -941.773 | J15: 1152.044 | K15: 0 | L15: 1152.044 | M15: 0 | N15: 0 | O15: 142.736 | P15: 0 | Q15: 142.736 | R15: -93.827 | S15: -48.455 | T15: 20.339 | U15: -28.116 | V15: 0 | W15: -28.116 | X15: 53.887 | Y15: 214.538 | Z15: 0 | AA15: -160.651 | AB15: 0 | AC15: -103.557 | AD15: =ROUND(SUM(D15:J15,M15:O15,R15,U15,X15,AB15:AC15),3) -> -0.012 | AF15: =IF(ROUND(AD15-SUM(D15:J15,M15:O15,R15,U15,X15,AB15:AC15),3)=0,"","Total products is not equal to the sum of products") | AT15: IPTRANSF | DU15: TRANSFER | DV15: IPTRANSF | DW15: _Z | DX15: _Z | DY15: _Z | DZ15: _Z | EA15: _Z | EB15: WEIGHT | EC15: _Z | ED15: KT
A16: - | B16: Products transferred5 | C16: 9 | F16: 0 | G16: 0 | H16: 0 | I16: 0 | J16: 0 | K16: 0 | L16: 0 | M16: 0 | N16: 0 | O16: 7.222 | P16: 0 | Q16: 7.222 | R16: 0.963 | S16: 0 | T16: 19.764 | U16: 19.764 | V16: 0 | W16: 19.764 | X16: 229.933 | Y16: 0 | Z16: 0 | AA16: 229.933 | AB16: 0 | AC16: 13.54 | AD16: =ROUND(SUM(F16:J16,M16:O16,R16,U16,X16,AB16:AC16),3) -> 271.422 | AF16: =IF(ROUND(AD16-SUM(F16:J16,M16:O16,R16,U16,X16,AB16:AC16),3)=0,"","Total products is not equal to the sum of products") | AT16: PTRANSF | DU16: TRANSFER | DV16: PTRANSF | DW16: _Z | DX16: _Z | DY16: _Z | DZ16: _Z | EA16: _Z | EB16: WEIGHT | EC16: _Z | ED16: KT
A17: - | B17: Stock changes6 | C17: 10 | G17: 0 | H17: -0.201 | I17: -35.287 | J17: -42.371 | K17: 0 | L17: -42.371 | M17: -0.004 | N17: 0 | O17: 32.484 | P17: 0 | Q17: 32.484 | R17: 8.046 | S17: 8.49 | T17: 113.407 | U17: 121.897 | V17: 0 | W17: 121.897 | X17: 237.476 | Y17: 96.834 | Z17: 0 | AA17: 140.642 | AB17: 8.716 | AC17: 0.108 | AD17: =ROUND(SUM(G17:J17,M17:O17,R17,U17,X17,AB17:AC17),3) -> 330.864 | AF17: =IF(ROUND(AD17-SUM(G17:J17,M17:O17,R17,U17,X17,AB17:AC17),3)=0,"","Total products is not equal to the sum of products") | AT17: STCHANAT | DU17: STOCKS | DV17: STOCKCH | DW17: _Z | DX17: _Z | DY17: NATTER | DZ17: _Z | EA17: _Z | EB17: WEIGHT | EC17: _Z | ED17: KT
A18: = | B18: Gross inland deliveries (Calculated) | C18: 11 | D18: =ROUND(D8+D15,3) -> 0.002 | E18: =ROUND(E8+E15,3) -> 134.075 | F18: =ROUND(F8+F9+F10-F11-F14+F15-F16,3) -> 195.862 | G18: =ROUND(G8+G9+G10-G11+G12-G13-G14+G15-G16-G17,3) -> 0 | H18: =ROUND(H8+H9+H10-H11+H12-H13-H14+H15-H16-H17,3) -> 313.993 | I18: =ROUND(I8+I9+I10-I11+I12-I13-I14+I15-I16-I17,3) -> 651.732 | J18: =ROUND(J8+J9+J10-J11+J12-J13-J14+J15-J16-J17,3) -> 352.238 | K18: =ROUND(K8+K9+K10-K11+K12-K13-K14+K15-K16-K17,3) -> 47.557 | L18: =ROUND(L8+L9+L10-L11+L12-L13-L14+L15-L16-L17,3) -> 304.68 | M18: =ROUND(M8+M9+M10-M11+M12-M13-M14+M15-M16-M17,3) -> -0.275 | N18: =ROUND(N8+N9+N10-N11+N12-N13-N14+N15-N16-N17,3) -> 0 | ... AC18: =ROUND(AC8+AC9+AC10-AC11+AC12-AC13-AC14+AC15-AC16-AC17,3) -> 79.875 | AD18: =ROUND(SUM(D18:J18,M18:O18,R18,U18,X18,AB18:AC18),3) -> 2521.362 | AF18: =IF(ROUND(AD18-SUM(D18:J18,M18:O18,R18,U18,X18,AB18:AC18),3)=0,"","Total products is not equal to the sum of products") | AT18: GDINCTRC | DU18: SUPPLY | DV18: INLDEMC | DW18: _Z | DX18: _Z | DY18: _Z | DZ18: _Z | EA18: _Z | EB18: WEIGHT | EC18: _Z | ED18: KT
A19: - | B19: Statistical difference | C19: 12 | D19: =ROUND(D18-D20,3) -> 0.002 | E19: =ROUND(E18-E20,3) -> 0.001 | F19: =ROUND(F18-F20,3) -> -0.049 | G19: =ROUND(G18-G20,3) -> 0 | H19: =ROUND(H18-H20,3) -> 0.057 | I19: =ROUND(I18-I20,3) -> -0.013 | J19: =ROUND(J18-J20,3) -> 0 | K19: =ROUND(K18-K20,3) -> 0 | ... AC19: =ROUND(AC18-AC20,3) -> -5.997 | AD19: =ROUND(SUM(D19:J19,M19:O19,R19,U19,X19,AB19:AC19),3) -> -6.271 | AF19: =IF(ROUND(AD19-SUM(D19:J19,M19:O19,R19,U19,X19,AB19:AC19),3)=0,"","Total products is not equal to the sum of products") | AT19: STATDIFF | DU19: STATDIFF | DV19: _Z | DW19: _Z | DX19: _Z | DY19: _Z | DZ19: _Z | EA19: _Z | EB19: WEIGHT | EC19: _Z | ED19: KT
A20: = | B20: Gross inland deliveries (Observed) | C20: 13 | D20: 0 | E20: 134.074 | F20: 195.911 | G20: 0 | H20: 313.936 | I20: 651.745 | J20: 352.238 | K20: 47.557 | L20: 304.68 | M20: 0.015 | N20: 0 | O20: 326.535 | P20: 0 | Q20: 300.997 | R20: 5.948 | S20: 400.76 | T20: 25.448 | U20: 426.208 | V20: 56.14 | W20: 370.068 | X20: 0 | Y20: 0 | Z20: 0 | AA20: 0 | AB20: 35.151 | AC20: 85.872 | AD20: =ROUND(SUM(D20:J20,M20:O20,R20,U20,X20,AB20:AC20),3) -> 2527.633 | AF20: =IF(ROUND(AD20-SUM(D20:J20,M20:O20,R20,U20,X20,AB20:AC20),3)=0,"","Total products is not equal to the sum of products") | AT20: GDINCTRO | DU20: DEMAND | DV20: INLDEMO | DW20: _Z | DX20: _Z | DY20: _Z | DZ20: _Z | EA20: _Z | EB20: WEIGHT | EC20: _Z | ED20: KT
B21: Memo Items:7 Deliveries to international aviation | C21: 14 | M21: 0 | N21: 0 | O21: 318.353 | P21: 0 | Q21: 292.815 | AD21: =ROUND(SUM(M21:O21),3) -> 318.353 | AF21: =IF(ROUND(AD21-SUM(M21:O21),3)=0,"","There is an error in this line") | AT21: INTLCIAV | DU21: ENERGUSE | DV21: INTLAIR | DW21: _Z | DX21: _Z | DY21: _Z | DZ21: _Z | EA21: _Z | EB21: WEIGHT | EC21: _Z | ED21: KT
B22: Deliveries to main activity producer power plants | C22: 15 | D22: 0 | E22: 0 | F22: 0 | G22: 0 | H22: 0 | I22: 0 | J22: 0 | K22: 0 | L22: 0 | M22: 0 | N22: 0 | O22: 0 | P22: 0 | Q22: 0 | R22: 0 | S22: 0 | T22: 0 | U22: 0 | V22: 0 | W22: 0 | X22: 0 | Y22: 0 | Z22: 0 | AA22: 0 | AB22: 0 | AC22: 0 | AD22: =ROUND(SUM(D22:J22,M22:O22,R22,U22,X22,AB22:AC22),3) -> 0 | AF22: =IF(ROUND(AD22-SUM(D22:J22,M22:O22,R22,U22,X22,AB22:AC22),3)=0,"","Total products is not equal to the sum of products") | AT22: PUBELEC | DU22: TRANSFOR | DV22: _Z | DW22: _Z | DX22: MAINTOT | DY22: _Z | DZ22: _Z | EA22: _Z | EB22: WEIGHT | EC22: _Z | ED22: KT
B23: Deliveries of automotive LPG | C23: 16 | H23: 9.143 | AD23: =ROUND(H23,3) -> 9.143 | AF23: =IF(ROUND(AD23-H23,3)=0,"","Total products is not equal to deliveries of Automotive LPG reported") | AT23: AUDILPG | DU23: ENERGUSE | DV23: ROAD | DW23: _Z | DX23: _Z | DY23: _Z | DZ23: _Z | EA23: _Z | EB23: WEIGHT | EC23: _Z | ED23: KT
B24: Deliveries of rail and marine diesel | C24: 17 | T24: 1.68 | U24: 1.68 | V24: 0.249 | W24: 1.43 | AD24: =ROUND(U24,3) -> 1.68 | AF24: =IF(ROUND(AD24-U24,3)=0,"","Total products is not equal to Deliveries of rail and marine diesel of Total gas/diesel oil") | AT24: ERAILMAR | DU24: ENERGUSE | DV24: RAILMAR | DW24: _Z | DX24: _Z | DY24: _Z | DZ24: _Z | EA24: _Z | EB24: WEIGHT | EC24: _Z | ED24: KT
B25: Gross deliveries to the petrochemical industry8 | C25: 18 | D25: 0 | E25: 134.074 | F25: 182.974 | G25: 0 | H25: 294.329 | I25: 651.732 | J25: 0 | K25: 0 | L25: 0 | M25: 0 | N25: 0 | O25: 0 | P25: 0 | Q25: 0 | R25: 4.593 | S25: 0 | T25: 0.244 | U25: 1.579 | V25: 0 | W25: 1.579 | X25: 0 | Y25: 0 | Z25: 0 | AA25: 0 | AB25: 0 | AC25: 48.27 | AD25: =ROUND(SUM(D25:J25,M25:O25,R25,U25,X25,AB25:AC25),3) -> 1317.551 | AF25: =IF(ROUND(AD25-SUM(D25:J25,M25:O25,R25,U25,X25,AB25:AC25),3)=0,"","Total products is not equal to the sum of products") | AT25: GDPETCH | DU25: CONSUMPT | DV25: PETCHEM | DW25: _Z | DX25: _Z | DY25: _Z | DZ25: _Z | EA25: _Z | EB25: WEIGHT | EC25: _Z | ED25: KT
B26: Backflows to refineries9 | C26: 19 | F26: 179.878 | G26: 0 | H26: 0 | I26: 21.535 | J26: 0 | K26: 0 | L26: 0 | M26: 0 | N26: 0 | O26: 0 | P26: 0 | Q26: 0 | R26: 0 | S26: 0 | T26: 4.921 | U26: 4.921 | V26: 0 | W26: 4.921 | X26: 0 | Y26: 0 | Z26: 0 | AA26: 0 | AB26: 0 | AC26: 36.336 | AD26: =ROUND(SUM(F26:J26,M26:O26,R26,U26,X26,AB26:AC26),3) -> 242.67 | AF26: =IF(ROUND(AD26-SUM(F26:J26,M26:O26,R26,U26,X26,AB26:AC26),3)=0,"","Total products is not equal to the sum of products") | AT26: BACKFLOW | DU26: SUPPLY | DV26: BACKFLOW | DW26: _Z | DX26: _Z | DY26: _Z | DZ26: _Z | EA26: _Z | EB26: WEIGHT | EC26: _Z | ED26: KT
B27: Net deliveries of Total products | C27: 20 | AD27: =ROUND(AD20-AD26,3) -> 2284.963 | AT27: NETDELIC | DU27: NETDELIV | DV27: _T | DW27: _Z | DX27: _Z | DY27: _Z | DZ27: _Z | EA27: _Z | EB27: WEIGHT | EC27: _Z | ED27: KT
D28: =IF(MIN(D8,D18,D20,D22,D25)<0,"Negative number","") | E28: =IF(MIN(E8,E18,E20,E22,E25)<0,"Negative number","") | F28: =IF(MIN(F8:F11,F14,F16,F18,F20,F22,F25,F26)<0,"Negative number","") | G28: =IF(MIN(G8:G14,G16,G18,G20,G22,G25,G26)<0,"Negative number","") | H28: =IF(MIN(H8:H14,H16,H18,H20,H22,H23,H25,H26)<0,"Negative number","") | I28: =IF(MIN(I8:I14,I16,I18,I20,I22,I25,I26)<0,"Negative number","") | J28: =IF(MIN(J8:J14,J16,J18,J20,J22,J25,J26)<0,"Negative number","") | K28: =IF(MIN(K8:K14,K16,K18,K20,K22,K25,K26)<0,"Negative number","") | L28: =IF(MIN(L8:L14,L16,L18,L20,L22,L25,L26)<0,"Negative number","") | M28: =IF(MIN(M8:M14,M16,M18,M20,M21,M22,M25,M26)<0,"Negative number","") -> Negative number | N28: =IF(MIN(N8:N14,N16,N18,N20,N21,N22,N25,N26)<0,"Negative number","") | O28: =IF(MIN(O8:O14,O16,O18,O20,O21,O22,O25,O26)<0,"Negative number","") | P28: =IF(MIN(P8:P14,P16,P18,P20,P21,P22,P25,P26)<0,"Negative number","") | Q28: =IF(MIN(Q8:Q14,Q16,Q18,Q20,Q21,Q22,Q25,Q26)<0,"Negative number","") | R28: =IF(MIN(R8:R14,R16,R18,R20,R22,R25,R26)<0,"Negative number","") | S28: =IF(MIN(S8:S14,S16,S18,S20,S22,S25,S26)<0,"Negative number","") | T28: =IF(MIN(T8:T14,T16,T18,T20,T22,T25,T26)<0,"Negative number","") | U28: =IF(MIN(U8:U14,U16,U18,U20,U22,U24,U25,U26)<0,"Negative number","") | V28: =IF(MIN(V8:V14,V16,V18,V20,V22,V24,V25,V26)<0,"Negative number","") | W28: =IF(MIN(W8:W14,W16,W18,W20,W22,W24,W25,W26)<0,"Negative number","") | X28: =IF(MIN(X8:X14,X16,X18,X20,X22,X25,X26)<0,"Negative number","") -> Negative number | Y28: =IF(MIN(Y8:Y14,Y16,Y18,Y20,Y22,Y25,Y26)<0,"Negative number","") | AA28: =IF(MIN(AA8:AA14,AA16,AA18,AA20,AA22,AA25,AA26)<0,"Negative number","") | AB28: =IF(MIN(AB8:AB14,AB16,AB18,AB20,AB22,AB25,AB26)<0,"Negative number","") | AC28: =IF(MIN(AC8:AC14,AC16,AC18,AC20,AC22,AC25,AC26)<0,"Negative number","") | AD28: =IF(MIN(AD8:AD14,AD16,AD18,AD20,AD21:AD27)<0,"Negative number","")
L29: =IF(OR(L8>J8,L9>J9,L10>J10,L11>J11,L12>J12,L13>J13,L14>J14,L16>J16,L18>J18,L20>J20,L22>J22,L25>J25,L26>J26),"Error: Non-biogasoline is greater than Total.","") | Q29: =IF(OR(Q8>O8,Q9>O9,Q10>O10,Q11>O11,Q12>O12,Q13>O13,Q14>O14,Q16>O16,Q18>O18,Q20>O20,Q22>O22,Q25>O25,Q26>O26),"Error: Non-biogasoline is greater than Total.","") | U29: =IF(OR(U8<>S8+T8,U9<>S9+T9,U10<>S10+T10,U11<>S11+T11,U12<>S12+T12,U13<>S13+T13,U14<>S14+T14,U16<>S16+T16,U18<>S18+T18,U20<>S20+T20,U22<>S22+T22,T24<>U24,U25<>S25+T25,U26<>S26+T26),"Error: Sum not equal Total.","") -> Error: Sum not equal Total. | X29: =IF(OR(X8<>Y8+AA8,X9<>Y9+AA9,X10<>Y10+AA10,X11<>Y11+AA11,X12<>Y12+AA12,X13<>Y13+AA13,X14<>Y14+AA14,X16<>Y16+AA16,X18<>Y18+AA18,X20<>Y20+AA20,X22<>Y22+AA22,X25<>Y25+AA25,X26<>Y26+AA26),"Error: Sum not equal Total.","") -> Error: Sum not equal Total.
K30: =IF(OR(K8>J8,K9>J9,K10>J10,K11>J11,K12>J12,K13>J13,K14>J14,K16>J16,K18>J18,K20>J20,K22>J22,K25>J25,K26>J26),"Error: Biogasoline is greater than Total.","") | P30: =IF(OR(P8>O8,P9>O9,P10>O10,P11>O11,P12>O12,P13>O13,P14>O14,P16>O16,P18>O18,P20>O20,P21>O21,P22>O22,P25>O25,P26>O26),"Error: Bjo jet kerosene is greater than Total.","") | T30: =IF(OR(T8>$U8,T9>$U9,T10>$U10,T11>$U11,T12>$U12,T13>$U13,T14>$U14,T16>$U16,T18>$U18,T20>$U20,T22>$U22,T24>$U24,T25>$U25,T26>$U26),"Error: Heating and othergas oil is greater than Total gas/diesel oil.","") | V30: =IF(OR(V8>U8,V9>U9,V10>U10,V11>U11,V12>U12,V13>U13,V14>U14,V16>U16,V18>U18,V20>U20,V22>U22,V24>U24,V25>U25,V26>U26),"Error: Biodiesels is greater than Total.","") | Y30: =IF(OR(Y8>X8,Y9>X9,Y10>X10,Y11>X11,Y12>X12,Y13>X13,Y14>X14,Y16>X16,Y18>X18,Y20>X20,Y22>X22,Y25>X25,Y26>X26),"Error: Fuel oil-low sulphur (<1%) is greater than Total.","") -> Error: Fuel oil-low sulphur (<1%) is greater than Total.
J31: =IF(OR(J8<>K8+L8,J9<>K9+L9,J10<>K10+L10,J11<>K11+L11,J12<>K12+L12,J13<>K13+L13,J14<>K14+L14,J15<>K15+L15,J16<>K16+L16,J17<>K17+L17,J18<>K18+L18,J19<>K19+L19,J20<>K20+L20,J22<>K22+L22,J25<>K25+L25,J26<>K26+L26),"Error: Sum not equal Total.","") -> Error: Sum not equal Total. | O31: =IF(OR(O8<>P8+Q8,O9<>P9+Q9,O10<>P10+Q10,O11<>P11+Q11,O12<>P12+Q12,O13<>P13+Q13,O14<>P14+Q14,O16<>P16+Q16,O18<>P18+Q18,O20<>P20+Q20,O21<>P21+Q21,O22<>P22+Q22,O25<>P25+Q25,O26<>P26+Q26),"Error: Sum not equal Total.","") -> Error: Sum not equal Total. | S31: =IF(OR(S8>$U8,S9>$U9,S10>$U10,S11>$U11,S12>$U12,S13>$U13,S14>$U14,S16>$U16,S18>$U18,S20>$U20,S22>$U22,S25>$U25,S26>$U26),"Error: Road diesel is greater than Total gas/diesel oil.","") | W31: =IF(OR(W8>U8,W9>U9,W10>U10,W11>U11,W12>U12,W13>U13,W14>U14,W16>U16,W18>U18,W20>U20,W22>U22,W24>U24,W25>U25,W26>U26),"Error: Non-bio gas/diesel oil is greater than Total.","") | AA31: =IF(OR(AA8>X8,AA9>X9,AA10>X10,AA11>X11,AA12>X12,AA13>X13,AA14>X14,AA16>X16,AA18>X18,AA20>X20,AA22>X22,AA25>X25,AA26>X26),"Error: Fuel oil-high sulphur (>=1%) is greater than Total.","") -> Error: Fuel oil-high sulphur (>=1%) is greater than Total.
A32: 1 | B32: Total of Primary product receipts (reference AA1) should correspond to Total of Direct use in Table 1 (reference G7). | H32: =ROUND(AD8-'Table 1'!J20,3) -> 0 | I32: =IF(H32=0,"OK","Total of 'Primary product receipts' not equal to total of 'Direct use' in Table 1.") -> OK
A33: 2 | B33: Imports (Balance) should correspond to Total Imports for these products in Table 3 (references G165 to AC165). | H33: =ROUND(AD12-'Table 3'!AF174,3) -> -0.28 | I33: =IF(H33=0,"OK","Imports (Balance) for Total products is not equal to Total Imports in Table 3 for Total products.") -> Imports (Balance) for Total products is not equal to Total Imports in Table 3 for Total products.
A34: 3 | B34: Exports (Balance) should correspond to Total Exports for these products in Table 4 (references F165 to AC165). | H34: =ROUND(AD13-'Table 4'!AF174,3) -> 0.196 | I34: =IF(H34=0,"OK","Exports (Balance) for Total products is not equal to Total Exports in Table 4 for Total products.") -> Exports (Balance) for Total products is not equal to Total Exports in Table 4 for Total products.
A35: 4 | B35: Total of Interproduct transfers (reference AA8) should add to 0. | H35: =ROUND(AD15,3) -> -0.012 | I35: =IF(H35=0,"OK","Interproduct transfers of Total products is not equal to 0.") -> Interproduct transfers of Total products is not equal to 0.
A36: 5 | B36: Total products of Products transferred (reference AA9) should correspond to Total of Products transferred in Table 1 (reference G4). | H36: =ROUND(AD16-'Table 1'!J17,3) -> 0.001 | I36: =IF(H36=0,"OK","Products transferred of Total products is not equal to Products transferred of Total in Table 1.") -> Products transferred of Total products is not equal to Products transferred of Total in Table 1.
A37: 6 | B37: Stock changes is Closing level minus Opening level of Stocks on national territory, Table 5 (line 2 minus line 1). | H37: =ROUND(AD17-('Table 5'!AH9-'Table 5'!AH8),3) -> 0 | I37: =IF(H37=0,"OK","Stock change for Total products is not equal to Closing stock level minus the Opening stock level on National territory in Table 5 for Total products.") -> OK
A38: 7 | B38: Memo item shouldn't be greater than the Gross inland deliveries (Observed): | I38: =IF(OR(H22+H23>H20,M21+M22>M20,N21+N22>N20,O22+O21>O20,P21+P22>P20,Q22+Q21>Q20,T22+T24>T20,U22+U24>U20,V22+V24>V20,W22+W24>W20),"Sum of Memo Items shoud not exceed Gross inland deliveries (Observed).","")
B39: - Deliveries to international aviation. | H39: =IF(OR(M21>M20,N21>N20,O21>O20,P21>P20,Q21>Q20),1,0) -> 0 | I39: =IF(H39=0,"OK","Deliveries to international aviation shoud not exceed Gross inland deliveries (Observed).") -> OK
B40: - Deliveries to main activity producer power plants. | H40: =IF(OR(D22>D20,E22>E20,F22>F20,G22>G20,H22>H20,I22>I20,J22>J20,K22>K20,L22>L20,M22>M20,N22>N20,O22>O20,P22>P20,Q22>Q20,R22>R20,S22>S20,T22>T20,U22>U20,V22>V20,W22>W20,X22>X20,Y22>Y20,AA22>AA20,AB22>AB20,AC22>AC20),1,0) -> 0 | I40: =IF(H40=0,"OK","Deliveries to Main activity producer power plants should not exceed Gross inland deliveries (Observed).") -> OK
B41: - Deliveries of automotive LPG. | H41: =IF((H23>H20),1,0) -> 0 | I41: =IF(H41=0,"OK","Deliveries of automotive LPG should not exceed Gross inland deliveries (Observed) of LPG.") -> OK
B42: - Deliveries of rail and marine diesel. | H42: =IF(OR(T24>T20,U24>U20,V24>V20,W24>W20),1,0) -> 0 | I42: =IF(H42=0,"OK","Deliveries of rail and marine diesel should not exceed Gross inland deliveries (Observed).") -> OK
A43: 8 | B43: Gross deliveries to the petrochemical industry should not be greater than the Gross inland deliveries (Observed). | H43: =IF(OR(D25>D20,E25>E20,F25>F20,G25>G20,H25>H20,I25>I20,J25>J20,K25>K20,L25>L20,M25>M20,N25>N20,O25>O20,P25>P20,Q25>Q20,R25>R20,S25>S20,T25>T20,,U25>U20,V25>V20,W25>W20,X25>X20,Y25>Y20,AA25>AA20,AB25>AB20,AC25>AC20),1,0) -> 0 | I43: =IF(H43=0,"OK","Deliveries to the Petrochemical sector should not exceed Gross inland deliveries (Observed).") -> OK
A44: 9 | B44: Total of Backflows to refineries (reference AA19) should correspond to Total of Backflows in Table 1 (reference G3). | H44: =ROUND(AD26-'Table 1'!J16,3) -> 0 | I44: =IF(H44=0,"OK","Backflows to refineries of Total products is not equal to Total of Backflows in Table 1.") -> OK
B132: Products è | D132: CRUDEOIL | E132: NGL | F132: REFINGAS | G132: ETHANE | H132: LPG | I132: NAPHTHA | J132: MOTORGAS | K132: BIOGASOL | L132: NONBIOGASO | M132: AVGAS | N132: JETGAS | O132: JETKERO | P132: BIOJETKERO | Q132: NONBIOJETK | R132: OTHKERO | S132: DIESEL | T132: HEATOIL | U132: GASDIES | V132: BIODIESEL | W132: NONBIODIES | X132: RESFUEL | Y132: LOWSULF | Z132: VLOWSULF | AA132: HIGHSULF | AB132: PETCOKE | AC132: OPRODS | AD132: TOTPRODS
B1000: ENERGY_PRODUCT | D1000: O4100 | E1000: O4200 | F1000: O4610 | G1000: O4620 | H1000: O4630 | I1000: O4640 | J1000: O4652 | K1000: R5212 | L1000: O4657 | M1000: O4651 | N1000: O4653 | O1000: O4661 | P1000: R5232 | Q1000: O4667 | R1000: O4669 | S1000: O4678 | T1000: O4679 | U1000: O4671 | V1000: R5222 | W1000: O4677 | X1000: O4680 | Y1000: O4681 | Z1000: O46811 | AA1000: O4682 | AB1000: O4694 | AC1000: O4690XO4694 | AD1000: O4600

Sheet Table 3
A1: MONTHLY OIL QUESTIONNAIRE
A2: =IF('Table 1'!D2=0,"",'Table 1'!D2) -> Netherlands
A3: =IF('Table 1'!D3=0,"",'Table 1'!D3 & " " & QuestYear) -> September 2026 | AT3: Datatype
A4: Table 3: IMPORTS BY ORIGIN | AG4: Unit: Thousand Metric Tons | AT4: IMPORTS
C5: Crude oil | D5: Natural gas liquids | E5: Refinery feedstocks | F5: Additives / oxygenates | G5: Other hydro-carbons | H5: Total (A to E) | I5: Ethane | J5: LPG | K5: Naphtha | L5: Total motor gasoline | O5: Aviation gasoline | P5: Gasoline type jet fuel | Q5: Total kerosene type jet fuel | T5: Other kerosene | W5: Total gas/diesel oil | Z5: Total fuel oil | AD5: Petroleum coke | AE5: Other products | AF5: Total products | AG5: Total oil | AI5: Probate
M6: Biogasoline | N6: Non-biogasoline | R6: Bio jet kerosene | S6: Non-bio jet kerosene | U6: Road diesel | V6: Heating and other gas oil | X6: Biodiesels | Y6: Non-bio gas/diesel oil | AA6: Fuel oil- low sulphur (<1%) | AB6: Of which: Fuel oil- very low sulphur (<0.5%) | AC6: Fuel oil- high sulphur (>=1%) | DS6: *** DSD codes ***
C7: A | D7: B | E7: C | F7: D | G7: E | H7: F | I7: G | J7: H | K7: I | L7: J | M7: K | N7: L | O7: M | P7: N | Q7: O | R7: P | S7: Q | T7: R | U7: S | V7: T | W7: U | X7: V | Y7: W | Z7: X | AA7: Y | AB7: Z | AC7: AA | AD7: AB | AE7: AC | AF7: AD | AG7: AE | AI7: AF | AS7: Item1 ê | DS7: REF_AREA | DT7: ENERGY_PRODUCT | DU7: MAIN_FLOW | DV7: FLOW_BREAKDOWN | DW7: PLANT_TECH | DX7: PLANT_TYPE | DY7: STOCKS | DZ7: INFRASTRUCTURE_IND | EA7: VIS_A_VIS_AREA | EB7: MEASURE_VALUE_TYPE | EC7: FACILITY_ID | ED7: UNIT_MEASURE | EE7: TIME_PERIOD
A8: Albania | B8: 1 | C8: 0 | D8: 0 | E8: 0 | F8: 0 | G8: 0 | H8: =ROUND(SUM(C8:G8),3) -> 0 | I8: 0 | J8: 0 | K8: 0 | L8: 0 | M8: 0 | N8: 0 | O8: 0 | P8: 0 | Q8: 0 | R8: 0 | S8: 0 | T8: 0 | U8: 0 | V8: 0 | W8: 0 | X8: 0 | Y8: 0 | Z8: 0 | AA8: 0 | AB8: 0 | AC8: 0 | AD8: 0 | AE8: 0 | AF8: =ROUND(SUM(I8:L8,O8:Q8,T8,W8,Z8,AD8:AE8),3) -> 0 | AG8: =ROUND(SUM(H8,AF8),3) -> 0 | AH8: =IF(ROUND(H8-SUM(C8:G8),3)=0,0,1)+IF(ROUND(AF8-SUM(I8:L8,O8:Q8,T8,W8,Z8,AD8:AE8),3)=0,0,1)+IF(ROUND(AG8-SUM(AF8,H8),3)=0,0,1) -> 0 | AI8: =IF(AH8=0," ",IF(AH8=1,"A total is not equal to the sum of its components: ",AH8&" totals are not equal to the sum of their components: "))&IF(AH8=0,"",IF(H8-SUM(C8:G8)=0,"","Total (column F). ")&IF(AF8-SUM(I8:L8,O8:Q8,T8,W8,Z8,AD8:AE8)=0,"","Total products. ")&IF(AG8-SUM(AF8,H8)=0,"","Total oil.")) | AS8: AL | AT8: ALBANIA | DS8: =VLOOKUP(CountryUser, Param!$C$9:$E$67, 3, 0) -> NL | DT8: Row 1000 | DU8: IMPORTS | DV8: _Z | DW8: _Z | DX8: _Z | DY8: _Z | DZ8: _Z | EA8: AL | EB8: WEIGHT | EC8: _Z | ED8: KT | EE8: =QuestYear&"-"&TEXT(MATCH(FirstMonth, Param!C71:C82,0), "00") -> 2026-09
A9: Algeria | B9: 2 | C9: 0 | D9: 0 | E9: 0 | F9: 0 | G9: 0 | H9: =ROUND(SUM(C9:G9),3) -> 0 | I9: 0 | J9: 24.298 | K9: 13.115 | L9: 3.702 | M9: 0 | N9: 3.702 | O9: 0 | P9: 0 | Q9: 0 | R9: 0 | S9: 0 | T9: 0 | U9: 0 | V9: 0 | W9: 0 | X9: 0 | Y9: 0 | Z9: 0 | AA9: 0 | AB9: 0 | AC9: 0 | AD9: 0 | AE9: 0 | AF9: =ROUND(SUM(I9:L9,O9:Q9,T9,W9,Z9,AD9:AE9),3) -> 41.115 | AG9: =ROUND(SUM(H9,AF9),3) -> 41.115 | AH9: =IF(ROUND(H9-SUM(C9:G9),3)=0,0,1)+IF(ROUND(AF9-SUM(I9:L9,O9:Q9,T9,W9,Z9,AD9:AE9),3)=0,0,1)+IF(ROUND(AG9-SUM(AF9,H9),3)=0,0,1) -> 0 | AI9: =IF(AH9=0," ",IF(AH9=1,"A total is not equal to the sum of its components: ",AH9&" totals are not equal to the sum of their components: "))&IF(AH9=0,"",IF(H9-SUM(C9:G9)=0,"","Total (column F). ")&IF(AF9-SUM(I9:L9,O9:Q9,T9,W9,Z9,AD9:AE9)=0,"","Total products. ")&IF(AG9-SUM(AF9,H9)=0,"","Total oil.")) | AS9: DZ | AT9: ALGERIA | DU9: IMPORTS | DV9: _Z | DW9: _Z | DX9: _Z | DY9: _Z | DZ9: _Z | EA9: DZ | EB9: WEIGHT | EC9: _Z | ED9: KT
A10: Andorra | B10: 3 | C10: 0 | D10: 0 | E10: 0 | F10: 0 | G10: 0 | H10: =ROUND(SUM(C10:G10),3) -> 0 | I10: 0 | J10: 0 | K10: 0 | L10: 0 | M10: 0 | N10: 0 | O10: 0 | P10: 0 | Q10: 0 | R10: 0 | S10: 0 | T10: 0 | U10: 0 | V10: 0 | W10: 0 | X10: 0 | Y10: 0 | Z10: 0 | AA10: 0 | AB10: 0 | AC10: 0 | AD10: 0 | AE10: 0 | AF10: =ROUND(SUM(I10:L10,O10:Q10,T10,W10,Z10,AD10:AE10),3) -> 0 | AG10: =ROUND(SUM(H10,AF10),3) -> 0 | AH10: =IF(ROUND(H10-SUM(C10:G10),3)=0,0,1)+IF(ROUND(AF10-SUM(I10:L10,O10:Q10,T10,W10,Z10,AD10:AE10),3)=0,0,1)+IF(ROUND(AG10-SUM(AF10,H10),3)=0,0,1) -> 0 | AI10: =IF(AH10=0," ",IF(AH10=1,"A total is not equal to the sum of its components: ",AH10&" totals are not equal to the sum of their components: "))&IF(AH10=0,"",IF(H10-SUM(C10:G10)=0,"","Total (column F). ")&IF(AF10-SUM(I10:L10,O10:Q10,T10,W10,Z10,AD10:AE10)=0,"","Total products. ")&IF(AG10-SUM(AF10,H10)=0,"","Total oil.")) | AS10: AD | AT10: ANDORRA | DU10: IMPORTS | DV10: _Z | DW10: _Z | DX10: _Z | DY10: _Z | DZ10: _Z | EA10: AD | EB10: WEIGHT | EC10: _Z | ED10: KT
A11: Angola | B11: 4 | C11: 113.778 | D11: 0 | E11: 0 | F11: 0 | G11: 0 | H11: =ROUND(SUM(C11:G11),3) -> 113.778 | I11: 0 | J11: 0 | K11: 5.612 | L11: 1.585 | M11: 0 | N11: 1.585 | O11: 0 | P11: 0 | Q11: 0 | R11: 0 | S11: 0 | T11: 0 | U11: 0 | V11: 0 | W11: 0 | X11: 0 | Y11: 0 | Z11: 0 | AA11: 0 | AB11: 0 | AC11: 0 | AD11: 0 | AE11: 0 | AF11: =ROUND(SUM(I11:L11,O11:Q11,T11,W11,Z11,AD11:AE11),3) -> 7.197 | AG11: =ROUND(SUM(H11,AF11),3) -> 120.975 | AH11: =IF(ROUND(H11-SUM(C11:G11),3)=0,0,1)+IF(ROUND(AF11-SUM(I11:L11,O11:Q11,T11,W11,Z11,AD11:AE11),3)=0,0,1)+IF(ROUND(AG11-SUM(AF11,H11),3)=0,0,1) -> 0 | AI11: =IF(AH11=0," ",IF(AH11=1,"A total is not equal to the sum of its components: ",AH11&" totals are not equal to the sum of their components: "))&IF(AH11=0,"",IF(H11-SUM(C11:G11)=0,"","Total (column F). ")&IF(AF11-SUM(I11:L11,O11:Q11,T11,W11,Z11,AD11:AE11)=0,"","Total products. ")&IF(AG11-SUM(AF11,H11)=0,"","Total oil.")) | AS11: AO | AT11: ANGOLA | DU11: IMPORTS | DV11: _Z | DW11: _Z | DX11: _Z | DY11: _Z | DZ11: _Z | EA11: AO | EB11: WEIGHT | EC11: _Z | ED11: KT
A12: Argentina | B12: 5 | C12: 50.46 | D12: 0 | E12: 0 | F12: 0.001 | G12: 0 | H12: =ROUND(SUM(C12:G12),3) -> 50.461 | I12: 0 | J12: 0 | K12: 0 | L12: 0 | M12: 0 | N12: 0 | O12: 0 | P12: 0 | Q12: 0 | R12: 0 | S12: 0 | T12: 0 | U12: 0 | V12: 0 | W12: 0 | X12: 0 | Y12: 0 | Z12: 0 | AA12: 0 | AB12: 0 | AC12: 0 | AD12: 0 | AE12: 0.003 | AF12: =ROUND(SUM(I12:L12,O12:Q12,T12,W12,Z12,AD12:AE12),3) -> 0.003 | AG12: =ROUND(SUM(H12,AF12),3) -> 50.464 | AH12: =IF(ROUND(H12-SUM(C12:G12),3)=0,0,1)+IF(ROUND(AF12-SUM(I12:L12,O12:Q12,T12,W12,Z12,AD12:AE12),3)=0,0,1)+IF(ROUND(AG12-SUM(AF12,H12),3)=0,0,1) -> 0 | AI12: =IF(AH12=0," ",IF(AH12=1,"A total is not equal to the sum of its components: ",AH12&" totals are not equal to the sum of their components: "))&IF(AH12=0,"",IF(H12-SUM(C12:G12)=0,"","Total (column F). ")&IF(AF12-SUM(I12:L12,O12:Q12,T12,W12,Z12,AD12:AE12)=0,"","Total products. ")&IF(AG12-SUM(AF12,H12)=0,"","Total oil.")) | AS12: AR | AT12: ARGENTINA | DU12: IMPORTS | DV12: _Z | DW12: _Z | DX12: _Z | DY12: _Z | DZ12: _Z | EA12: AR | EB12: WEIGHT | EC12: _Z | ED12: KT
A13: Armenia | B13: 6 | C13: 0 | D13: 0 | E13: 0 | F13: 0 | G13: 0 | H13: =ROUND(SUM(C13:G13),3) -> 0 | I13: 0 | J13: 0 | K13: 0 | L13: 0 | M13: 0 | N13: 0 | O13: 0 | P13: 0 | Q13: 0 | R13: 0 | S13: 0 | T13: 0 | U13: 0 | V13: 0 | W13: 0 | X13: 0 | Y13: 0 | Z13: 0 | AA13: 0 | AB13: 0 | AC13: 0 | AD13: 0 | AE13: 0 | AF13: =ROUND(SUM(I13:L13,O13:Q13,T13,W13,Z13,AD13:AE13),3) -> 0 | AG13: =ROUND(SUM(H13,AF13),3) -> 0 | AH13: =IF(ROUND(H13-SUM(C13:G13),3)=0,0,1)+IF(ROUND(AF13-SUM(I13:L13,O13:Q13,T13,W13,Z13,AD13:AE13),3)=0,0,1)+IF(ROUND(AG13-SUM(AF13,H13),3)=0,0,1) -> 0 | AI13: =IF(AH13=0," ",IF(AH13=1,"A total is not equal to the sum of its components: ",AH13&" totals are not equal to the sum of their components: "))&IF(AH13=0,"",IF(H13-SUM(C13:G13)=0,"","Total (column F). ")&IF(AF13-SUM(I13:L13,O13:Q13,T13,W13,Z13,AD13:AE13)=0,"","Total products. ")&IF(AG13-SUM(AF13,H13)=0,"","Total oil.")) | AS13: AM | AT13: ARMENIA | DU13: IMPORTS | DV13: _Z | DW13: _Z | DX13: _Z | DY13: _Z | DZ13: _Z | EA13: AM | EB13: WEIGHT | EC13: _Z | ED13: KT
A14: Aruba | B14: 7 | C14: 0 | D14: 0 | E14: 0 | F14: 0 | G14: 0 | H14: =ROUND(SUM(C14:G14),3) -> 0 | I14: 0 | J14: 0 | K14: 0 | L14: 0 | M14: 0 | N14: 0 | O14: 0 | P14: 0 | Q14: 0 | R14: 0 | S14: 0 | T14: 0 | U14: 0 | V14: 0 | W14: 0 | X14: 0 | Y14: 0 | Z14: 0 | AA14: 0 | AB14: 0 | AC14: 0 | AD14: 0 | AE14: 0 | AF14: =ROUND(SUM(I14:L14,O14:Q14,T14,W14,Z14,AD14:AE14),3) -> 0 | AG14: =ROUND(SUM(H14,AF14),3) -> 0 | AH14: =IF(ROUND(H14-SUM(C14:G14),3)=0,0,1)+IF(ROUND(AF14-SUM(I14:L14,O14:Q14,T14,W14,Z14,AD14:AE14),3)=0,0,1)+IF(ROUND(AG14-SUM(AF14,H14),3)=0,0,1) -> 0 | AI14: =IF(AH14=0," ",IF(AH14=1,"A total is not equal to the sum of its components: ",AH14&" totals are not equal to the sum of their components: "))&IF(AH14=0,"",IF(H14-SUM(C14:G14)=0,"","Total (column F). ")&IF(AF14-SUM(I14:L14,O14:Q14,T14,W14,Z14,AD14:AE14)=0,"","Total products. ")&IF(AG14-SUM(AF14,H14)=0,"","Total oil.")) | AS14: AW | AT14: ARUBA | DU14: IMPORTS | DV14: _Z | DW14: _Z | DX14: _Z | DY14: _Z | DZ14: _Z | EA14: AW | EB14: WEIGHT | EC14: _Z | ED14: KT
A15: Australia | B15: 8 | C15: 0 | D15: 0 | E15: 0 | F15: 0 | G15: 0 | H15: =ROUND(SUM(C15:G15),3) -> 0 | I15: 0 | J15: 0 | K15: 0 | L15: 0 | M15: 0 | N15: 0 | O15: 0 | P15: 0 | Q15: 0 | R15: 0 | S15: 0 | T15: 0 | U15: 0 | V15: 0 | W15: 0 | X15: 0 | Y15: 0 | Z15: 0 | AA15: 0 | AB15: 0 | AC15: 0 | AD15: 0 | AE15: 0 | AF15: =ROUND(SUM(I15:L15,O15:Q15,T15,W15,Z15,AD15:AE15),3) -> 0 | AG15: =ROUND(SUM(H15,AF15),3) -> 0 | AH15: =IF(ROUND(H15-SUM(C15:G15),3)=0,0,1)+IF(ROUND(AF15-SUM(I15:L15,O15:Q15,T15,W15,Z15,AD15:AE15),3)=0,0,1)+IF(ROUND(AG15-SUM(AF15,H15),3)=0,0,1) -> 0 | AI15: =IF(AH15=0," ",IF(AH15=1,"A total is not equal to the sum of its components: ",AH15&" totals are not equal to the sum of their components: "))&IF(AH15=0,"",IF(H15-SUM(C15:G15)=0,"","Total (column F). ")&IF(AF15-SUM(I15:L15,O15:Q15,T15,W15,Z15,AD15:AE15)=0,"","Total products. ")&IF(AG15-SUM(AF15,H15)=0,"","Total oil.")) | AS15: AU | AT15: AUSTRALI | DU15: IMPORTS | DV15: _Z | DW15: _Z | DX15: _Z | DY15: _Z | DZ15: _Z | EA15: AU | EB15: WEIGHT | EC15: _Z | ED15: KT
A16: Austria | B16: 9 | C16: 0 | D16: 0 | E16: 0 | F16: 0 | G16: 0 | H16: =ROUND(SUM(C16:G16),3) -> 0 | I16: 0 | J16: 0 | K16: 0 | L16: 0 | M16: 0 | N16: 0 | O16: 0 | P16: 0 | Q16: 0 | R16: 0 | S16: 0 | T16: 0 | U16: 0 | V16: 0 | W16: 0 | X16: 0 | Y16: 0 | Z16: 0 | AA16: 0 | AB16: 0 | AC16: 0 | AD16: 0 | AE16: 0.944 | AF16: =ROUND(SUM(I16:L16,O16:Q16,T16,W16,Z16,AD16:AE16),3) -> 0.944 | AG16: =ROUND(SUM(H16,AF16),3) -> 0.944 | AH16: =IF(ROUND(H16-SUM(C16:G16),3)=0,0,1)+IF(ROUND(AF16-SUM(I16:L16,O16:Q16,T16,W16,Z16,AD16:AE16),3)=0,0,1)+IF(ROUND(AG16-SUM(AF16,H16),3)=0,0,1) -> 0 | AI16: =IF(AH16=0," ",IF(AH16=1,"A total is not equal to the sum of its components: ",AH16&" totals are not equal to the sum of their components: "))&IF(AH16=0,"",IF(H16-SUM(C16:G16)=0,"","Total (column F). ")&IF(AF16-SUM(I16:L16,O16:Q16,T16,W16,Z16,AD16:AE16)=0,"","Total products. ")&IF(AG16-SUM(AF16,H16)=0,"","Total oil.")) | AS16: AT | AT16: AUSTRIA | DU16: IMPORTS | DV16: _Z | DW16: _Z | DX16: _Z | DY16: _Z | DZ16: _Z | EA16: AT | EB16: WEIGHT | EC16: _Z | ED16: KT
A17: Azerbaijan | B17: 10 | C17: 0 | D17: 0 | E17: 0 | F17: 0 | G17: 0 | H17: =ROUND(SUM(C17:G17),3) -> 0 | I17: 0 | J17: 0 | K17: 0 | L17: 0 | M17: 0 | N17: 0 | O17: 0 | P17: 0 | Q17: 0 | R17: 0 | S17: 0 | T17: 0 | U17: 0 | V17: 0 | W17: 0 | X17: 0 | Y17: 0 | Z17: 34.493 | AA17: 14.689 | AB17: 0 | AC17: 19.804 | AD17: 0 | AE17: 2.936 | AF17: =ROUND(SUM(I17:L17,O17:Q17,T17,W17,Z17,AD17:AE17),3) -> 37.429 | AG17: =ROUND(SUM(H17,AF17),3) -> 37.429 | AH17: =IF(ROUND(H17-SUM(C17:G17),3)=0,0,1)+IF(ROUND(AF17-SUM(I17:L17,O17:Q17,T17,W17,Z17,AD17:AE17),3)=0,0,1)+IF(ROUND(AG17-SUM(AF17,H17),3)=0,0,1) -> 0 | AI17: =IF(AH17=0," ",IF(AH17=1,"A total is not equal to the sum of its components: ",AH17&" totals are not equal to the sum of their components: "))&IF(AH17=0,"",IF(H17-SUM(C17:G17)=0,"","Total (column F). ")&IF(AF17-SUM(I17:L17,O17:Q17,T17,W17,Z17,AD17:AE17)=0,"","Total products. ")&IF(AG17-SUM(AF17,H17)=0,"","Total oil.")) | AS17: AZ | AT17: AZERBAIJAN | DU17: IMPORTS | DV17: _Z | DW17: _Z | DX17: _Z | DY17: _Z | DZ17: _Z | EA17: AZ | EB17: WEIGHT | EC17: _Z | ED17: KT
A18: Bahamas | B18: 11 | C18: 0 | D18: 0 | E18: 0 | F18: 0 | G18: 0 | H18: =ROUND(SUM(C18:G18),3) -> 0 | I18: 0 | J18: 0 | K18: 0 | L18: 0 | M18: 0 | N18: 0 | O18: 0 | P18: 0 | Q18: 0 | R18: 0 | S18: 0 | T18: 0 | U18: 0 | V18: 0 | W18: 0 | X18: 0 | Y18: 0 | Z18: 0 | AA18: 0 | AB18: 0 | AC18: 0 | AD18: 0 | AE18: 0 | AF18: =ROUND(SUM(I18:L18,O18:Q18,T18,W18,Z18,AD18:AE18),3) -> 0 | AG18: =ROUND(SUM(H18,AF18),3) -> 0 | AH18: =IF(ROUND(H18-SUM(C18:G18),3)=0,0,1)+IF(ROUND(AF18-SUM(I18:L18,O18:Q18,T18,W18,Z18,AD18:AE18),3)=0,0,1)+IF(ROUND(AG18-SUM(AF18,H18),3)=0,0,1) -> 0 | AI18: =IF(AH18=0," ",IF(AH18=1,"A total is not equal to the sum of its components: ",AH18&" totals are not equal to the sum of their components: "))&IF(AH18=0,"",IF(H18-SUM(C18:G18)=0,"","Total (column F). ")&IF(AF18-SUM(I18:L18,O18:Q18,T18,W18,Z18,AD18:AE18)=0,"","Total products. ")&IF(AG18-SUM(AF18,H18)=0,"","Total oil.")) | AS18: BS | AT18: BAHAMAS | DU18: IMPORTS | DV18: _Z | DW18: _Z | DX18: _Z | DY18: _Z | DZ18: _Z | EA18: BS | EB18: WEIGHT | EC18: _Z | ED18: KT
A19: Bahrain | B19: 12 | C19: 0 | D19: 0 | E19: 0 | F19: 0 | G19: 0 | H19: =ROUND(SUM(C19:G19),3) -> 0 | I19: 0 | J19: 0 | K19: 0 | L19: 0 | M19: 0 | N19: 0 | O19: 0 | P19: 0 | Q19: 0 | R19: 0 | S19: 0 | T19: 0 | U19: 0 | V19: 0 | W19: 0 | X19: 0 | Y19: 0 | Z19: 0 | AA19: 0 | AB19: 0 | AC19: 0 | AD19: 0 | AE19: 0 | AF19: =ROUND(SUM(I19:L19,O19:Q19,T19,W19,Z19,AD19:AE19),3) -> 0 | AG19: =ROUND(SUM(H19,AF19),3) -> 0 | AH19: =IF(ROUND(H19-SUM(C19:G19),3)=0,0,1)+IF(ROUND(AF19-SUM(I19:L19,O19:Q19,T19,W19,Z19,AD19:AE19),3)=0,0,1)+IF(ROUND(AG19-SUM(AF19,H19),3)=0,0,1) -> 0 | AI19: =IF(AH19=0," ",IF(AH19=1,"A total is not equal to the sum of its components: ",AH19&" totals are not equal to the sum of their components: "))&IF(AH19=0,"",IF(H19-SUM(C19:G19)=0,"","Total (column F). ")&IF(AF19-SUM(I19:L19,O19:Q19,T19,W19,Z19,AD19:AE19)=0,"","Total products. ")&IF(AG19-SUM(AF19,H19)=0,"","Total oil.")) | AS19: BH | AT19: BAHRAIN | DU19: IMPORTS | DV19: _Z | DW19: _Z | DX19: _Z | DY19: _Z | DZ19: _Z | EA19: BH | EB19: WEIGHT | EC19: _Z | ED19: KT
A20: Bangladesh | B20: 13 | C20: 0 | D20: 0 | E20: 0 | F20: 0 | G20: 0 | H20: =ROUND(SUM(C20:G20),3) -> 0 | I20: 0 | J20: 0 | K20: 0 | L20: 0 | M20: 0 | N20: 0 | O20: 0 | P20: 0 | Q20: 0 | R20: 0 | S20: 0 | T20: 0 | U20: 0 | V20: 0 | W20: 0 | X20: 0 | Y20: 0 | Z20: 0 | AA20: 0 | AB20: 0 | AC20: 0 | AD20: 0 | AE20: 0 | AF20: =ROUND(SUM(I20:L20,O20:Q20,T20,W20,Z20,AD20:AE20),3) -> 0 | AG20: =ROUND(SUM(H20,AF20),3) -> 0 | AH20: =IF(ROUND(H20-SUM(C20:G20),3)=0,0,1)+IF(ROUND(AF20-SUM(I20:L20,O20:Q20,T20,W20,Z20,AD20:AE20),3)=0,0,1)+IF(ROUND(AG20-SUM(AF20,H20),3)=0,0,1) -> 0 | AI20: =IF(AH20=0," ",IF(AH20=1,"A total is not equal to the sum of its components: ",AH20&" totals are not equal to the sum of their components: "))&IF(AH20=0,"",IF(H20-SUM(C20:G20)=0,"","Total (column F). ")&IF(AF20-SUM(I20:L20,O20:Q20,T20,W20,Z20,AD20:AE20)=0,"","Total products. ")&IF(AG20-SUM(AF20,H20)=0,"","Total oil.")) | AS20: BD | AT20: BANGLADESH | DU20: IMPORTS | DV20: _Z | DW20: _Z | DX20: _Z | DY20: _Z | DZ20: _Z | EA20: BD | EB20: WEIGHT | EC20: _Z | ED20: KT
... A27: Bosnia and Herzegovina | B27: 20 | C27: 0 | D27: 0 | E27: 0 | F27: 0 | G27: 0 | H27: =ROUND(SUM(C27:G27),3) -> 0 | I27: 0 | J27: 0 | K27: 0 | L27: 0 | M27: 0 | N27: 0 | O27: 0 | P27: 0 | Q27: 0 | R27: 0 | S27: 0 | T27: 0 | U27: 0 | V27: 0 | W27: 0 | X27: 0 | Y27: 0 | Z27: 0 | AA27: 0 | AB27: 0 | AC27: 0 | AD27: 0 | AE27: 0 | AF27: =ROUND(SUM(I27:L27,O27:Q27,T27,W27,Z27,AD27:AE27),3) -> 0 | AG27: =ROUND(SUM(H27,AF27),3) -> 0 | AH27: =IF(ROUND(H27-SUM(C27:G27),3)=0,0,1)+IF(ROUND(AF27-SUM(I27:L27,O27:Q27,T27,W27,Z27,AD27:AE27),3)=0,0,1)+IF(ROUND(AG27-SUM(AF27,H27),3)=0,0,1) -> 0 | AI27: =IF(AH27=0," ",IF(AH27=1,"A total is not equal to the sum of its components: ",AH27&" totals are not equal to the sum of their components: "))&IF(AH27=0,"",IF(H27-SUM(C27:G27)=0,"","Total (column F). ")&IF(AF27-SUM(I27:L27,O27:Q27,T27,W27,Z27,AD27:AE27)=0,"","Total products. ")&IF(AG27-SUM(AF27,H27)=0,"","Total oil.")) | AS27: BA | AT27: BOSNIAHERZ | DU27: IMPORTS | DV27: _Z | DW27: _Z | DX27: _Z | DY27: _Z | DZ27: _Z | EA27: BA | EB27: WEIGHT | EC27: _Z | ED27: KT
A28: Botswana | B28: 21 | C28: 0 | D28: 0 | E28: 0 | F28: 0 | G28: 0 | H28: =ROUND(SUM(C28:G28),3) -> 0 | I28: 0 | J28: 0 | K28: 0 | L28: 0 | M28: 0 | N28: 0 | O28: 0 | P28: 0 | Q28: 0 | R28: 0 | S28: 0 | T28: 0 | U28: 0 | V28: 0 | W28: 0 | X28: 0 | Y28: 0 | Z28: 0 | AA28: 0 | AB28: 0 | AC28: 0 | AD28: 0 | AE28: 0 | AF28: =ROUND(SUM(I28:L28,O28:Q28,T28,W28,Z28,AD28:AE28),3) -> 0 | AG28: =ROUND(SUM(H28,AF28),3) -> 0 | AS28: BW | AT28: BOTSWANA | DU28: IMPORTS | DV28: _Z | DW28: _Z | DX28: _Z | DY28: _Z | DZ28: _Z | EA28: BW | EB28: WEIGHT | EC28: _Z | ED28: KT
A29: Brazil | B29: 22 | C29: 538.866 | D29: 0 | E29: 0 | F29: 5.143 | G29: 0 | H29: =ROUND(SUM(C29:G29),3) -> 544.009 | I29: 0 | J29: 0 | K29: 47.45 | L29: 13.393 | M29: 0 | N29: 13.393 | O29: 0 | P29: 0 | Q29: 0 | R29: 0 | S29: 0 | T29: 0 | U29: 0 | V29: 0 | W29: 0 | X29: 0 | Y29: 0 | Z29: 20.737 | AA29: 8.831 | AB29: 0 | AC29: 11.906 | AD29: 0 | AE29: 1.436 | AF29: =ROUND(SUM(I29:L29,O29:Q29,T29,W29,Z29,AD29:AE29),3) -> 83.016 | AG29: =ROUND(SUM(H29,AF29),3) -> 627.025 | AH29: =IF(ROUND(H29-SUM(C29:G29),3)=0,0,1)+IF(ROUND(AF29-SUM(I29:L29,O29:Q29,T29,W29,Z29,AD29:AE29),3)=0,0,1)+IF(ROUND(AG29-SUM(AF29,H29),3)=0,0,1) -> 0 | AI29: =IF(AH29=0," ",IF(AH29=1,"A total is not equal to the sum of its components: ",AH29&" totals are not equal to the sum of their components: "))&IF(AH29=0,"",IF(H29-SUM(C29:G29)=0,"","Total (column F). ")&IF(AF29-SUM(I29:L29,O29:Q29,T29,W29,Z29,AD29:AE29)=0,"","Total products. ")&IF(AG29-SUM(AF29,H29)=0,"","Total oil.")) | AS29: BR | AT29: BRAZIL | DU29: IMPORTS | DV29: _Z | DW29: _Z | DX29: _Z | DY29: _Z | DZ29: _Z | EA29: BR | EB29: WEIGHT | EC29: _Z | ED29: KT
A30: British Virgin Islands | B30: 23 | C30: 0 | D30: 0 | E30: 0 | F30: 0 | G30: 0 | H30: =ROUND(SUM(C30:G30),3) -> 0 | I30: 0 | J30: 0 | K30: 0 | L30: 0 | M30: 0 | N30: 0 | O30: 0 | P30: 0 | Q30: 0 | R30: 0 | S30: 0 | T30: 0 | U30: 0 | V30: 0 | W30: 0 | X30: 0 | Y30: 0 | Z30: 0 | AA30: 0 | AB30: 0 | AC30: 0 | AD30: 0 | AE30: 0 | AF30: =ROUND(SUM(I30:L30,O30:Q30,T30,W30,Z30,AD30:AE30),3) -> 0 | AG30: =ROUND(SUM(H30,AF30),3) -> 0 | AH30: =IF(ROUND(H30-SUM(C30:G30),3)=0,0,1)+IF(ROUND(AF30-SUM(I30:L30,O30:Q30,T30,W30,Z30,AD30:AE30),3)=0,0,1)+IF(ROUND(AG30-SUM(AF30,H30),3)=0,0,1) -> 0 | AI30: =IF(AH30=0," ",IF(AH30=1,"A total is not equal to the sum of its components: ",AH30&" totals are not equal to the sum of their components: "))&IF(AH30=0,"",IF(H30-SUM(C30:G30)=0,"","Total (column F). ")&IF(AF30-SUM(I30:L30,O30:Q30,T30,W30,Z30,AD30:AE30)=0,"","Total products. ")&IF(AG30-SUM(AF30,H30)=0,"","Total oil.")) | AS30: VG | AT30: BRITVIRGIN | DU30: IMPORTS | DV30: _Z | DW30: _Z | DX30: _Z | DY30: _Z | DZ30: _Z | EA30: VG | EB30: WEIGHT | EC30: _Z | ED30: KT
A31: Brunei Darussalam | B31: 24 | C31: 0 | D31: 0 | E31: 0 | F31: 0 | G31: 0 | H31: =ROUND(SUM(C31:G31),3) -> 0 | I31: 0 | J31: 0 | K31: 0 | L31: 0 | M31: 0 | N31: 0 | O31: 0 | P31: 0 | Q31: 0 | R31: 0 | S31: 0 | T31: 0 | U31: 0 | V31: 0 | W31: 0 | X31: 0 | Y31: 0 | Z31: 0 | AA31: 0 | AB31: 0 | AC31: 0 | AD31: 0 | AE31: 0.042 | AF31: =ROUND(SUM(I31:L31,O31:Q31,T31,W31,Z31,AD31:AE31),3) -> 0.042 | AG31: =ROUND(SUM(H31,AF31),3) -> 0.042 | AH31: =IF(ROUND(H31-SUM(C31:G31),3)=0,0,1)+IF(ROUND(AF31-SUM(I31:L31,O31:Q31,T31,W31,Z31,AD31:AE31),3)=0,0,1)+IF(ROUND(AG31-SUM(AF31,H31),3)=0,0,1) -> 0 | AI31: =IF(AH31=0," ",IF(AH31=1,"A total is not equal to the sum of its components: ",AH31&" totals are not equal to the sum of their components: "))&IF(AH31=0,"",IF(H31-SUM(C31:G31)=0,"","Total (column F). ")&IF(AF31-SUM(I31:L31,O31:Q31,T31,W31,Z31,AD31:AE31)=0,"","Total products. ")&IF(AG31-SUM(AF31,H31)=0,"","Total oil.")) | AS31: BN | AT31: BRUNEI | DU31: IMPORTS | DV31: _Z | DW31: _Z | DX31: _Z | DY31: _Z | DZ31: _Z | EA31: BN | EB31: WEIGHT | EC31: _Z | ED31: KT
A32: Bulgaria | B32: 25 | C32: 0 | D32: 0 | E32: 0 | F32: 0 | G32: 0 | H32: =ROUND(SUM(C32:G32),3) -> 0 | I32: 0 | J32: 0 | K32: 0 | L32: 0 | M32: 0 | N32: 0 | O32: 0 | P32: 0 | Q32: 0 | R32: 0 | S32: 0 | T32: 0 | U32: 0 | V32: 0 | W32: 0 | X32: 0 | Y32: 0 | Z32: 10.099 | AA32: 4.301 | AB32: 0 | AC32: 5.798 | AD32: 0 | AE32: 0.685 | AF32: =ROUND(SUM(I32:L32,O32:Q32,T32,W32,Z32,AD32:AE32),3) -> 10.784 | AG32: =ROUND(SUM(H32,AF32),3) -> 10.784 | AH32: =IF(ROUND(H32-SUM(C32:G32),3)=0,0,1)+IF(ROUND(AF32-SUM(I32:L32,O32:Q32,T32,W32,Z32,AD32:AE32),3)=0,0,1)+IF(ROUND(AG32-SUM(AF32,H32),3)=0,0,1) -> 0 | AI32: =IF(AH32=0," ",IF(AH32=1,"A total is not equal to the sum of its components: ",AH32&" totals are not equal to the sum of their components: "))&IF(AH32=0,"",IF(H32-SUM(C32:G32)=0,"","Total (column F). ")&IF(AF32-SUM(I32:L32,O32:Q32,T32,W32,Z32,AD32:AE32)=0,"","Total products. ")&IF(AG32-SUM(AF32,H32)=0,"","Total oil.")) | AS32: BG | AT32: BULGARIA | DU32: IMPORTS | DV32: _Z | DW32: _Z | DX32: _Z | DY32: _Z | DZ32: _Z | EA32: BG | EB32: WEIGHT | EC32: _Z | ED32: KT
A33: Cambodia | B33: 26 | C33: 0 | D33: 0 | E33: 0 | F33: 0 | G33: 0 | H33: =ROUND(SUM(C33:G33),3) -> 0 | I33: 0 | J33: 0 | K33: 0 | L33: 0 | M33: 0 | N33: 0 | O33: 0 | P33: 0 | Q33: 0 | R33: 0 | S33: 0 | T33: 0 | U33: 0 | V33: 0 | W33: 0 | X33: 0 | Y33: 0 | Z33: 0 | AA33: 0 | AB33: 0 | AC33: 0 | AD33: 0 | AE33: 0 | AF33: =ROUND(SUM(I33:L33,O33:Q33,T33,W33,Z33,AD33:AE33),3) -> 0 | AG33: =ROUND(SUM(H33,AF33),3) -> 0 | AH33: =IF(ROUND(H33-SUM(C33:G33),3)=0,0,1)+IF(ROUND(AF33-SUM(I33:L33,O33:Q33,T33,W33,Z33,AD33:AE33),3)=0,0,1)+IF(ROUND(AG33-SUM(AF33,H33),3)=0,0,1) -> 0 | AI33: =IF(AH33=0," ",IF(AH33=1,"A total is not equal to the sum of its components: ",AH33&" totals are not equal to the sum of their components: "))&IF(AH33=0,"",IF(H33-SUM(C33:G33)=0,"","Total (column F). ")&IF(AF33-SUM(I33:L33,O33:Q33,T33,W33,Z33,AD33:AE33)=0,"","Total products. ")&IF(AG33-SUM(AF33,H33)=0,"","Total oil.")) | AS33: KH | AT33: CAMBODIA | DU33: IMPORTS | DV33: _Z | DW33: _Z | DX33: _Z | DY33: _Z | DZ33: _Z | EA33: KH | EB33: WEIGHT | EC33: _Z | ED33: KT
A34: Cameroon | B34: 27 | C34: 67.067 | D34: 0 | E34: 0 | F34: 0 | G34: 0 | H34: =ROUND(SUM(C34:G34),3) -> 67.067 | I34: 0 | J34: 0 | K34: 0 | L34: 0 | M34: 0 | N34: 0 | O34: 0 | P34: 0 | Q34: 0 | R34: 0 | S34: 0 | T34: 0 | U34: 0 | V34: 0 | W34: 0 | X34: 0 | Y34: 0 | Z34: 0 | AA34: 0 | AB34: 0 | AC34: 0 | AD34: 0 | AE34: 0 | AF34: =ROUND(SUM(I34:L34,O34:Q34,T34,W34,Z34,AD34:AE34),3) -> 0 | AG34: =ROUND(SUM(H34,AF34),3) -> 67.067 | AH34: =IF(ROUND(H34-SUM(C34:G34),3)=0,0,1)+IF(ROUND(AF34-SUM(I34:L34,O34:Q34,T34,W34,Z34,AD34:AE34),3)=0,0,1)+IF(ROUND(AG34-SUM(AF34,H34),3)=0,0,1) -> 0 | AI34: =IF(AH34=0," ",IF(AH34=1,"A total is not equal to the sum of its components: ",AH34&" totals are not equal to the sum of their components: "))&IF(AH34=0,"",IF(H34-SUM(C34:G34)=0,"","Total (column F). ")&IF(AF34-SUM(I34:L34,O34:Q34,T34,W34,Z34,AD34:AE34)=0,"","Total products. ")&IF(AG34-SUM(AF34,H34)=0,"","Total oil.")) | AS34: CM | AT34: CAMEROON | DU34: IMPORTS | DV34: _Z | DW34: _Z | DX34: _Z | DY34: _Z | DZ34: _Z | EA34: CM | EB34: WEIGHT | EC34: _Z | ED34: KT
A35: Canada | B35: 28 | C35: 54.49 | D35: 0 | E35: 0 | F35: 0 | G35: 0 | H35: =ROUND(SUM(C35:G35),3) -> 54.49 | I35: 0 | J35: 0 | K35: 0 | L35: 0 | M35: 0 | N35: 0 | O35: 0 | P35: 0 | Q35: 0.039 | R35: 0 | S35: 0.039 | T35: 0 | U35: 40.02 | V35: 46.941 | W35: 86.961 | X35: 0 | Y35: 86.961 | Z35: 0 | AA35: 0 | AB35: 0 | AC35: 0 | AD35: 0 | AE35: 12.775 | AF35: =ROUND(SUM(I35:L35,O35:Q35,T35,W35,Z35,AD35:AE35),3) -> 99.775 | AG35: =ROUND(SUM(H35,AF35),3) -> 154.265 | AH35: =IF(ROUND(H35-SUM(C35:G35),3)=0,0,1)+IF(ROUND(AF35-SUM(I35:L35,O35:Q35,T35,W35,Z35,AD35:AE35),3)=0,0,1)+IF(ROUND(AG35-SUM(AF35,H35),3)=0,0,1) -> 0 | AI35: =IF(AH35=0," ",IF(AH35=1,"A total is not equal to the sum of its components: ",AH35&" totals are not equal to the sum of their components: "))&IF(AH35=0,"",IF(H35-SUM(C35:G35)=0,"","Total (column F). ")&IF(AF35-SUM(I35:L35,O35:Q35,T35,W35,Z35,AD35:AE35)=0,"","Total products. ")&IF(AG35-SUM(AF35,H35)=0,"","Total oil.")) | AS35: CA | AT35: CANADA | DU35: IMPORTS | DV35: _Z | DW35: _Z | DX35: _Z | DY35: _Z | DZ35: _Z | EA35: CA | EB35: WEIGHT | EC35: _Z | ED35: KT
A36: Cape Verde / Cabo Verde | B36: 29 | C36: 0 | D36: 0 | E36: 0 | F36: 0 | G36: 0 | H36: =ROUND(SUM(C36:G36),3) -> 0 | I36: 0 | J36: 0 | K36: 0 | L36: 0 | M36: 0 | N36: 0 | O36: 0 | P36: 0 | Q36: 0 | R36: 0 | S36: 0 | T36: 0 | U36: 0 | V36: 0 | W36: 0 | X36: 0 | Y36: 0 | Z36: 0 | AA36: 0 | AB36: 0 | AC36: 0 | AD36: 0 | AE36: 0 | AF36: =ROUND(SUM(I36:L36,O36:Q36,T36,W36,Z36,AD36:AE36),3) -> 0 | AG36: =ROUND(SUM(H36,AF36),3) -> 0 | AH36: =IF(ROUND(H36-SUM(C36:G36),3)=0,0,1)+IF(ROUND(AF36-SUM(I36:L36,O36:Q36,T36,W36,Z36,AD36:AE36),3)=0,0,1)+IF(ROUND(AG36-SUM(AF36,H36),3)=0,0,1) -> 0 | AI36: =IF(AH36=0," ",IF(AH36=1,"A total is not equal to the sum of its components: ",AH36&" totals are not equal to the sum of their components: "))&IF(AH36=0,"",IF(H36-SUM(C36:G36)=0,"","Total (column F). ")&IF(AF36-SUM(I36:L36,O36:Q36,T36,W36,Z36,AD36:AE36)=0,"","Total products. ")&IF(AG36-SUM(AF36,H36)=0,"","Total oil.")) | AS36: CV | AT36: CABOVERDE | DU36: IMPORTS | DV36: _Z | DW36: _Z | DX36: _Z | DY36: _Z | DZ36: _Z | EA36: CV | EB36: WEIGHT | EC36: _Z | ED36: KT
A37: Chile | B37: 30 | C37: 0 | D37: 0 | E37: 0 | F37: 0 | G37: 0 | H37: =ROUND(SUM(C37:G37),3) -> 0 | I37: 0 | J37: 0 | K37: 0 | L37: 0 | M37: 0 | N37: 0 | O37: 0 | P37: 0 | Q37: 0 | R37: 0 | S37: 0 | T37: 0 | U37: 0 | V37: 0 | W37: 0 | X37: 0 | Y37: 0 | Z37: 0 | AA37: 0 | AB37: 0 | AC37: 0 | AD37: 0 | AE37: 0 | AF37: =ROUND(SUM(I37:L37,O37:Q37,T37,W37,Z37,AD37:AE37),3) -> 0 | AG37: =ROUND(SUM(H37,AF37),3) -> 0 | AH37: =IF(ROUND(H37-SUM(C37:G37),3)=0,0,1)+IF(ROUND(AF37-SUM(I37:L37,O37:Q37,T37,W37,Z37,AD37:AE37),3)=0,0,1)+IF(ROUND(AG37-SUM(AF37,H37),3)=0,0,1) -> 0 | AI37: =IF(AH37=0," ",IF(AH37=1,"A total is not equal to the sum of its components: ",AH37&" totals are not equal to the sum of their components: "))&IF(AH37=0,"",IF(H37-SUM(C37:G37)=0,"","Total (column F). ")&IF(AF37-SUM(I37:L37,O37:Q37,T37,W37,Z37,AD37:AE37)=0,"","Total products. ")&IF(AG37-SUM(AF37,H37)=0,"","Total oil.")) | AS37: CL | AT37: CHILE | DU37: IMPORTS | DV37: _Z | DW37: _Z | DX37: _Z | DY37: _Z | DZ37: _Z | EA37: CL | EB37: WEIGHT | EC37: _Z | ED37: KT
A38: China, People's Republic of | B38: 31 | C38: 0 | D38: 0 | E38: 0 | F38: 21.36 | G38: 0 | H38: =ROUND(SUM(C38:G38),3) -> 21.36 | I38: 0 | J38: 0 | K38: 1.86 | L38: 0.525 | M38: 0 | N38: 0.525 | O38: 0 | P38: 0 | Q38: 0 | R38: 0 | S38: 0 | T38: 0 | U38: 22.443 | V38: 26.323 | W38: 48.766 | X38: 0 | Y38: 48.766 | Z38: 0 | AA38: 0 | AB38: 0 | AC38: 0 | AD38: 0.151 | AE38: 10.714 | AF38: =ROUND(SUM(I38:L38,O38:Q38,T38,W38,Z38,AD38:AE38),3) -> 62.016 | AG38: =ROUND(SUM(H38,AF38),3) -> 83.376 | AH38: =IF(ROUND(H38-SUM(C38:G38),3)=0,0,1)+IF(ROUND(AF38-SUM(I38:L38,O38:Q38,T38,W38,Z38,AD38:AE38),3)=0,0,1)+IF(ROUND(AG38-SUM(AF38,H38),3)=0,0,1) -> 0 | AI38: =IF(AH38=0," ",IF(AH38=1,"A total is not equal to the sum of its components: ",AH38&" totals are not equal to the sum of their components: "))&IF(AH38=0,"",IF(H38-SUM(C38:G38)=0,"","Total (column F). ")&IF(AF38-SUM(I38:L38,O38:Q38,T38,W38,Z38,AD38:AE38)=0,"","Total products. ")&IF(AG38-SUM(AF38,H38)=0,"","Total oil.")) | AS38: CN | AT38: CHINA | DU38: IMPORTS | DV38: _Z | DW38: _Z | DX38: _Z | DY38: _Z | DZ38: _Z | EA38: CN | EB38: WEIGHT | EC38: _Z | ED38: KT
A39: Colombia | B39: 32 | C39: 0 | D39: 0 | E39: 0 | F39: 0 | G39: 0 | H39: =ROUND(SUM(C39:G39),3) -> 0 | I39: 0 | J39: 0 | K39: 0 | L39: 0 | M39: 0 | N39: 0 | O39: 0 | P39: 0 | Q39: 0 | R39: 0 | S39: 0 | T39: 0 | U39: 0 | V39: 0 | W39: 0 | X39: 0 | Y39: 0 | Z39: 0 | AA39: 0 | AB39: 0 | AC39: 0 | AD39: 0 | AE39: 0 | AF39: =ROUND(SUM(I39:L39,O39:Q39,T39,W39,Z39,AD39:AE39),3) -> 0 | AG39: =ROUND(SUM(H39,AF39),3) -> 0 | AH39: =IF(ROUND(H39-SUM(C39:G39),3)=0,0,1)+IF(ROUND(AF39-SUM(I39:L39,O39:Q39,T39,W39,Z39,AD39:AE39),3)=0,0,1)+IF(ROUND(AG39-SUM(AF39,H39),3)=0,0,1) -> 0 | AI39: =IF(AH39=0," ",IF(AH39=1,"A total is not equal to the sum of its components: ",AH39&" totals are not equal to the sum of their components: "))&IF(AH39=0,"",IF(H39-SUM(C39:G39)=0,"","Total (column F). ")&IF(AF39-SUM(I39:L39,O39:Q39,T39,W39,Z39,AD39:AE39)=0,"","Total products. ")&IF(AG39-SUM(AF39,H39)=0,"","Total oil.")) | AS39: CO | AT39: COLOMBIA | DU39: IMPORTS | DV39: _Z | DW39: _Z | DX39: _Z | DY39: _Z | DZ39: _Z | EA39: CO | EB39: WEIGHT | EC39: _Z | ED39: KT
A40: Congo | B40: 33 | C40: 67.385 | D40: 0 | E40: 0 | F40: 0 | G40: 0 | H40: =ROUND(SUM(C40:G40),3) -> 67.385 | I40: 0 | J40: 0 | K40: 0 | L40: 0 | M40: 0 | N40: 0 | O40: 0 | P40: 0 | Q40: 0 | R40: 0 | S40: 0 | T40: 0 | U40: 0 | V40: 0 | W40: 0 | X40: 0 | Y40: 0 | Z40: 0 | AA40: 0 | AB40: 0 | AC40: 0 | AD40: 0 | AE40: 0 | AF40: =ROUND(SUM(I40:L40,O40:Q40,T40,W40,Z40,AD40:AE40),3) -> 0 | AG40: =ROUND(SUM(H40,AF40),3) -> 67.385 | AH40: =IF(ROUND(H40-SUM(C40:G40),3)=0,0,1)+IF(ROUND(AF40-SUM(I40:L40,O40:Q40,T40,W40,Z40,AD40:AE40),3)=0,0,1)+IF(ROUND(AG40-SUM(AF40,H40),3)=0,0,1) -> 0 | AI40: =IF(AH40=0," ",IF(AH40=1,"A total is not equal to the sum of its components: ",AH40&" totals are not equal to the sum of their components: "))&IF(AH40=0,"",IF(H40-SUM(C40:G40)=0,"","Total (column F). ")&IF(AF40-SUM(I40:L40,O40:Q40,T40,W40,Z40,AD40:AE40)=0,"","Total products. ")&IF(AG40-SUM(AF40,H40)=0,"","Total oil.")) | AS40: CG | AT40: CONGO | DU40: IMPORTS | DV40: _Z | DW40: _Z | DX40: _Z | DY40: _Z | DZ40: _Z | EA40: CG | EB40: WEIGHT | EC40: _Z | ED40: KT
... A68: Guinea-Bissau | B68: 61 | C68: 0 | D68: 0 | E68: 0 | F68: 0 | G68: 0 | H68: =ROUND(SUM(C68:G68),3) -> 0 | I68: 0 | J68: 0 | K68: 0 | L68: 0 | M68: 0 | N68: 0 | O68: 0 | P68: 0 | Q68: 0 | R68: 0 | S68: 0 | T68: 0 | U68: 0 | V68: 0 | W68: 0 | X68: 0 | Y68: 0 | Z68: 0 | AA68: 0 | AB68: 0 | AC68: 0 | AD68: 0 | AE68: 0 | AF68: =ROUND(SUM(I68:L68,O68:Q68,T68,W68,Z68,AD68:AE68),3) -> 0 | AG68: =ROUND(SUM(H68,AF68),3) -> 0 | AH68: =IF(ROUND(H68-SUM(C68:G68),3)=0,0,1)+IF(ROUND(AF68-SUM(I68:L68,O68:Q68,T68,W68,Z68,AD68:AE68),3)=0,0,1)+IF(ROUND(AG68-SUM(AF68,H68),3)=0,0,1) -> 0 | AI68: =IF(AH68=0," ",IF(AH68=1,"A total is not equal to the sum of its components: ",AH68&" totals are not equal to the sum of their components: "))&IF(AH68=0,"",IF(H68-SUM(C68:G68)=0,"","Total (column F). ")&IF(AF68-SUM(I68:L68,O68:Q68,T68,W68,Z68,AD68:AE68)=0,"","Total products. ")&IF(AG68-SUM(AF68,H68)=0,"","Total oil.")) | AS68: GW | AT68: GUINEABIS | DU68: IMPORTS | DV68: _Z | DW68: _Z | DX68: _Z | DY68: _Z | DZ68: _Z | EA68: GW | EB68: WEIGHT | EC68: _Z | ED68: KT
A69: Guyana | B69: 62 | C69: 0 | D69: 0 | E69: 0 | F69: 0 | G69: 0 | H69: =ROUND(SUM(C69:G69),3) -> 0 | I69: 0 | J69: 0 | K69: 0 | L69: 0 | M69: 0 | N69: 0 | O69: 0 | P69: 0 | Q69: 0 | R69: 0 | S69: 0 | T69: 0 | U69: 0 | V69: 0 | W69: 0 | X69: 0 | Y69: 0 | Z69: 0 | AA69: 0 | AB69: 0 | AC69: 0 | AD69: 0 | AE69: 0 | AF69: =ROUND(SUM(I69:L69,O69:Q69,T69,W69,Z69,AD69:AE69),3) -> 0 | AG69: =ROUND(SUM(H69,AF69),3) -> 0 | AS69: GY | AT69: GUYANA | DU69: IMPORTS | DV69: _Z | DW69: _Z | DX69: _Z | DY69: _Z | DZ69: _Z | EA69: GY | EB69: WEIGHT | EC69: _Z | ED69: KT
A70: Honduras | B70: 63 | C70: 0 | D70: 0 | E70: 0 | F70: 0 | G70: 0 | H70: =ROUND(SUM(C70:G70),3) -> 0 | I70: 0 | J70: 0 | K70: 0 | L70: 0 | M70: 0 | N70: 0 | O70: 0 | P70: 0 | Q70: 0 | R70: 0 | S70: 0 | T70: 0 | U70: 0 | V70: 0 | W70: 0 | X70: 0 | Y70: 0 | Z70: 0 | AA70: 0 | AB70: 0 | AC70: 0 | AD70: 0 | AE70: 0 | AF70: =ROUND(SUM(I70:L70,O70:Q70,T70,W70,Z70,AD70:AE70),3) -> 0 | AG70: =ROUND(SUM(H70,AF70),3) -> 0 | AH70: =IF(ROUND(H70-SUM(C70:G70),3)=0,0,1)+IF(ROUND(AF70-SUM(I70:L70,O70:Q70,T70,W70,Z70,AD70:AE70),3)=0,0,1)+IF(ROUND(AG70-SUM(AF70,H70),3)=0,0,1) -> 0 | AI70: =IF(AH70=0," ",IF(AH70=1,"A total is not equal to the sum of its components: ",AH70&" totals are not equal to the sum of their components: "))&IF(AH70=0,"",IF(H70-SUM(C70:G70)=0,"","Total (column F). ")&IF(AF70-SUM(I70:L70,O70:Q70,T70,W70,Z70,AD70:AE70)=0,"","Total products. ")&IF(AG70-SUM(AF70,H70)=0,"","Total oil.")) | AS70: HN | AT70: HONDURAS | DU70: IMPORTS | DV70: _Z | DW70: _Z | DX70: _Z | DY70: _Z | DZ70: _Z | EA70: HN | EB70: WEIGHT | EC70: _Z | ED70: KT
A71: Hong Kong, China | B71: 64 | C71: 0 | D71: 0 | E71: 0 | F71: 0 | G71: 0 | H71: =ROUND(SUM(C71:G71),3) -> 0 | I71: 0 | J71: 0 | K71: 0 | L71: 0 | M71: 0 | N71: 0 | O71: 0 | P71: 0 | Q71: 0 | R71: 0 | S71: 0 | T71: 0 | U71: 0 | V71: 0 | W71: 0 | X71: 0 | Y71: 0 | Z71: 0 | AA71: 0 | AB71: 0 | AC71: 0 | AD71: 0 | AE71: 0.069 | AF71: =ROUND(SUM(I71:L71,O71:Q71,T71,W71,Z71,AD71:AE71),3) -> 0.069 | AG71: =ROUND(SUM(H71,AF71),3) -> 0.069 | AH71: =IF(ROUND(H71-SUM(C71:G71),3)=0,0,1)+IF(ROUND(AF71-SUM(I71:L71,O71:Q71,T71,W71,Z71,AD71:AE71),3)=0,0,1)+IF(ROUND(AG71-SUM(AF71,H71),3)=0,0,1) -> 0 | AI71: =IF(AH71=0," ",IF(AH71=1,"A total is not equal to the sum of its components: ",AH71&" totals are not equal to the sum of their components: "))&IF(AH71=0,"",IF(H71-SUM(C71:G71)=0,"","Total (column F). ")&IF(AF71-SUM(I71:L71,O71:Q71,T71,W71,Z71,AD71:AE71)=0,"","Total products. ")&IF(AG71-SUM(AF71,H71)=0,"","Total oil.")) | AS71: HK | AT71: HONGKONG | DU71: IMPORTS | DV71: _Z | DW71: _Z | DX71: _Z | DY71: _Z | DZ71: _Z | EA71: HK | EB71: WEIGHT | EC71: _Z | ED71: KT
A72: Hungary | B72: 65 | C72: 0 | D72: 0 | E72: 0 | F72: 0.001 | G72: 0 | H72: =ROUND(SUM(C72:G72),3) -> 0.001 | I72: 0 | J72: 0 | K72: 0.155 | L72: 0.044 | M72: 0 | N72: 0.044 | O72: 0 | P72: 0 | Q72: 0 | R72: 0 | S72: 0 | T72: 0 | U72: 0 | V72: 0 | W72: 0 | X72: 0 | Y72: 0 | Z72: 0 | AA72: 0 | AB72: 0 | AC72: 0 | AD72: 0 | AE72: 0.847 | AF72: =ROUND(SUM(I72:L72,O72:Q72,T72,W72,Z72,AD72:AE72),3) -> 1.046 | AG72: =ROUND(SUM(H72,AF72),3) -> 1.047 | AH72: =IF(ROUND(H72-SUM(C72:G72),3)=0,0,1)+IF(ROUND(AF72-SUM(I72:L72,O72:Q72,T72,W72,Z72,AD72:AE72),3)=0,0,1)+IF(ROUND(AG72-SUM(AF72,H72),3)=0,0,1) -> 0 | AI72: =IF(AH72=0," ",IF(AH72=1,"A total is not equal to the sum of its components: ",AH72&" totals are not equal to the sum of their components: "))&IF(AH72=0,"",IF(H72-SUM(C72:G72)=0,"","Total (column F). ")&IF(AF72-SUM(I72:L72,O72:Q72,T72,W72,Z72,AD72:AE72)=0,"","Total products. ")&IF(AG72-SUM(AF72,H72)=0,"","Total oil.")) | AS72: HU | AT72: HUNGARY | DU72: IMPORTS | DV72: _Z | DW72: _Z | DX72: _Z | DY72: _Z | DZ72: _Z | EA72: HU | EB72: WEIGHT | EC72: _Z | ED72: KT
A73: Iceland | B73: 66 | C73: 0 | D73: 0 | E73: 0 | F73: 0 | G73: 0 | H73: =ROUND(SUM(C73:G73),3) -> 0 | I73: 0 | J73: 0 | K73: 0 | L73: 0 | M73: 0 | N73: 0 | O73: 0 | P73: 0 | Q73: 0 | R73: 0 | S73: 0 | T73: 0 | U73: 0 | V73: 0 | W73: 0 | X73: 0 | Y73: 0 | Z73: 0 | AA73: 0 | AB73: 0 | AC73: 0 | AD73: 1.594 | AE73: 0.477 | AF73: =ROUND(SUM(I73:L73,O73:Q73,T73,W73,Z73,AD73:AE73),3) -> 2.071 | AG73: =ROUND(SUM(H73,AF73),3) -> 2.071 | AH73: =IF(ROUND(H73-SUM(C73:G73),3)=0,0,1)+IF(ROUND(AF73-SUM(I73:L73,O73:Q73,T73,W73,Z73,AD73:AE73),3)=0,0,1)+IF(ROUND(AG73-SUM(AF73,H73),3)=0,0,1) -> 0 | AI73: =IF(AH73=0," ",IF(AH73=1,"A total is not equal to the sum of its components: ",AH73&" totals are not equal to the sum of their components: "))&IF(AH73=0,"",IF(H73-SUM(C73:G73)=0,"","Total (column F). ")&IF(AF73-SUM(I73:L73,O73:Q73,T73,W73,Z73,AD73:AE73)=0,"","Total products. ")&IF(AG73-SUM(AF73,H73)=0,"","Total oil.")) | AS73: IS | AT73: ICELAND | DU73: IMPORTS | DV73: _Z | DW73: _Z | DX73: _Z | DY73: _Z | DZ73: _Z | EA73: IS | EB73: WEIGHT | EC73: _Z | ED73: KT
A74: India | B74: 67 | C74: 0 | D74: 0 | E74: 0 | F74: 0.022 | G74: 0 | H74: =ROUND(SUM(C74:G74),3) -> 0.022 | I74: 0 | J74: 0.003 | K74: 0.133 | L74: 0.038 | M74: 0 | N74: 0.038 | O74: 0 | P74: 0 | Q74: 0 | R74: 0 | S74: 0 | T74: 0 | U74: 0 | V74: 0 | W74: 0 | X74: 0 | Y74: 0 | Z74: 0 | AA74: 0 | AB74: 0 | AC74: 0 | AD74: 0 | AE74: 2.106 | AF74: =ROUND(SUM(I74:L74,O74:Q74,T74,W74,Z74,AD74:AE74),3) -> 2.28 | AG74: =ROUND(SUM(H74,AF74),3) -> 2.302 | AH74: =IF(ROUND(H74-SUM(C74:G74),3)=0,0,1)+IF(ROUND(AF74-SUM(I74:L74,O74:Q74,T74,W74,Z74,AD74:AE74),3)=0,0,1)+IF(ROUND(AG74-SUM(AF74,H74),3)=0,0,1) -> 0 | AI74: =IF(AH74=0," ",IF(AH74=1,"A total is not equal to the sum of its components: ",AH74&" totals are not equal to the sum of their components: "))&IF(AH74=0,"",IF(H74-SUM(C74:G74)=0,"","Total (column F). ")&IF(AF74-SUM(I74:L74,O74:Q74,T74,W74,Z74,AD74:AE74)=0,"","Total products. ")&IF(AG74-SUM(AF74,H74)=0,"","Total oil.")) | AS74: IN | AT74: INDIA | DU74: IMPORTS | DV74: _Z | DW74: _Z | DX74: _Z | DY74: _Z | DZ74: _Z | EA74: IN | EB74: WEIGHT | EC74: _Z | ED74: KT
A75: Indonesia | B75: 68 | C75: 0 | D75: 0 | E75: 0 | F75: 0 | G75: 0 | H75: =ROUND(SUM(C75:G75),3) -> 0 | I75: 0 | J75: 0 | K75: 0 | L75: 0 | M75: 0 | N75: 0 | O75: 0 | P75: 0 | Q75: 0 | R75: 0 | S75: 0 | T75: 0 | U75: 0 | V75: 0 | W75: 0 | X75: 0 | Y75: 0 | Z75: 0 | AA75: 0 | AB75: 0 | AC75: 0 | AD75: 0 | AE75: 0.632 | AF75: =ROUND(SUM(I75:L75,O75:Q75,T75,W75,Z75,AD75:AE75),3) -> 0.632 | AG75: =ROUND(SUM(H75,AF75),3) -> 0.632 | AH75: =IF(ROUND(H75-SUM(C75:G75),3)=0,0,1)+IF(ROUND(AF75-SUM(I75:L75,O75:Q75,T75,W75,Z75,AD75:AE75),3)=0,0,1)+IF(ROUND(AG75-SUM(AF75,H75),3)=0,0,1) -> 0 | AI75: =IF(AH75=0," ",IF(AH75=1,"A total is not equal to the sum of its components: ",AH75&" totals are not equal to the sum of their components: "))&IF(AH75=0,"",IF(H75-SUM(C75:G75)=0,"","Total (column F). ")&IF(AF75-SUM(I75:L75,O75:Q75,T75,W75,Z75,AD75:AE75)=0,"","Total products. ")&IF(AG75-SUM(AF75,H75)=0,"","Total oil.")) | AS75: ID | AT75: INDONESIA | DU75: IMPORTS | DV75: _Z | DW75: _Z | DX75: _Z | DY75: _Z | DZ75: _Z | EA75: ID | EB75: WEIGHT | EC75: _Z | ED75: KT
A76: Iran, Islamic Republic of | B76: 69 | C76: 0 | D76: 0 | E76: 0 | F76: 0 | G76: 0 | H76: =ROUND(SUM(C76:G76),3) -> 0 | I76: 0 | J76: 0 | K76: 0 | L76: 0 | M76: 0 | N76: 0 | O76: 0 | P76: 0 | Q76: 0 | R76: 0 | S76: 0 | T76: 0 | U76: 0 | V76: 0 | W76: 0 | X76: 0 | Y76: 0 | Z76: 0 | AA76: 0 | AB76: 0 | AC76: 0 | AD76: 0 | AE76: 0 | AF76: =ROUND(SUM(I76:L76,O76:Q76,T76,W76,Z76,AD76:AE76),3) -> 0 | AG76: =ROUND(SUM(H76,AF76),3) -> 0 | AH76: =IF(ROUND(H76-SUM(C76:G76),3)=0,0,1)+IF(ROUND(AF76-SUM(I76:L76,O76:Q76,T76,W76,Z76,AD76:AE76),3)=0,0,1)+IF(ROUND(AG76-SUM(AF76,H76),3)=0,0,1) -> 0 | AI76: =IF(AH76=0," ",IF(AH76=1,"A total is not equal to the sum of its components: ",AH76&" totals are not equal to the sum of their components: "))&IF(AH76=0,"",IF(H76-SUM(C76:G76)=0,"","Total (column F). ")&IF(AF76-SUM(I76:L76,O76:Q76,T76,W76,Z76,AD76:AE76)=0,"","Total products. ")&IF(AG76-SUM(AF76,H76)=0,"","Total oil.")) | AS76: IR | AT76: IRAN | DU76: IMPORTS | DV76: _Z | DW76: _Z | DX76: _Z | DY76: _Z | DZ76: _Z | EA76: IR | EB76: WEIGHT | EC76: _Z | ED76: KT
A77: Iraq | B77: 70 | C77: 77.514 | D77: 0 | E77: 0 | F77: 0 | G77: 0 | H77: =ROUND(SUM(C77:G77),3) -> 77.514 | I77: 0 | J77: 0 | K77: 0 | L77: 0 | M77: 0 | N77: 0 | O77: 0 | P77: 0 | Q77: 0 | R77: 0 | S77: 0 | T77: 0 | U77: 0 | V77: 0 | W77: 0 | X77: 0 | Y77: 0 | Z77: 0 | AA77: 0 | AB77: 0 | AC77: 0 | AD77: 0 | AE77: 0 | AF77: =ROUND(SUM(I77:L77,O77:Q77,T77,W77,Z77,AD77:AE77),3) -> 0 | AG77: =ROUND(SUM(H77,AF77),3) -> 77.514 | AH77: =IF(ROUND(H77-SUM(C77:G77),3)=0,0,1)+IF(ROUND(AF77-SUM(I77:L77,O77:Q77,T77,W77,Z77,AD77:AE77),3)=0,0,1)+IF(ROUND(AG77-SUM(AF77,H77),3)=0,0,1) -> 0 | AI77: =IF(AH77=0," ",IF(AH77=1,"A total is not equal to the sum of its components: ",AH77&" totals are not equal to the sum of their components: "))&IF(AH77=0,"",IF(H77-SUM(C77:G77)=0,"","Total (column F). ")&IF(AF77-SUM(I77:L77,O77:Q77,T77,W77,Z77,AD77:AE77)=0,"","Total products. ")&IF(AG77-SUM(AF77,H77)=0,"","Total oil.")) | AS77: IQ | AT77: IRAQ | DU77: IMPORTS | DV77: _Z | DW77: _Z | DX77: _Z | DY77: _Z | DZ77: _Z | EA77: IQ | EB77: WEIGHT | EC77: _Z | ED77: KT
A78: Ireland | B78: 71 | C78: 0 | D78: 0 | E78: 0 | F78: 0 | G78: 0 | H78: =ROUND(SUM(C78:G78),3) -> 0 | I78: 0 | J78: 0.004 | K78: 18.109 | L78: 5.112 | M78: 0 | N78: 5.112 | O78: 0 | P78: 0 | Q78: 0 | R78: 0 | S78: 0 | T78: 0 | U78: 0 | V78: 0.001 | W78: 0.001 | X78: 0 | Y78: 0.001 | Z78: 5.349 | AA78: 2.278 | AB78: 0 | AC78: 3.071 | AD78: 0 | AE78: 1.49 | AF78: =ROUND(SUM(I78:L78,O78:Q78,T78,W78,Z78,AD78:AE78),3) -> 30.065 | AG78: =ROUND(SUM(H78,AF78),3) -> 30.065 | AH78: =IF(ROUND(H78-SUM(C78:G78),3)=0,0,1)+IF(ROUND(AF78-SUM(I78:L78,O78:Q78,T78,W78,Z78,AD78:AE78),3)=0,0,1)+IF(ROUND(AG78-SUM(AF78,H78),3)=0,0,1) -> 0 | AI78: =IF(AH78=0," ",IF(AH78=1,"A total is not equal to the sum of its components: ",AH78&" totals are not equal to the sum of their components: "))&IF(AH78=0,"",IF(H78-SUM(C78:G78)=0,"","Total (column F). ")&IF(AF78-SUM(I78:L78,O78:Q78,T78,W78,Z78,AD78:AE78)=0,"","Total products. ")&IF(AG78-SUM(AF78,H78)=0,"","Total oil.")) | AS78: IE | AT78: IRELAND | DU78: IMPORTS | DV78: _Z | DW78: _Z | DX78: _Z | DY78: _Z | DZ78: _Z | EA78: IE | EB78: WEIGHT | EC78: _Z | ED78: KT
A79: Israel | B79: 72 | C79: 0 | D79: 142.272 | E79: 0 | F79: 0.047 | G79: 0 | H79: =ROUND(SUM(C79:G79),3) -> 142.319 | I79: 0 | J79: 0 | K79: 0 | L79: 0 | M79: 0 | N79: 0 | O79: 0 | P79: 0 | Q79: 0 | R79: 0 | S79: 0 | T79: 0 | U79: 0 | V79: 0 | W79: 0 | X79: 0 | Y79: 0 | Z79: 0 | AA79: 0 | AB79: 0 | AC79: 0 | AD79: 0 | AE79: 0.171 | AF79: =ROUND(SUM(I79:L79,O79:Q79,T79,W79,Z79,AD79:AE79),3) -> 0.171 | AG79: =ROUND(SUM(H79,AF79),3) -> 142.49 | AH79: =IF(ROUND(H79-SUM(C79:G79),3)=0,0,1)+IF(ROUND(AF79-SUM(I79:L79,O79:Q79,T79,W79,Z79,AD79:AE79),3)=0,0,1)+IF(ROUND(AG79-SUM(AF79,H79),3)=0,0,1) -> 0 | AI79: =IF(AH79=0," ",IF(AH79=1,"A total is not equal to the sum of its components: ",AH79&" totals are not equal to the sum of their components: "))&IF(AH79=0,"",IF(H79-SUM(C79:G79)=0,"","Total (column F). ")&IF(AF79-SUM(I79:L79,O79:Q79,T79,W79,Z79,AD79:AE79)=0,"","Total products. ")&IF(AG79-SUM(AF79,H79)=0,"","Total oil.")) | AS79: IL | AT79: ISRAEL | DU79: IMPORTS | DV79: _Z | DW79: _Z | DX79: _Z | DY79: _Z | DZ79: _Z | EA79: IL | EB79: WEIGHT | EC79: _Z | ED79: KT
A80: Italy | B80: 73 | C80: 0 | D80: 0 | E80: 0 | F80: 0.479 | G80: 0 | H80: =ROUND(SUM(C80:G80),3) -> 0.479 | I80: 0 | J80: 0 | K80: 88.012 | L80: 24.843 | M80: 0 | N80: 24.843 | O80: 0 | P80: 0 | Q80: 0 | R80: 0 | S80: 0 | T80: 0 | U80: 0 | V80: 0 | W80: 0 | X80: 0 | Y80: 0 | Z80: 76.288 | AA80: 32.488 | AB80: 0 | AC80: 43.8 | AD80: 0 | AE80: 72.89 | AF80: =ROUND(SUM(I80:L80,O80:Q80,T80,W80,Z80,AD80:AE80),3) -> 262.033 | AG80: =ROUND(SUM(H80,AF80),3) -> 262.512 | AH80: =IF(ROUND(H80-SUM(C80:G80),3)=0,0,1)+IF(ROUND(AF80-SUM(I80:L80,O80:Q80,T80,W80,Z80,AD80:AE80),3)=0,0,1)+IF(ROUND(AG80-SUM(AF80,H80),3)=0,0,1) -> 0 | AI80: =IF(AH80=0," ",IF(AH80=1,"A total is not equal to the sum of its components: ",AH80&" totals are not equal to the sum of their components: "))&IF(AH80=0,"",IF(H80-SUM(C80:G80)=0,"","Total (column F). ")&IF(AF80-SUM(I80:L80,O80:Q80,T80,W80,Z80,AD80:AE80)=0,"","Total products. ")&IF(AG80-SUM(AF80,H80)=0,"","Total oil.")) | AS80: IT | AT80: ITALY | DU80: IMPORTS | DV80: _Z | DW80: _Z | DX80: _Z | DY80: _Z | DZ80: _Z | EA80: IT | EB80: WEIGHT | EC80: _Z | ED80: KT
A81: Jamaica | B81: 74 | C81: 0 | D81: 0 | E81: 0 | F81: 0 | G81: 0 | H81: =ROUND(SUM(C81:G81),3) -> 0 | I81: 0 | J81: 0 | K81: 0 | L81: 0 | M81: 0 | N81: 0 | O81: 0 | P81: 0 | Q81: 0 | R81: 0 | S81: 0 | T81: 0 | U81: 0 | V81: 0 | W81: 0 | X81: 0 | Y81: 0 | Z81: 0 | AA81: 0 | AB81: 0 | AC81: 0 | AD81: 0 | AE81: 0 | AF81: =ROUND(SUM(I81:L81,O81:Q81,T81,W81,Z81,AD81:AE81),3) -> 0 | AG81: =ROUND(SUM(H81,AF81),3) -> 0 | AH81: =IF(ROUND(H81-SUM(C81:G81),3)=0,0,1)+IF(ROUND(AF81-SUM(I81:L81,O81:Q81,T81,W81,Z81,AD81:AE81),3)=0,0,1)+IF(ROUND(AG81-SUM(AF81,H81),3)=0,0,1) -> 0 | AI81: =IF(AH81=0," ",IF(AH81=1,"A total is not equal to the sum of its components: ",AH81&" totals are not equal to the sum of their components: "))&IF(AH81=0,"",IF(H81-SUM(C81:G81)=0,"","Total (column F). ")&IF(AF81-SUM(I81:L81,O81:Q81,T81,W81,Z81,AD81:AE81)=0,"","Total products. ")&IF(AG81-SUM(AF81,H81)=0,"","Total oil.")) | AS81: JM | AT81: JAMAICA | DU81: IMPORTS | DV81: _Z | DW81: _Z | DX81: _Z | DY81: _Z | DZ81: _Z | EA81: JM | EB81: WEIGHT | EC81: _Z | ED81: KT
... A173: Not elsewhere specified | B173: 166 | C173: 0 | D173: 0 | E173: 0 | F173: 0 | G173: 0 | H173: =ROUND(SUM(C173:G173),3) -> 0 | I173: 0 | J173: 0 | K173: 0 | L173: 0 | M173: 0 | N173: 0 | O173: 0 | P173: 0 | Q173: 0 | R173: 0 | S173: 0 | T173: 0 | U173: 0 | V173: 0 | W173: 0 | X173: 0 | Y173: 0 | Z173: 0 | AA173: 0 | AB173: 0 | AC173: 0 | AD173: 0 | AE173: 0 | AF173: =ROUND(SUM(I173:L173,O173:Q173,T173,W173,Z173,AD173:AE173),3) -> 0 | AG173: =ROUND(SUM(H173,AF173),3) -> 0 | AH173: =IF(ROUND(H173-SUM(C173:G173),3)=0,0,1)+IF(ROUND(AF173-SUM(I173:L173,O173:Q173,T173,W173,Z173,AD173:AE173),3)=0,0,1)+IF(ROUND(AG173-SUM(AF173,H173),3)=0,0,1) -> 0 | AI173: =IF(AH173=0," ",IF(AH173=1,"A total is not equal to the sum of its components: ",AH173&" totals are not equal to the sum of their components: "))&IF(AH173=0,"",IF(H173-SUM(C173:G173)=0,"","Total (column F). ")&IF(AF173-SUM(I173:L173,O173:Q173,T173,W173,Z173,AD173:AE173)=0,"","Total products. ")&IF(AG173-SUM(AF173,H173)=0,"","Total oil.")) | AS173: Y3 | AT173: NONSPEC | DU173: IMPORTS | DV173: _Z | DW173: _Z | DX173: _Z | DY173: _Z | DZ173: _Z | EA173: _X | EB173: WEIGHT | EC173: _Z | ED173: KT
A174: Total Imports1 2 | B174: 167 | C174: =ROUND(SUM(C6:C173),3) -> 4422.603 | D174: =ROUND(SUM(D6:D173),3) -> 686.364 | E174: =ROUND(SUM(E6:E173),3) -> 0 | F174: =ROUND(SUM(F6:F173),3) -> 204.592 | G174: =ROUND(SUM(G6:G173),3) -> 0 | H174: =ROUND(SUM(H6:H173),3) -> 5313.559 | I174: =ROUND(SUM(I6:I173),3) -> 0 | J174: =ROUND(SUM(J6:J173),3) -> 408.97 | ... AG174: =ROUND(SUM(AG6:AG173),3) -> 13008.214 | AH174: =IF(ROUND(H174-SUM(C174:G174),3)=0,0,1)+IF(ROUND(AF174-SUM(I174:L174,O174:Q174,T174,W174,Z174,AD174:AE174),3)=0,0,1)+IF(ROUND(AG174-SUM(AF174,H174),3)=0,0,1) -> 0 | AI174: =IF(AH174=0," ",IF(AH174=1,"A total is not equal to the sum of its components: ",AH174&" totals are not equal to the sum of their components: "))&IF(AH174=0,"",IF(H174-SUM(C174:G174)=0,"","Total (column F). ")&IF(AF174-SUM(I174:L174,O174:Q174,T174,W174,Z174,AD174:AE174)=0,"","Total products. ")&IF(AG174-SUM(AF174,H174)=0,"","Total oil.")) | AS174: Y2 | AT174: TOTIMPST | DU174: IMPORTS | DV174: _Z | DW174: _Z | DX174: _Z | DY174: _Z | DZ174: _Z | EA174: _T | EB174: WEIGHT | EC174: _Z | ED174: KT
C175: =IF(MIN(C8:C174)<0,"Negative number","") | D175: =IF(MIN(D8:D174)<0,"Negative number","") | E175: =IF(MIN(E8:E174)<0,"Negative number","") | F175: =IF(MIN(F8:F174)<0,"Negative number","") | G175: =IF(MIN(G8:G174)<0,"Negative number","") | H175: =IF(MIN(H8:H174)<0,"Negative number","") | I175: =IF(MIN(I8:I174)<0,"Negative number","") | J175: =IF(MIN(J8:J174)<0,"Negative number","") | ... AA175: =IF(MIN(AA8:AA174)<0,"Negative number","") | AC175: =IF(MIN(AC8:AC174)<0,"Negative number","") | AD175: =IF(MIN(AD8:AD174)<0,"Negative number","") | AE175: =IF(MIN(AE8:AE174)<0,"Negative number","") | AF175: =IF(MIN(AF8:AF174)<0,"Negative number","") | AG175: =IF(MIN(AG8:AG174)<0,"Negative number","")
A177: 1. Total Imports of Total (F165) should be equal to Imports (Balance) of Total in Table 1 (G5) | H177: =ROUND(H174-'Table 1'!J18,3) -> 0.004 | I177: =IF(H177=0,"OK","Total Imports of Total is not equal to Imports (Balance) of Total in Table 1.") -> Total Imports of Total is not equal to Imports (Balance) of Total in Table 1.
A178: and Total Imports of Total products (AC165) should be equal to Imports (Balance) of Total products in Table 2 (Z5). | H178: =ROUND(AF174-'Table 2'!AD12,3) -> 0.28 | I178: =IF(H178=0,"OK","Total Imports of Total products is not equal to Imports (Balance) for Total products in Table 2.") -> Total Imports of Total products is not equal to Imports (Balance) for Total products in Table 2.
A179: 2. Total Imports should be equal to the sum of its components for Total (column F) | H179: =ROUND(H174-SUM(H8:H173),3) -> 0 | I179: =IF(H179=0,"OK","Total Imports is not equal to the sum of its components for Total (column F).") -> OK
A180: and for Total products (column AC). | H180: =ROUND(AF174-SUM(AF8:AF173),3) -> 0 | I180: =IF(H180=0,"OK","Total Imports is not equal to the sum of its components for Total products.") -> OK
A181: 3. Trade with itself is not allowed | H181: =IF(MAX(IFERROR(OFFSET(C7,MATCH(CountryCode,$AT$8:$AT$173,0),0,1,30),0))>0,1,0)+IF(CountryCode=Param!$D$67,MAX(C167:AE167),0) -> 0 | I181: =IF(H181=0,"OK","Country is reporting imports to itself") -> OK
A183: * This designation is without prejudice to positions on status, and is line with UNSCR 1244 and the ICJ Opinion on the Kosovo declaration of independence.
A192: Products è | C192: CRUDEOIL | D192: NGL | E192: REFFEEDS | F192: ADDITIVE | G192: NONCRUDE | H192: CRNGFEED | I192: ETHANE | J192: LPG | K192: NAPHTHA | L192: MOTORGAS | M192: BIOGASOL | N192: NONBIOGASO | O192: AVGAS | P192: JETGAS | Q192: JETKERO | R192: BIOJETKERO | S192: NONBIOJETK | T192: OTHKERO | U192: DIESEL | V192: HEATOIL | W192: GASDIES | X192: BIODIESEL | Y192: NONBIODIES | Z192: RESFUEL | AA192: LOWSULF | AB192: VLOWSULF | AC192: HIGHSULF | AD192: PETCOKE | AE192: OPRODS | AF192: TOTPRODS | AG192: TOTALOIL
A1000: ENERGY_PRODUCT | C1000: O4100 | D1000: O4200 | E1000: O4300 | F1000: O4400 | G1000: O4500 | H1000: O4A00 | I1000: O4620 | J1000: O4630 | K1000: O4640 | L1000: O4652 | M1000: R5212 | N1000: O4657 | O1000: O4651 | P1000: O4653 | Q1000: O4661 | R1000: R5232 | S1000: O4667 | T1000: O4669 | U1000: O4678 | V1000: O4679 | W1000: O4671 | X1000: R5222 | Y1000: O4677 | Z1000: O4680 | AA1000: O4681 | AB1000: O46811 | AC1000: O4682 | AD1000: O4694 | AE1000: O4690XO4694 | AF1000: O4600 | AG1000: O4000

Sheet Table 4
A1: MONTHLY OIL QUESTIONNAIRE
A2: =IF('Table 1'!D2=0,"",'Table 1'!D2) -> Netherlands
A3: =IF('Table 1'!D3=0,"",'Table 1'!D3 & " " & QuestYear) -> September 2026 | AT3: Datatype
A4: Table 4: EXPORTS BY DESTINATION | AG4: Unit: Thousand Metric Tons | AT4: EXPORTS
C5: Crude oil | D5: Natural gas liquids | E5: Refinery feedstocks | F5: Additives / oxygenates | G5: Other hydro-carbons | H5: Total (A to E) | I5: Ethane | J5: LPG | K5: Naphtha | L5: Total motor gasoline | O5: Aviation gasoline | P5: Gasoline type jet fuel | Q5: Total kerosene type jet fuel | T5: Other kerosene | W5: Total gas/diesel oil | Z5: Total fuel oil | AD5: Petroleum coke | AE5: Other products | AF5: Total products | AG5: Total oil | AI5: Probate
M6: Biogasoline | N6: Non-biogasoline | R6: Bio jet kerosene | S6: Non-bio jet kerosene | U6: Road diesel | V6: Heating and other gas oil | X6: Biodiesels | Y6: Non-bio gas/diesel oil | AA6: Fuel oil- low sulphur (<1%) | AB6: Of which: Fuel oil- very low sulphur (<0.5%) | AC6: Fuel oil- high sulphur (>=1%) | DS6: *** DSD codes ***
C7: A | D7: B | E7: C | F7: D | G7: E | H7: F | I7: G | J7: H | K7: I | L7: J | M7: K | N7: L | O7: M | P7: N | Q7: O | R7: P | S7: Q | T7: R | U7: S | V7: T | W7: U | X7: V | Y7: W | Z7: X | AA7: Y | AB7: Z | AC7: AA | AD7: AB | AE7: AC | AF7: AD | AG7: AE | AI7: AF | AS7: Item1 ê | DS7: REF_AREA | DT7: ENERGY_PRODUCT | DU7: MAIN_FLOW | DV7: FLOW_BREAKDOWN | DW7: PLANT_TECH | DX7: PLANT_TYPE | DY7: STOCKS | DZ7: INFRASTRUCTURE_IND | EA7: VIS_A_VIS_AREA | EB7: MEASURE_VALUE_TYPE | EC7: FACILITY_ID | ED7: UNIT_MEASURE | EE7: TIME_PERIOD
A8: Albania | B8: 1 | C8: 0 | D8: 0 | E8: 0 | F8: 0 | G8: 0 | H8: =ROUND(SUM(C8:G8),3) -> 0 | I8: 0 | J8: 0 | K8: 3.665 | L8: 5.677 | M8: 0 | N8: 5.677 | O8: 0 | P8: 0 | Q8: 0 | R8: 0 | S8: 0 | T8: 0 | U8: 0 | V8: 0 | W8: 0 | X8: 0 | Y8: 0 | Z8: 0 | AA8: 0 | AB8: 0 | AC8: 0 | AD8: 0 | AE8: 0.029 | AF8: =ROUND(SUM(I8:K8,L8,O8:Q8,T8,W8,Z8,AD8:AE8),3) -> 9.371 | AG8: =ROUND(SUM(H8,AF8),3) -> 9.371 | AH8: =IF(ROUND(H8-SUM(C8:G8),3)=0,0,1)+IF(ROUND(AF8-SUM(I8:L8,O8:Q8,T8,W8,Z8,AD8:AE8),3)=0,0,1)+IF(ROUND(AG8-SUM(AF8,H8),3)=0,0,1) -> 0 | AI8: =IF(AH8=0," ",IF(AH8=1,"A total is not equal to the sum of its components: ",AH8&" totals are not equal to the sum of their components: "))&IF(AH8=0,"",IF(H8-SUM(C8:G8)=0,"","Total (column F). ")&IF(AF8-SUM(I8:L8,O8:Q8,T8,W8,Z8,AD8:AE8)=0,"","Total products. ")&IF(AG8-SUM(AF8,H8)=0,"","Total oil.")) | AS8: AL | AT8: ALBANIA | DS8: =VLOOKUP(CountryUser, Param!$C$9:$E$67, 3, 0) -> NL | DT8: Row 1000 | DU8: EXPORTS | DV8: _Z | DW8: _Z | DX8: _Z | DY8: _Z | DZ8: _Z | EA8: AL | EB8: WEIGHT | EC8: _Z | ED8: KT | EE8: =QuestYear&"-"&TEXT(MATCH(FirstMonth, Param!C71:C82,0), "00") -> 2026-09
A9: Algeria | B9: 2 | C9: 0 | D9: 0 | E9: 0 | F9: 0 | G9: 0 | H9: =ROUND(SUM(C9:G9),3) -> 0 | I9: 0 | J9: 0 | K9: 0 | L9: 0 | M9: 0 | N9: 0 | O9: 0 | P9: 0 | Q9: 0 | R9: 0 | S9: 0 | T9: 0 | U9: 0 | V9: 0 | W9: 0 | X9: 0 | Y9: 0 | Z9: 0 | AA9: 0 | AB9: 0 | AC9: 0 | AD9: 0 | AE9: 0.078 | AF9: =ROUND(SUM(I9:K9,L9,O9:Q9,T9,W9,Z9,AD9:AE9),3) -> 0.078 | AG9: =ROUND(SUM(H9,AF9),3) -> 0.078 | AH9: =IF(ROUND(H9-SUM(C9:G9),3)=0,0,1)+IF(ROUND(AF9-SUM(I9:L9,O9:Q9,T9,W9,Z9,AD9:AE9),3)=0,0,1)+IF(ROUND(AG9-SUM(AF9,H9),3)=0,0,1) -> 0 | AI9: =IF(AH9=0," ",IF(AH9=1,"A total is not equal to the sum of its components: ",AH9&" totals are not equal to the sum of their components: "))&IF(AH9=0,"",IF(H9-SUM(C9:G9)=0,"","Total (column F). ")&IF(AF9-SUM(I9:L9,O9:Q9,T9,W9,Z9,AD9:AE9)=0,"","Total products. ")&IF(AG9-SUM(AF9,H9)=0,"","Total oil.")) | AS9: DZ | AT9: ALGERIA | DU9: EXPORTS | DV9: _Z | DW9: _Z | DX9: _Z | DY9: _Z | DZ9: _Z | EA9: DZ | EB9: WEIGHT | EC9: _Z | ED9: KT
A10: Andorra | B10: 3 | C10: 0 | D10: 0 | E10: 0 | F10: 0 | G10: 0 | H10: =ROUND(SUM(C10:G10),3) -> 0 | I10: 0 | J10: 0 | K10: 0 | L10: 0 | M10: 0 | N10: 0 | O10: 0 | P10: 0 | Q10: 0 | R10: 0 | S10: 0 | T10: 0 | U10: 0 | V10: 0 | W10: 0 | X10: 0 | Y10: 0 | Z10: 0 | AA10: 0 | AB10: 0 | AC10: 0 | AD10: 0 | AE10: 0 | AF10: =ROUND(SUM(I10:K10,L10,O10:Q10,T10,W10,Z10,AD10:AE10),3) -> 0 | AG10: =ROUND(SUM(H10,AF10),3) -> 0 | AH10: =IF(ROUND(H10-SUM(C10:G10),3)=0,0,1)+IF(ROUND(AF10-SUM(I10:L10,O10:Q10,T10,W10,Z10,AD10:AE10),3)=0,0,1)+IF(ROUND(AG10-SUM(AF10,H10),3)=0,0,1) -> 0 | AI10: =IF(AH10=0," ",IF(AH10=1,"A total is not equal to the sum of its components: ",AH10&" totals are not equal to the sum of their components: "))&IF(AH10=0,"",IF(H10-SUM(C10:G10)=0,"","Total (column F). ")&IF(AF10-SUM(I10:L10,O10:Q10,T10,W10,Z10,AD10:AE10)=0,"","Total products. ")&IF(AG10-SUM(AF10,H10)=0,"","Total oil.")) | AS10: AD | AT10: ANDORRA | DU10: EXPORTS | DV10: _Z | DW10: _Z | DX10: _Z | DY10: _Z | DZ10: _Z | EA10: AD | EB10: WEIGHT | EC10: _Z | ED10: KT
A11: Angola | B11: 4 | C11: 0 | D11: 0 | E11: 0 | F11: 0 | G11: 0 | H11: =ROUND(SUM(C11:G11),3) -> 0 | I11: 0 | J11: 0 | K11: 76.481 | L11: 118.464 | M11: 0 | N11: 118.464 | O11: 0 | P11: 0 | Q11: 0 | R11: 0 | S11: 0 | T11: 0 | U11: 0 | V11: 0 | W11: 0 | X11: 0 | Y11: 0 | Z11: 0 | AA11: 0 | AB11: 0 | AC11: 0 | AD11: 0 | AE11: 0.368 | AF11: =ROUND(SUM(I11:K11,L11,O11:Q11,T11,W11,Z11,AD11:AE11),3) -> 195.313 | AG11: =ROUND(SUM(H11,AF11),3) -> 195.313 | AH11: =IF(ROUND(H11-SUM(C11:G11),3)=0,0,1)+IF(ROUND(AF11-SUM(I11:L11,O11:Q11,T11,W11,Z11,AD11:AE11),3)=0,0,1)+IF(ROUND(AG11-SUM(AF11,H11),3)=0,0,1) -> 0 | AI11: =IF(AH11=0," ",IF(AH11=1,"A total is not equal to the sum of its components: ",AH11&" totals are not equal to the sum of their components: "))&IF(AH11=0,"",IF(H11-SUM(C11:G11)=0,"","Total (column F). ")&IF(AF11-SUM(I11:L11,O11:Q11,T11,W11,Z11,AD11:AE11)=0,"","Total products. ")&IF(AG11-SUM(AF11,H11)=0,"","Total oil.")) | AS11: AO | AT11: ANGOLA | DU11: EXPORTS | DV11: _Z | DW11: _Z | DX11: _Z | DY11: _Z | DZ11: _Z | EA11: AO | EB11: WEIGHT | EC11: _Z | ED11: KT
A12: Argentina | B12: 5 | C12: 0 | D12: 0 | E12: 0 | F12: 0 | G12: 0 | H12: =ROUND(SUM(C12:G12),3) -> 0 | I12: 0 | J12: 0 | K12: 0 | L12: 0 | M12: 0 | N12: 0 | O12: 0 | P12: 0 | Q12: 0.413 | R12: 0 | S12: 0.413 | T12: 0.036 | U12: 0 | V12: 0 | W12: 0 | X12: 0 | Y12: 0 | Z12: 0 | AA12: 0 | AB12: 0 | AC12: 0 | AD12: 0 | AE12: 0.18 | AF12: =ROUND(SUM(I12:K12,L12,O12:Q12,T12,W12,Z12,AD12:AE12),3) -> 0.629 | AG12: =ROUND(SUM(H12,AF12),3) -> 0.629 | AH12: =IF(ROUND(H12-SUM(C12:G12),3)=0,0,1)+IF(ROUND(AF12-SUM(I12:L12,O12:Q12,T12,W12,Z12,AD12:AE12),3)=0,0,1)+IF(ROUND(AG12-SUM(AF12,H12),3)=0,0,1) -> 0 | AI12: =IF(AH12=0," ",IF(AH12=1,"A total is not equal to the sum of its components: ",AH12&" totals are not equal to the sum of their components: "))&IF(AH12=0,"",IF(H12-SUM(C12:G12)=0,"","Total (column F). ")&IF(AF12-SUM(I12:L12,O12:Q12,T12,W12,Z12,AD12:AE12)=0,"","Total products. ")&IF(AG12-SUM(AF12,H12)=0,"","Total oil.")) | AS12: AR | AT12: ARGENTINA | DU12: EXPORTS | DV12: _Z | DW12: _Z | DX12: _Z | DY12: _Z | DZ12: _Z | EA12: AR | EB12: WEIGHT | EC12: _Z | ED12: KT
A13: Armenia | B13: 6 | C13: 0 | D13: 0 | E13: 0 | F13: 0 | G13: 0 | H13: =ROUND(SUM(C13:G13),3) -> 0 | I13: 0 | J13: 0 | K13: 0 | L13: 0 | M13: 0 | N13: 0 | O13: 0 | P13: 0 | Q13: 0 | R13: 0 | S13: 0 | T13: 0 | U13: 0 | V13: 0 | W13: 0 | X13: 0 | Y13: 0 | Z13: 0 | AA13: 0 | AB13: 0 | AC13: 0 | AD13: 0 | AE13: 0.134 | AF13: =ROUND(SUM(I13:K13,L13,O13:Q13,T13,W13,Z13,AD13:AE13),3) -> 0.134 | AG13: =ROUND(SUM(H13,AF13),3) -> 0.134 | AH13: =IF(ROUND(H13-SUM(C13:G13),3)=0,0,1)+IF(ROUND(AF13-SUM(I13:L13,O13:Q13,T13,W13,Z13,AD13:AE13),3)=0,0,1)+IF(ROUND(AG13-SUM(AF13,H13),3)=0,0,1) -> 0 | AI13: =IF(AH13=0," ",IF(AH13=1,"A total is not equal to the sum of its components: ",AH13&" totals are not equal to the sum of their components: "))&IF(AH13=0,"",IF(H13-SUM(C13:G13)=0,"","Total (column F). ")&IF(AF13-SUM(I13:L13,O13:Q13,T13,W13,Z13,AD13:AE13)=0,"","Total products. ")&IF(AG13-SUM(AF13,H13)=0,"","Total oil.")) | AS13: AM | AT13: ARMENIA | DU13: EXPORTS | DV13: _Z | DW13: _Z | DX13: _Z | DY13: _Z | DZ13: _Z | EA13: AM | EB13: WEIGHT | EC13: _Z | ED13: KT
A14: Aruba | B14: 7 | C14: 0 | D14: 0 | E14: 0 | F14: 0 | G14: 0 | H14: =ROUND(SUM(C14:G14),3) -> 0 | I14: 0 | J14: 0 | K14: 0 | L14: 0 | M14: 0 | N14: 0 | O14: 0 | P14: 0 | Q14: 0 | R14: 0 | S14: 0 | T14: 0 | U14: 0 | V14: 0 | W14: 0 | X14: 0 | Y14: 0 | Z14: 0 | AA14: 0 | AB14: 0 | AC14: 0 | AD14: 0 | AE14: 0.004 | AF14: =ROUND(SUM(I14:K14,L14,O14:Q14,T14,W14,Z14,AD14:AE14),3) -> 0.004 | AG14: =ROUND(SUM(H14,AF14),3) -> 0.004 | AH14: =IF(ROUND(H14-SUM(C14:G14),3)=0,0,1)+IF(ROUND(AF14-SUM(I14:L14,O14:Q14,T14,W14,Z14,AD14:AE14),3)=0,0,1)+IF(ROUND(AG14-SUM(AF14,H14),3)=0,0,1) -> 0 | AI14: =IF(AH14=0," ",IF(AH14=1,"A total is not equal to the sum of its components: ",AH14&" totals are not equal to the sum of their components: "))&IF(AH14=0,"",IF(H14-SUM(C14:G14)=0,"","Total (column F). ")&IF(AF14-SUM(I14:L14,O14:Q14,T14,W14,Z14,AD14:AE14)=0,"","Total products. ")&IF(AG14-SUM(AF14,H14)=0,"","Total oil.")) | AS14: AW | AT14: ARUBA | DU14: EXPORTS | DV14: _Z | DW14: _Z | DX14: _Z | DY14: _Z | DZ14: _Z | EA14: AW | EB14: WEIGHT | EC14: _Z | ED14: KT
A15: Australia | B15: 8 | C15: 0 | D15: 0 | E15: 0 | F15: 0.002 | G15: 0 | H15: =ROUND(SUM(C15:G15),3) -> 0.002 | I15: 0 | J15: 0 | K15: 0 | L15: 0 | M15: 0 | N15: 0 | O15: 0 | P15: 0 | Q15: 0 | R15: 0 | S15: 0 | T15: 0 | U15: 0 | V15: 0 | W15: 0 | X15: 0 | Y15: 0 | Z15: 0 | AA15: 0 | AB15: 0 | AC15: 0 | AD15: 0 | AE15: 0.34 | AF15: =ROUND(SUM(I15:K15,L15,O15:Q15,T15,W15,Z15,AD15:AE15),3) -> 0.34 | AG15: =ROUND(SUM(H15,AF15),3) -> 0.342 | AH15: =IF(ROUND(H15-SUM(C15:G15),3)=0,0,1)+IF(ROUND(AF15-SUM(I15:L15,O15:Q15,T15,W15,Z15,AD15:AE15),3)=0,0,1)+IF(ROUND(AG15-SUM(AF15,H15),3)=0,0,1) -> 0 | AI15: =IF(AH15=0," ",IF(AH15=1,"A total is not equal to the sum of its components: ",AH15&" totals are not equal to the sum of their components: "))&IF(AH15=0,"",IF(H15-SUM(C15:G15)=0,"","Total (column F). ")&IF(AF15-SUM(I15:L15,O15:Q15,T15,W15,Z15,AD15:AE15)=0,"","Total products. ")&IF(AG15-SUM(AF15,H15)=0,"","Total oil.")) | AS15: AU | AT15: AUSTRALI | DU15: EXPORTS | DV15: _Z | DW15: _Z | DX15: _Z | DY15: _Z | DZ15: _Z | EA15: AU | EB15: WEIGHT | EC15: _Z | ED15: KT
A16: Austria | B16: 9 | C16: 0 | D16: 0 | E16: 0 | F16: 2.575 | G16: 0 | H16: =ROUND(SUM(C16:G16),3) -> 2.575 | I16: 0 | J16: 0.018 | K16: 0.083 | L16: 0.128 | M16: 0 | N16: 0.128 | O16: 0 | P16: 0 | Q16: 0.011 | R16: 0 | S16: 0.011 | T16: 0.001 | U16: 1.481 | V16: 0.492 | W16: 1.973 | X16: 0.018 | Y16: 1.955 | Z16: 0 | AA16: 0 | AB16: 0 | AC16: 0 | AD16: 1.847 | AE16: 1.255 | AF16: =ROUND(SUM(I16:K16,L16,O16:Q16,T16,W16,Z16,AD16:AE16),3) -> 5.316 | AG16: =ROUND(SUM(H16,AF16),3) -> 7.891 | AH16: =IF(ROUND(H16-SUM(C16:G16),3)=0,0,1)+IF(ROUND(AF16-SUM(I16:L16,O16:Q16,T16,W16,Z16,AD16:AE16),3)=0,0,1)+IF(ROUND(AG16-SUM(AF16,H16),3)=0,0,1) -> 0 | AI16: =IF(AH16=0," ",IF(AH16=1,"A total is not equal to the sum of its components: ",AH16&" totals are not equal to the sum of their components: "))&IF(AH16=0,"",IF(H16-SUM(C16:G16)=0,"","Total (column F). ")&IF(AF16-SUM(I16:L16,O16:Q16,T16,W16,Z16,AD16:AE16)=0,"","Total products. ")&IF(AG16-SUM(AF16,H16)=0,"","Total oil.")) | AS16: AT | AT16: AUSTRIA | DU16: EXPORTS | DV16: _Z | DW16: _Z | DX16: _Z | DY16: _Z | DZ16: _Z | EA16: AT | EB16: WEIGHT | EC16: _Z | ED16: KT
A17: Azerbaijan | B17: 10 | C17: 0 | D17: 0 | E17: 0 | F17: 0 | G17: 0 | H17: =ROUND(SUM(C17:G17),3) -> 0 | I17: 0 | J17: 0 | K17: 0.053 | L17: 0.085 | M17: 0 | N17: 0.085 | O17: 0 | P17: 0 | Q17: 1.414 | R17: 0 | S17: 1.414 | T17: 0.124 | U17: 0 | V17: 0 | W17: 0 | X17: 0 | Y17: 0 | Z17: 0 | AA17: 0 | AB17: 0 | AC17: 0 | AD17: 0 | AE17: 0.582 | AF17: =ROUND(SUM(I17:K17,L17,O17:Q17,T17,W17,Z17,AD17:AE17),3) -> 2.258 | AG17: =ROUND(SUM(H17,AF17),3) -> 2.258 | AH17: =IF(ROUND(H17-SUM(C17:G17),3)=0,0,1)+IF(ROUND(AF17-SUM(I17:L17,O17:Q17,T17,W17,Z17,AD17:AE17),3)=0,0,1)+IF(ROUND(AG17-SUM(AF17,H17),3)=0,0,1) -> 0 | AI17: =IF(AH17=0," ",IF(AH17=1,"A total is not equal to the sum of its components: ",AH17&" totals are not equal to the sum of their components: "))&IF(AH17=0,"",IF(H17-SUM(C17:G17)=0,"","Total (column F). ")&IF(AF17-SUM(I17:L17,O17:Q17,T17,W17,Z17,AD17:AE17)=0,"","Total products. ")&IF(AG17-SUM(AF17,H17)=0,"","Total oil.")) | AS17: AZ | AT17: AZERBAIJAN | DU17: EXPORTS | DV17: _Z | DW17: _Z | DX17: _Z | DY17: _Z | DZ17: _Z | EA17: AZ | EB17: WEIGHT | EC17: _Z | ED17: KT
A18: Bahamas | B18: 11 | C18: 0 | D18: 0 | E18: 0 | F18: 0 | G18: 0 | H18: =ROUND(SUM(C18:G18),3) -> 0 | I18: 0 | J18: 0 | K18: 0 | L18: 0 | M18: 0 | N18: 0 | O18: 0 | P18: 0 | Q18: 0 | R18: 0 | S18: 0 | T18: 0 | U18: 0 | V18: 0 | W18: 0 | X18: 0 | Y18: 0 | Z18: 0 | AA18: 0 | AB18: 0 | AC18: 0 | AD18: 0 | AE18: 0.002 | AF18: =ROUND(SUM(I18:K18,L18,O18:Q18,T18,W18,Z18,AD18:AE18),3) -> 0.002 | AG18: =ROUND(SUM(H18,AF18),3) -> 0.002 | AH18: =IF(ROUND(H18-SUM(C18:G18),3)=0,0,1)+IF(ROUND(AF18-SUM(I18:L18,O18:Q18,T18,W18,Z18,AD18:AE18),3)=0,0,1)+IF(ROUND(AG18-SUM(AF18,H18),3)=0,0,1) -> 0 | AI18: =IF(AH18=0," ",IF(AH18=1,"A total is not equal to the sum of its components: ",AH18&" totals are not equal to the sum of their components: "))&IF(AH18=0,"",IF(H18-SUM(C18:G18)=0,"","Total (column F). ")&IF(AF18-SUM(I18:L18,O18:Q18,T18,W18,Z18,AD18:AE18)=0,"","Total products. ")&IF(AG18-SUM(AF18,H18)=0,"","Total oil.")) | AS18: BS | AT18: BAHAMAS | DU18: EXPORTS | DV18: _Z | DW18: _Z | DX18: _Z | DY18: _Z | DZ18: _Z | EA18: BS | EB18: WEIGHT | EC18: _Z | ED18: KT
A19: Bahrain | B19: 12 | C19: 0 | D19: 0 | E19: 0 | F19: 0 | G19: 0 | H19: =ROUND(SUM(C19:G19),3) -> 0 | I19: 0 | J19: 0 | K19: 0 | L19: 0 | M19: 0 | N19: 0 | O19: 0 | P19: 0 | Q19: 0 | R19: 0 | S19: 0 | T19: 0 | U19: 0 | V19: 0 | W19: 0 | X19: 0 | Y19: 0 | Z19: 0 | AA19: 0 | AB19: 0 | AC19: 0 | AD19: 0 | AE19: 0 | AF19: =ROUND(SUM(I19:K19,L19,O19:Q19,T19,W19,Z19,AD19:AE19),3) -> 0 | AG19: =ROUND(SUM(H19,AF19),3) -> 0 | AH19: =IF(ROUND(H19-SUM(C19:G19),3)=0,0,1)+IF(ROUND(AF19-SUM(I19:L19,O19:Q19,T19,W19,Z19,AD19:AE19),3)=0,0,1)+IF(ROUND(AG19-SUM(AF19,H19),3)=0,0,1) -> 0 | AI19: =IF(AH19=0," ",IF(AH19=1,"A total is not equal to the sum of its components: ",AH19&" totals are not equal to the sum of their components: "))&IF(AH19=0,"",IF(H19-SUM(C19:G19)=0,"","Total (column F). ")&IF(AF19-SUM(I19:L19,O19:Q19,T19,W19,Z19,AD19:AE19)=0,"","Total products. ")&IF(AG19-SUM(AF19,H19)=0,"","Total oil.")) | AS19: BH | AT19: BAHRAIN | DU19: EXPORTS | DV19: _Z | DW19: _Z | DX19: _Z | DY19: _Z | DZ19: _Z | EA19: BH | EB19: WEIGHT | EC19: _Z | ED19: KT
A20: Bangladesh | B20: 13 | C20: 0 | D20: 0 | E20: 0 | F20: 0 | G20: 0 | H20: =ROUND(SUM(C20:G20),3) -> 0 | I20: 0 | J20: 0 | K20: 0 | L20: 0 | M20: 0 | N20: 0 | O20: 0 | P20: 0 | Q20: 0 | R20: 0 | S20: 0 | T20: 0 | U20: 0 | V20: 0 | W20: 0 | X20: 0 | Y20: 0 | Z20: 0 | AA20: 0 | AB20: 0 | AC20: 0 | AD20: 0 | AE20: 0.017 | AF20: =ROUND(SUM(I20:K20,L20,O20:Q20,T20,W20,Z20,AD20:AE20),3) -> 0.017 | AG20: =ROUND(SUM(H20,AF20),3) -> 0.017 | AH20: =IF(ROUND(H20-SUM(C20:G20),3)=0,0,1)+IF(ROUND(AF20-SUM(I20:L20,O20:Q20,T20,W20,Z20,AD20:AE20),3)=0,0,1)+IF(ROUND(AG20-SUM(AF20,H20),3)=0,0,1) -> 0 | AI20: =IF(AH20=0," ",IF(AH20=1,"A total is not equal to the sum of its components: ",AH20&" totals are not equal to the sum of their components: "))&IF(AH20=0,"",IF(H20-SUM(C20:G20)=0,"","Total (column F). ")&IF(AF20-SUM(I20:L20,O20:Q20,T20,W20,Z20,AD20:AE20)=0,"","Total products. ")&IF(AG20-SUM(AF20,H20)=0,"","Total oil.")) | AS20: BD | AT20: BANGLADESH | DU20: EXPORTS | DV20: _Z | DW20: _Z | DX20: _Z | DY20: _Z | DZ20: _Z | EA20: BD | EB20: WEIGHT | EC20: _Z | ED20: KT
... A27: Bosnia and Herzegovina | B27: 20 | C27: 0 | D27: 0 | E27: 0 | F27: 0 | G27: 0 | H27: =ROUND(SUM(C27:G27),3) -> 0 | I27: 0 | J27: 0 | K27: 0 | L27: 0 | M27: 0 | N27: 0 | O27: 0 | P27: 0 | Q27: 0 | R27: 0 | S27: 0 | T27: 0 | U27: 0 | V27: 0 | W27: 0 | X27: 0 | Y27: 0 | Z27: 0 | AA27: 0 | AB27: 0 | AC27: 0 | AD27: 0 | AE27: 0.02 | AF27: =ROUND(SUM(I27:K27,L27,O27:Q27,T27,W27,Z27,AD27:AE27),3) -> 0.02 | AG27: =ROUND(SUM(H27,AF27),3) -> 0.02 | AH27: =IF(ROUND(H27-SUM(C27:G27),3)=0,0,1)+IF(ROUND(AF27-SUM(I27:L27,O27:Q27,T27,W27,Z27,AD27:AE27),3)=0,0,1)+IF(ROUND(AG27-SUM(AF27,H27),3)=0,0,1) -> 0 | AI27: =IF(AH27=0," ",IF(AH27=1,"A total is not equal to the sum of its components: ",AH27&" totals are not equal to the sum of their components: "))&IF(AH27=0,"",IF(H27-SUM(C27:G27)=0,"","Total (column F). ")&IF(AF27-SUM(I27:L27,O27:Q27,T27,W27,Z27,AD27:AE27)=0,"","Total products. ")&IF(AG27-SUM(AF27,H27)=0,"","Total oil.")) | AS27: BA | AT27: BOSNIAHERZ | DU27: EXPORTS | DV27: _Z | DW27: _Z | DX27: _Z | DY27: _Z | DZ27: _Z | EA27: BA | EB27: WEIGHT | EC27: _Z | ED27: KT
A28: Botswana | B28: 21 | C28: 0 | D28: 0 | E28: 0 | F28: 0 | G28: 0 | H28: =ROUND(SUM(C28:G28),3) -> 0 | I28: 0 | J28: 0 | K28: 0 | L28: 0 | M28: 0 | N28: 0 | O28: 0 | P28: 0 | Q28: 0 | R28: 0 | S28: 0 | T28: 0 | U28: 0 | V28: 0 | W28: 0 | X28: 0 | Y28: 0 | Z28: 0 | AA28: 0 | AB28: 0 | AC28: 0 | AD28: 0 | AE28: 0 | AF28: =ROUND(SUM(I28:K28,L28,O28:Q28,T28,W28,Z28,AD28:AE28),3) -> 0 | AG28: =ROUND(SUM(H28,AF28),3) -> 0 | AS28: BW | AT28: BOTSWANA | DU28: EXPORTS | DV28: _Z | DW28: _Z | DX28: _Z | DY28: _Z | DZ28: _Z | EA28: BW | EB28: WEIGHT | EC28: _Z | ED28: KT
A29: Brazil | B29: 22 | C29: 0 | D29: 0 | E29: 0 | F29: 0.093 | G29: 0 | H29: =ROUND(SUM(C29:G29),3) -> 0.093 | I29: 0 | J29: 0 | K29: 101.439 | L29: 157.124 | M29: 0 | N29: 157.124 | O29: 0 | P29: 0 | Q29: 0 | R29: 0 | S29: 0 | T29: 0 | U29: 0 | V29: 0 | W29: 0 | X29: 0 | Y29: 0 | Z29: 0 | AA29: 0 | AB29: 0 | AC29: 0 | AD29: 6.862 | AE29: 0.636 | AF29: =ROUND(SUM(I29:K29,L29,O29:Q29,T29,W29,Z29,AD29:AE29),3) -> 266.061 | AG29: =ROUND(SUM(H29,AF29),3) -> 266.154 | AH29: =IF(ROUND(H29-SUM(C29:G29),3)=0,0,1)+IF(ROUND(AF29-SUM(I29:L29,O29:Q29,T29,W29,Z29,AD29:AE29),3)=0,0,1)+IF(ROUND(AG29-SUM(AF29,H29),3)=0,0,1) -> 0 | AI29: =IF(AH29=0," ",IF(AH29=1,"A total is not equal to the sum of its components: ",AH29&" totals are not equal to the sum of their components: "))&IF(AH29=0,"",IF(H29-SUM(C29:G29)=0,"","Total (column F). ")&IF(AF29-SUM(I29:L29,O29:Q29,T29,W29,Z29,AD29:AE29)=0,"","Total products. ")&IF(AG29-SUM(AF29,H29)=0,"","Total oil.")) | AS29: BR | AT29: BRAZIL | DU29: EXPORTS | DV29: _Z | DW29: _Z | DX29: _Z | DY29: _Z | DZ29: _Z | EA29: BR | EB29: WEIGHT | EC29: _Z | ED29: KT
A30: British Virgin Islands | B30: 23 | C30: 0 | D30: 0 | E30: 0 | F30: 0 | G30: 0 | H30: =ROUND(SUM(C30:G30),3) -> 0 | I30: 0 | J30: 0 | K30: 0 | L30: 0 | M30: 0 | N30: 0 | O30: 0 | P30: 0 | Q30: 0 | R30: 0 | S30: 0 | T30: 0 | U30: 0 | V30: 0 | W30: 0 | X30: 0 | Y30: 0 | Z30: 0 | AA30: 0 | AB30: 0 | AC30: 0 | AD30: 0 | AE30: 0 | AF30: =ROUND(SUM(I30:K30,L30,O30:Q30,T30,W30,Z30,AD30:AE30),3) -> 0 | AG30: =ROUND(SUM(H30,AF30),3) -> 0 | AH30: =IF(ROUND(H30-SUM(C30:G30),3)=0,0,1)+IF(ROUND(AF30-SUM(I30:L30,O30:Q30,T30,W30,Z30,AD30:AE30),3)=0,0,1)+IF(ROUND(AG30-SUM(AF30,H30),3)=0,0,1) -> 0 | AI30: =IF(AH30=0," ",IF(AH30=1,"A total is not equal to the sum of its components: ",AH30&" totals are not equal to the sum of their components: "))&IF(AH30=0,"",IF(H30-SUM(C30:G30)=0,"","Total (column F). ")&IF(AF30-SUM(I30:L30,O30:Q30,T30,W30,Z30,AD30:AE30)=0,"","Total products. ")&IF(AG30-SUM(AF30,H30)=0,"","Total oil.")) | AS30: VG | AT30: BRITVIRGIN | DU30: EXPORTS | DV30: _Z | DW30: _Z | DX30: _Z | DY30: _Z | DZ30: _Z | EA30: VG | EB30: WEIGHT | EC30: _Z | ED30: KT
A31: Brunei Darussalam | B31: 24 | C31: 0 | D31: 0 | E31: 0 | F31: 0 | G31: 0 | H31: =ROUND(SUM(C31:G31),3) -> 0 | I31: 0 | J31: 0 | K31: 0 | L31: 0 | M31: 0 | N31: 0 | O31: 0 | P31: 0 | Q31: 0 | R31: 0 | S31: 0 | T31: 0 | U31: 0 | V31: 0 | W31: 0 | X31: 0 | Y31: 0 | Z31: 0 | AA31: 0 | AB31: 0 | AC31: 0 | AD31: 0 | AE31: 0 | AF31: =ROUND(SUM(I31:K31,L31,O31:Q31,T31,W31,Z31,AD31:AE31),3) -> 0 | AG31: =ROUND(SUM(H31,AF31),3) -> 0 | AH31: =IF(ROUND(H31-SUM(C31:G31),3)=0,0,1)+IF(ROUND(AF31-SUM(I31:L31,O31:Q31,T31,W31,Z31,AD31:AE31),3)=0,0,1)+IF(ROUND(AG31-SUM(AF31,H31),3)=0,0,1) -> 0 | AI31: =IF(AH31=0," ",IF(AH31=1,"A total is not equal to the sum of its components: ",AH31&" totals are not equal to the sum of their components: "))&IF(AH31=0,"",IF(H31-SUM(C31:G31)=0,"","Total (column F). ")&IF(AF31-SUM(I31:L31,O31:Q31,T31,W31,Z31,AD31:AE31)=0,"","Total products. ")&IF(AG31-SUM(AF31,H31)=0,"","Total oil.")) | AS31: BN | AT31: BRUNEI | DU31: EXPORTS | DV31: _Z | DW31: _Z | DX31: _Z | DY31: _Z | DZ31: _Z | EA31: BN | EB31: WEIGHT | EC31: _Z | ED31: KT
A32: Bulgaria | B32: 25 | C32: 0 | D32: 0 | E32: 0 | F32: 0.002 | G32: 0 | H32: =ROUND(SUM(C32:G32),3) -> 0.002 | I32: 0 | J32: 0.001 | K32: 0.002 | L32: 0.004 | M32: 0 | N32: 0.004 | O32: 0 | P32: 0 | Q32: 0.007 | R32: 0 | S32: 0.007 | T32: 0.001 | U32: 0.002 | V32: 0.001 | W32: 0.003 | X32: 0.046 | Y32: -0.043 | Z32: 0.017 | AA32: 0.011 | AB32: 0 | AC32: 0.006 | AD32: 0 | AE32: 0.311 | AF32: =ROUND(SUM(I32:K32,L32,O32:Q32,T32,W32,Z32,AD32:AE32),3) -> 0.346 | AG32: =ROUND(SUM(H32,AF32),3) -> 0.348 | AH32: =IF(ROUND(H32-SUM(C32:G32),3)=0,0,1)+IF(ROUND(AF32-SUM(I32:L32,O32:Q32,T32,W32,Z32,AD32:AE32),3)=0,0,1)+IF(ROUND(AG32-SUM(AF32,H32),3)=0,0,1) -> 0 | AI32: =IF(AH32=0," ",IF(AH32=1,"A total is not equal to the sum of its components: ",AH32&" totals are not equal to the sum of their components: "))&IF(AH32=0,"",IF(H32-SUM(C32:G32)=0,"","Total (column F). ")&IF(AF32-SUM(I32:L32,O32:Q32,T32,W32,Z32,AD32:AE32)=0,"","Total products. ")&IF(AG32-SUM(AF32,H32)=0,"","Total oil.")) | AS32: BG | AT32: BULGARIA | DU32: EXPORTS | DV32: _Z | DW32: _Z | DX32: _Z | DY32: _Z | DZ32: _Z | EA32: BG | EB32: WEIGHT | EC32: _Z | ED32: KT
A33: Cambodia | B33: 26 | C33: 0 | D33: 0 | E33: 0 | F33: 0 | G33: 0 | H33: =ROUND(SUM(C33:G33),3) -> 0 | I33: 0 | J33: 0 | K33: 0 | L33: 0 | M33: 0 | N33: 0 | O33: 0 | P33: 0 | Q33: 0 | R33: 0 | S33: 0 | T33: 0 | U33: 0 | V33: 0 | W33: 0 | X33: 0 | Y33: 0 | Z33: 0 | AA33: 0 | AB33: 0 | AC33: 0 | AD33: 0 | AE33: 0 | AF33: =ROUND(SUM(I33:K33,L33,O33:Q33,T33,W33,Z33,AD33:AE33),3) -> 0 | AG33: =ROUND(SUM(H33,AF33),3) -> 0 | AH33: =IF(ROUND(H33-SUM(C33:G33),3)=0,0,1)+IF(ROUND(AF33-SUM(I33:L33,O33:Q33,T33,W33,Z33,AD33:AE33),3)=0,0,1)+IF(ROUND(AG33-SUM(AF33,H33),3)=0,0,1) -> 0 | AI33: =IF(AH33=0," ",IF(AH33=1,"A total is not equal to the sum of its components: ",AH33&" totals are not equal to the sum of their components: "))&IF(AH33=0,"",IF(H33-SUM(C33:G33)=0,"","Total (column F). ")&IF(AF33-SUM(I33:L33,O33:Q33,T33,W33,Z33,AD33:AE33)=0,"","Total products. ")&IF(AG33-SUM(AF33,H33)=0,"","Total oil.")) | AS33: KH | AT33: CAMBODIA | DU33: EXPORTS | DV33: _Z | DW33: _Z | DX33: _Z | DY33: _Z | DZ33: _Z | EA33: KH | EB33: WEIGHT | EC33: _Z | ED33: KT
A34: Cameroon | B34: 27 | C34: 0 | D34: 0 | E34: 0 | F34: 0 | G34: 0 | H34: =ROUND(SUM(C34:G34),3) -> 0 | I34: 0 | J34: 0 | K34: 0.001 | L34: 0.003 | M34: 0 | N34: 0.003 | O34: 0.015 | P34: 0 | Q34: 0 | R34: 0 | S34: 0 | T34: 0 | U34: 0 | V34: 0 | W34: 0 | X34: 0 | Y34: 0 | Z34: 0 | AA34: 0 | AB34: 0 | AC34: 0 | AD34: 0 | AE34: 0.191 | AF34: =ROUND(SUM(I34:K34,L34,O34:Q34,T34,W34,Z34,AD34:AE34),3) -> 0.21 | AG34: =ROUND(SUM(H34,AF34),3) -> 0.21 | AH34: =IF(ROUND(H34-SUM(C34:G34),3)=0,0,1)+IF(ROUND(AF34-SUM(I34:L34,O34:Q34,T34,W34,Z34,AD34:AE34),3)=0,0,1)+IF(ROUND(AG34-SUM(AF34,H34),3)=0,0,1) -> 0 | AI34: =IF(AH34=0," ",IF(AH34=1,"A total is not equal to the sum of its components: ",AH34&" totals are not equal to the sum of their components: "))&IF(AH34=0,"",IF(H34-SUM(C34:G34)=0,"","Total (column F). ")&IF(AF34-SUM(I34:L34,O34:Q34,T34,W34,Z34,AD34:AE34)=0,"","Total products. ")&IF(AG34-SUM(AF34,H34)=0,"","Total oil.")) | AS34: CM | AT34: CAMEROON | DU34: EXPORTS | DV34: _Z | DW34: _Z | DX34: _Z | DY34: _Z | DZ34: _Z | EA34: CM | EB34: WEIGHT | EC34: _Z | ED34: KT
A35: Canada | B35: 28 | C35: 0 | D35: 0 | E35: 0 | F35: 0 | G35: 0 | H35: =ROUND(SUM(C35:G35),3) -> 0 | I35: 0 | J35: 0 | K35: 22.458 | L35: 34.786 | M35: 0 | N35: 34.786 | O35: 0 | P35: 0 | Q35: 0 | R35: 0 | S35: 0 | T35: 0 | U35: 4.329 | V35: 1.44 | W35: 5.768 | X35: 0 | Y35: 5.768 | Z35: 45.087 | AA35: 28.874 | AB35: 0 | AC35: 16.212 | AD35: 0 | AE35: 7.041 | AF35: =ROUND(SUM(I35:K35,L35,O35:Q35,T35,W35,Z35,AD35:AE35),3) -> 115.14 | AG35: =ROUND(SUM(H35,AF35),3) -> 115.14 | AH35: =IF(ROUND(H35-SUM(C35:G35),3)=0,0,1)+IF(ROUND(AF35-SUM(I35:L35,O35:Q35,T35,W35,Z35,AD35:AE35),3)=0,0,1)+IF(ROUND(AG35-SUM(AF35,H35),3)=0,0,1) -> 0 | AI35: =IF(AH35=0," ",IF(AH35=1,"A total is not equal to the sum of its components: ",AH35&" totals are not equal to the sum of their components: "))&IF(AH35=0,"",IF(H35-SUM(C35:G35)=0,"","Total (column F). ")&IF(AF35-SUM(I35:L35,O35:Q35,T35,W35,Z35,AD35:AE35)=0,"","Total products. ")&IF(AG35-SUM(AF35,H35)=0,"","Total oil.")) | AS35: CA | AT35: CANADA | DU35: EXPORTS | DV35: _Z | DW35: _Z | DX35: _Z | DY35: _Z | DZ35: _Z | EA35: CA | EB35: WEIGHT | EC35: _Z | ED35: KT
A36: Cape Verde / Cabo Verde | B36: 29 | C36: 0 | D36: 0 | E36: 0 | F36: 0 | G36: 0 | H36: =ROUND(SUM(C36:G36),3) -> 0 | I36: 0 | J36: 0 | K36: 0 | L36: 0 | M36: 0 | N36: 0 | O36: 0 | P36: 0 | Q36: 0 | R36: 0 | S36: 0 | T36: 0 | U36: 0 | V36: 0 | W36: 0 | X36: 0 | Y36: 0 | Z36: 0 | AA36: 0 | AB36: 0 | AC36: 0 | AD36: 0 | AE36: 0 | AF36: =ROUND(SUM(I36:K36,L36,O36:Q36,T36,W36,Z36,AD36:AE36),3) -> 0 | AG36: =ROUND(SUM(H36,AF36),3) -> 0 | AH36: =IF(ROUND(H36-SUM(C36:G36),3)=0,0,1)+IF(ROUND(AF36-SUM(I36:L36,O36:Q36,T36,W36,Z36,AD36:AE36),3)=0,0,1)+IF(ROUND(AG36-SUM(AF36,H36),3)=0,0,1) -> 0 | AI36: =IF(AH36=0," ",IF(AH36=1,"A total is not equal to the sum of its components: ",AH36&" totals are not equal to the sum of their components: "))&IF(AH36=0,"",IF(H36-SUM(C36:G36)=0,"","Total (column F). ")&IF(AF36-SUM(I36:L36,O36:Q36,T36,W36,Z36,AD36:AE36)=0,"","Total products. ")&IF(AG36-SUM(AF36,H36)=0,"","Total oil.")) | AS36: CV | AT36: CABOVERDE | DU36: EXPORTS | DV36: _Z | DW36: _Z | DX36: _Z | DY36: _Z | DZ36: _Z | EA36: CV | EB36: WEIGHT | EC36: _Z | ED36: KT
A37: Chile | B37: 30 | C37: 0 | D37: 0 | E37: 0 | F37: 0.006 | G37: 0 | H37: =ROUND(SUM(C37:G37),3) -> 0.006 | I37: 0 | J37: 0 | K37: 0 | L37: 0 | M37: 0 | N37: 0 | O37: 0 | P37: 0 | Q37: 0 | R37: 0 | S37: 0 | T37: 0 | U37: 0 | V37: 0 | W37: 0 | X37: 0 | Y37: 0 | Z37: 0 | AA37: 0 | AB37: 0 | AC37: 0 | AD37: 0 | AE37: 0.044 | AF37: =ROUND(SUM(I37:L37,O37:Q37,T37,W37,Z37,AD37:AE37),3) -> 0.044 | AG37: =ROUND(SUM(H37,AF37),3) -> 0.05 | AH37: =IF(ROUND(H37-SUM(C37:G37),3)=0,0,1)+IF(ROUND(AF37-SUM(I37:L37,O37:Q37,T37,W37,Z37,AD37:AE37),3)=0,0,1)+IF(ROUND(AG37-SUM(AF37,H37),3)=0,0,1) -> 0 | AI37: =IF(AH37=0," ",IF(AH37=1,"A total is not equal to the sum of its components: ",AH37&" totals are not equal to the sum of their components: "))&IF(AH37=0,"",IF(H37-SUM(C37:G37)=0,"","Total (column F). ")&IF(AF37-SUM(I37:L37,O37:Q37,T37,W37,Z37,AD37:AE37)=0,"","Total products. ")&IF(AG37-SUM(AF37,H37)=0,"","Total oil.")) | AS37: CL | AT37: CHILE | DU37: EXPORTS | DV37: _Z | DW37: _Z | DX37: _Z | DY37: _Z | DZ37: _Z | EA37: CL | EB37: WEIGHT | EC37: _Z | ED37: KT
A38: China, People's Republic of | B38: 31 | C38: 0 | D38: 0 | E38: 0 | F38: 0.014 | G38: 0 | H38: =ROUND(SUM(C38:G38),3) -> 0.014 | I38: 0 | J38: 0 | K38: 0 | L38: 0 | M38: 0 | N38: 0 | O38: 0 | P38: 0 | Q38: 0 | R38: 0 | S38: 0 | T38: 0 | U38: 0.016 | V38: 0.005 | W38: 0.021 | X38: 0 | Y38: 0.021 | Z38: 0 | AA38: 0 | AB38: 0 | AC38: 0 | AD38: 1.993 | AE38: 0.674 | AF38: =ROUND(SUM(I38:K38,L38,O38:Q38,T38,W38,Z38,AD38:AE38),3) -> 2.688 | AG38: =ROUND(SUM(H38,AF38),3) -> 2.702 | AH38: =IF(ROUND(H38-SUM(C38:G38),3)=0,0,1)+IF(ROUND(AF38-SUM(I38:L38,O38:Q38,T38,W38,Z38,AD38:AE38),3)=0,0,1)+IF(ROUND(AG38-SUM(AF38,H38),3)=0,0,1) -> 0 | AI38: =IF(AH38=0," ",IF(AH38=1,"A total is not equal to the sum of its components: ",AH38&" totals are not equal to the sum of their components: "))&IF(AH38=0,"",IF(H38-SUM(C38:G38)=0,"","Total (column F). ")&IF(AF38-SUM(I38:L38,O38:Q38,T38,W38,Z38,AD38:AE38)=0,"","Total products. ")&IF(AG38-SUM(AF38,H38)=0,"","Total oil.")) | AS38: CN | AT38: CHINA | DU38: EXPORTS | DV38: _Z | DW38: _Z | DX38: _Z | DY38: _Z | DZ38: _Z | EA38: CN | EB38: WEIGHT | EC38: _Z | ED38: KT
A39: Colombia | B39: 32 | C39: 0 | D39: 0 | E39: 0 | F39: 0 | G39: 0 | H39: =ROUND(SUM(C39:G39),3) -> 0 | I39: 0 | J39: 0 | K39: 0 | L39: 0 | M39: 0 | N39: 0 | O39: 0 | P39: 0 | Q39: 0.001 | R39: 0 | S39: 0.001 | T39: 0 | U39: 0 | V39: 0 | W39: 0 | X39: 0 | Y39: 0 | Z39: 0 | AA39: 0 | AB39: 0 | AC39: 0 | AD39: 0 | AE39: 0.04 | AF39: =ROUND(SUM(I39:K39,L39,O39:Q39,T39,W39,Z39,AD39:AE39),3) -> 0.041 | AG39: =ROUND(SUM(H39,AF39),3) -> 0.041 | AH39: =IF(ROUND(H39-SUM(C39:G39),3)=0,0,1)+IF(ROUND(AF39-SUM(I39:L39,O39:Q39,T39,W39,Z39,AD39:AE39),3)=0,0,1)+IF(ROUND(AG39-SUM(AF39,H39),3)=0,0,1) -> 0 | AI39: =IF(AH39=0," ",IF(AH39=1,"A total is not equal to the sum of its components: ",AH39&" totals are not equal to the sum of their components: "))&IF(AH39=0,"",IF(H39-SUM(C39:G39)=0,"","Total (column F). ")&IF(AF39-SUM(I39:L39,O39:Q39,T39,W39,Z39,AD39:AE39)=0,"","Total products. ")&IF(AG39-SUM(AF39,H39)=0,"","Total oil.")) | AS39: CO | AT39: COLOMBIA | DU39: EXPORTS | DV39: _Z | DW39: _Z | DX39: _Z | DY39: _Z | DZ39: _Z | EA39: CO | EB39: WEIGHT | EC39: _Z | ED39: KT
A40: Congo | B40: 33 | C40: 0 | D40: 0 | E40: 0 | F40: 0 | G40: 0 | H40: =ROUND(SUM(C40:G40),3) -> 0 | I40: 0 | J40: 0 | K40: 0 | L40: 0 | M40: 0 | N40: 0 | O40: 0 | P40: 0 | Q40: 0 | R40: 0 | S40: 0 | T40: 0 | U40: 0 | V40: 0 | W40: 0 | X40: 0 | Y40: 0 | Z40: 0 | AA40: 0 | AB40: 0 | AC40: 0 | AD40: 0 | AE40: 0.214 | AF40: =ROUND(SUM(I40:K40,L40,O40:Q40,T40,W40,Z40,AD40:AE40),3) -> 0.214 | AG40: =ROUND(SUM(H40,AF40),3) -> 0.214 | AH40: =IF(ROUND(H40-SUM(C40:G40),3)=0,0,1)+IF(ROUND(AF40-SUM(I40:L40,O40:Q40,T40,W40,Z40,AD40:AE40),3)=0,0,1)+IF(ROUND(AG40-SUM(AF40,H40),3)=0,0,1) -> 0 | AI40: =IF(AH40=0," ",IF(AH40=1,"A total is not equal to the sum of its components: ",AH40&" totals are not equal to the sum of their components: "))&IF(AH40=0,"",IF(H40-SUM(C40:G40)=0,"","Total (column F). ")&IF(AF40-SUM(I40:L40,O40:Q40,T40,W40,Z40,AD40:AE40)=0,"","Total products. ")&IF(AG40-SUM(AF40,H40)=0,"","Total oil.")) | AS40: CG | AT40: CONGO | DU40: EXPORTS | DV40: _Z | DW40: _Z | DX40: _Z | DY40: _Z | DZ40: _Z | EA40: CG | EB40: WEIGHT | EC40: _Z | ED40: KT
A41: Costa Rica | B41: 34 | C41: 0 | D41: 0 | E41: 0 | F41: 0.011 | G41: 0 | H41: =ROUND(SUM(C41:G41),3) -> 0.011 | I41: 0 | J41: 0 | K41: 0 | L41: 0 | M41: 0 | N41: 0 | O41: 0 | P41: 0 | Q41: 0 | R41: 0 | S41: 0 | T41: 0 | U41: 0 | V41: 0 | W41: 0 | X41: 0 | Y41: 0 | Z41: 0 | AA41: 0 | AB41: 0 | AC41: 0 | AD41: 0 | AE41: 0.025 | AF41: =ROUND(SUM(I41:K41,L41,O41:Q41,T41,W41,Z41,AD41:AE41),3) -> 0.025 | AG41: =ROUND(SUM(H41,AF41),3) -> 0.036 | AH41: =IF(ROUND(H41-SUM(C41:G41),3)=0,0,1)+IF(ROUND(AF41-SUM(I41:L41,O41:Q41,T41,W41,Z41,AD41:AE41),3)=0,0,1)+IF(ROUND(AG41-SUM(AF41,H41),3)=0,0,1) -> 0 | AI41: =IF(AH41=0," ",IF(AH41=1,"A total is not equal to the sum of its components: ",AH41&" totals are not equal to the sum of their components: "))&IF(AH41=0,"",IF(H41-SUM(C41:G41)=0,"","Total (column F). ")&IF(AF41-SUM(I41:L41,O41:Q41,T41,W41,Z41,AD41:AE41)=0,"","Total products. ")&IF(AG41-SUM(AF41,H41)=0,"","Total oil.")) | AS41: CR | AT41: COSTARICA | DU41: EXPORTS | DV41: _Z | DW41: _Z | DX41: _Z | DY41: _Z | DZ41: _Z | EA41: CR | EB41: WEIGHT | EC41: _Z | ED41: KT
A42: Côte d’Ivoire | B42: 35 | C42: 0 | D42: 0 | E42: 0 | F42: 0 | G42: 0 | H42: =ROUND(SUM(C42:G42),3) -> 0 | I42: 0 | J42: 0 | K42: 0 | L42: 0 | M42: 0 | N42: 0 | O42: 0 | P42: 0 | Q42: 0.793 | R42: 0 | S42: 0.793 | T42: 0.069 | U42: 0 | V42: 0 | W42: 0 | X42: 0 | Y42: 0 | Z42: 0 | AA42: 0 | AB42: 0 | AC42: 0 | AD42: 0 | AE42: 0.119 | AF42: =ROUND(SUM(I42:K42,L42,O42:Q42,T42,W42,Z42,AD42:AE42),3) -> 0.981 | AG42: =ROUND(SUM(H42,AF42),3) -> 0.981 | AH42: =IF(ROUND(H42-SUM(C42:G42),3)=0,0,1)+IF(ROUND(AF42-SUM(I42:L42,O42:Q42,T42,W42,Z42,AD42:AE42),3)=0,0,1)+IF(ROUND(AG42-SUM(AF42,H42),3)=0,0,1) -> 0 | AI42: =IF(AH42=0," ",IF(AH42=1,"A total is not equal to the sum of its components: ",AH42&" totals are not equal to the sum of their components: "))&IF(AH42=0,"",IF(H42-SUM(C42:G42)=0,"","Total (column F). ")&IF(AF42-SUM(I42:L42,O42:Q42,T42,W42,Z42,AD42:AE42)=0,"","Total products. ")&IF(AG42-SUM(AF42,H42)=0,"","Total oil.")) | AS42: CI | AT42: COTEIVOIRE | DU42: EXPORTS | DV42: _Z | DW42: _Z | DX42: _Z | DY42: _Z | DZ42: _Z | EA42: CI | EB42: WEIGHT | EC42: _Z | ED42: KT
A43: Croatia | B43: 36 | C43: 0 | D43: 0 | E43: 0 | F43: 0 | G43: 0 | H43: =ROUND(SUM(C43:G43),3) -> 0 | I43: 0 | J43: 0 | K43: 0.002 | L43: 0.004 | M43: 0 | N43: 0.004 | O43: 0 | P43: 0 | Q43: 0 | R43: 0 | S43: 0 | T43: 0 | U43: 0.01 | V43: 0.003 | W43: 0.013 | X43: 0 | Y43: 0.013 | Z43: 0.007 | AA43: 0.005 | AB43: 0 | AC43: 0.002 | AD43: 0 | AE43: 1.055 | AF43: =ROUND(SUM(I43:K43,L43,O43:Q43,T43,W43,Z43,AD43:AE43),3) -> 1.081 | AG43: =ROUND(SUM(H43,AF43),3) -> 1.081 | AH43: =IF(ROUND(H43-SUM(C43:G43),3)=0,0,1)+IF(ROUND(AF43-SUM(I43:L43,O43:Q43,T43,W43,Z43,AD43:AE43),3)=0,0,1)+IF(ROUND(AG43-SUM(AF43,H43),3)=0,0,1) -> 0 | AI43: =IF(AH43=0," ",IF(AH43=1,"A total is not equal to the sum of its components: ",AH43&" totals are not equal to the sum of their components: "))&IF(AH43=0,"",IF(H43-SUM(C43:G43)=0,"","Total (column F). ")&IF(AF43-SUM(I43:L43,O43:Q43,T43,W43,Z43,AD43:AE43)=0,"","Total products. ")&IF(AG43-SUM(AF43,H43)=0,"","Total oil.")) | AS43: HR | AT43: CROATIA | DU43: EXPORTS | DV43: _Z | DW43: _Z | DX43: _Z | DY43: _Z | DZ43: _Z | EA43: HR | EB43: WEIGHT | EC43: _Z | ED43: KT
A44: Cuba | B44: 37 | C44: 0 | D44: 0 | E44: 0 | F44: 0 | G44: 0 | H44: =ROUND(SUM(C44:G44),3) -> 0 | I44: 0 | J44: 0 | K44: 0 | L44: 0 | M44: 0 | N44: 0 | O44: 0 | P44: 0 | Q44: 0 | R44: 0 | S44: 0 | T44: 0 | U44: 0 | V44: 0 | W44: 0 | X44: 0 | Y44: 0 | Z44: 0 | AA44: 0 | AB44: 0 | AC44: 0 | AD44: 0 | AE44: 0 | AF44: =ROUND(SUM(I44:K44,L44,O44:Q44,T44,W44,Z44,AD44:AE44),3) -> 0 | AG44: =ROUND(SUM(H44,AF44),3) -> 0 | AH44: =IF(ROUND(H44-SUM(C44:G44),3)=0,0,1)+IF(ROUND(AF44-SUM(I44:L44,O44:Q44,T44,W44,Z44,AD44:AE44),3)=0,0,1)+IF(ROUND(AG44-SUM(AF44,H44),3)=0,0,1) -> 0 | AI44: =IF(AH44=0," ",IF(AH44=1,"A total is not equal to the sum of its components: ",AH44&" totals are not equal to the sum of their components: "))&IF(AH44=0,"",IF(H44-SUM(C44:G44)=0,"","Total (column F). ")&IF(AF44-SUM(I44:L44,O44:Q44,T44,W44,Z44,AD44:AE44)=0,"","Total products. ")&IF(AG44-SUM(AF44,H44)=0,"","Total oil.")) | AS44: CU | AT44: CUBA | DU44: EXPORTS | DV44: _Z | DW44: _Z | DX44: _Z | DY44: _Z | DZ44: _Z | EA44: CU | EB44: WEIGHT | EC44: _Z | ED44: KT
A45: Curaçao | B45: 38 | C45: 0 | D45: 0 | E45: 0 | F45: 0 | G45: 0 | H45: =ROUND(SUM(C45:G45),3) -> 0 | I45: 0 | J45: 0 | K45: 0 | L45: 0 | M45: 0 | N45: 0 | O45: 0 | P45: 0 | Q45: 0 | R45: 0 | S45: 0 | T45: 0 | U45: 0.007 | V45: 0.002 | W45: 0.009 | X45: 0 | Y45: 0.009 | Z45: 0 | AA45: 0 | AB45: 0 | AC45: 0 | AD45: 0 | AE45: 0.014 | AF45: =ROUND(SUM(I45:K45,L45,O45:Q45,T45,W45,Z45,AD45:AE45),3) -> 0.023 | AG45: =ROUND(SUM(H45,AF45),3) -> 0.023 | AH45: =IF(ROUND(H45-SUM(C45:G45),3)=0,0,1)+IF(ROUND(AF45-SUM(I45:L45,O45:Q45,T45,W45,Z45,AD45:AE45),3)=0,0,1)+IF(ROUND(AG45-SUM(AF45,H45),3)=0,0,1) -> 0 | AI45: =IF(AH45=0," ",IF(AH45=1,"A total is not equal to the sum of its components: ",AH45&" totals are not equal to the sum of their components: "))&IF(AH45=0,"",IF(H45-SUM(C45:G45)=0,"","Total (column F). ")&IF(AF45-SUM(I45:L45,O45:Q45,T45,W45,Z45,AD45:AE45)=0,"","Total products. ")&IF(AG45-SUM(AF45,H45)=0,"","Total oil.")) | AS45: CW | AT45: CURACAO | DU45: EXPORTS | DV45: _Z | DW45: _Z | DX45: _Z | DY45: _Z | DZ45: _Z | EA45: CW | EB45: WEIGHT | EC45: _Z | ED45: KT
A46: Cyprus | B46: 39 | C46: 0 | D46: 0 | E46: 0 | F46: 0.005 | G46: 0 | H46: =ROUND(SUM(C46:G46),3) -> 0.005 | I46: 0 | J46: 0.001 | K46: 0.012 | L46: 0.016 | M46: 0 | N46: 0.016 | O46: 0 | P46: 0 | Q46: 0.024 | R46: 0 | S46: 0.024 | T46: 0.002 | U46: 0.002 | V46: 0.001 | W46: 0.003 | X46: 0 | Y46: 0.003 | Z46: 114.661 | AA46: 73.43 | AB46: 0 | AC46: 41.231 | AD46: 0.021 | AE46: 5.467 | AF46: =ROUND(SUM(I46:K46,L46,O46:Q46,T46,W46,Z46,AD46:AE46),3) -> 120.207 | AG46: =ROUND(SUM(H46,AF46),3) -> 120.212 | AH46: =IF(ROUND(H46-SUM(C46:G46),3)=0,0,1)+IF(ROUND(AF46-SUM(I46:L46,O46:Q46,T46,W46,Z46,AD46:AE46),3)=0,0,1)+IF(ROUND(AG46-SUM(AF46,H46),3)=0,0,1) -> 0 | AI46: =IF(AH46=0," ",IF(AH46=1,"A total is not equal to the sum of its components: ",AH46&" totals are not equal to the sum of their components: "))&IF(AH46=0,"",IF(H46-SUM(C46:G46)=0,"","Total (column F). ")&IF(AF46-SUM(I46:L46,O46:Q46,T46,W46,Z46,AD46:AE46)=0,"","Total products. ")&IF(AG46-SUM(AF46,H46)=0,"","Total oil.")) | AS46: CY | AT46: CYPRUS | DU46: EXPORTS | DV46: _Z | DW46: _Z | DX46: _Z | DY46: _Z | DZ46: _Z | EA46: CY | EB46: WEIGHT | EC46: _Z | ED46: KT
A47: Czech Republic | B47: 40 | C47: 0 | D47: 0 | E47: 0 | F47: 0.149 | G47: 0 | H47: =ROUND(SUM(C47:G47),3) -> 0.149 | I47: 0 | J47: 0.656 | K47: 0.012 | L47: 0.017 | M47: 0 | N47: 0.017 | O47: 0 | P47: 0 | Q47: 0 | R47: 0 | S47: 0 | T47: 0 | U47: 0 | V47: 0 | W47: 0 | X47: 0.032 | Y47: -0.032 | Z47: 0.059 | AA47: 0.038 | AB47: 0 | AC47: 0.021 | AD47: 0 | AE47: 4.256 | AF47: =ROUND(SUM(I47:K47,L47,O47:Q47,T47,W47,Z47,AD47:AE47),3) -> 5 | AG47: =ROUND(SUM(H47,AF47),3) -> 5.149 | AH47: =IF(ROUND(H47-SUM(C47:G47),3)=0,0,1)+IF(ROUND(AF47-SUM(I47:L47,O47:Q47,T47,W47,Z47,AD47:AE47),3)=0,0,1)+IF(ROUND(AG47-SUM(AF47,H47),3)=0,0,1) -> 0 | AI47: =IF(AH47=0," ",IF(AH47=1,"A total is not equal to the sum of its components: ",AH47&" totals are not equal to the sum of their components: "))&IF(AH47=0,"",IF(H47-SUM(C47:G47)=0,"","Total (column F). ")&IF(AF47-SUM(I47:L47,O47:Q47,T47,W47,Z47,AD47:AE47)=0,"","Total products. ")&IF(AG47-SUM(AF47,H47)=0,"","Total oil.")) | AS47: CZ | AT47: CZECH | DU47: EXPORTS | DV47: _Z | DW47: _Z | DX47: _Z | DY47: _Z | DZ47: _Z | EA47: CZ | EB47: WEIGHT | EC47: _Z | ED47: KT
A48: Korea, Democratic People's Republic of | B48: 41 | C48: 0 | D48: 0 | E48: 0 | F48: 0 | G48: 0 | H48: =ROUND(SUM(C48:G48),3) -> 0 | I48: 0 | J48: 0 | K48: 0 | L48: 0 | M48: 0 | N48: 0 | O48: 0 | P48: 0 | Q48: 0 | R48: 0 | S48: 0 | T48: 0 | U48: 0 | V48: 0 | W48: 0 | X48: 0 | Y48: 0 | Z48: 0 | AA48: 0 | AB48: 0 | AC48: 0 | AD48: 0 | AE48: 0 | AF48: =ROUND(SUM(I48:K48,L48,O48:Q48,T48,W48,Z48,AD48:AE48),3) -> 0 | AG48: =ROUND(SUM(H48,AF48),3) -> 0 | AH48: =IF(ROUND(H48-SUM(C48:G48),3)=0,0,1)+IF(ROUND(AF48-SUM(I48:L48,O48:Q48,T48,W48,Z48,AD48:AE48),3)=0,0,1)+IF(ROUND(AG48-SUM(AF48,H48),3)=0,0,1) -> 0 | AI48: =IF(AH48=0," ",IF(AH48=1,"A total is not equal to the sum of its components: ",AH48&" totals are not equal to the sum of their components: "))&IF(AH48=0,"",IF(H48-SUM(C48:G48)=0,"","Total (column F). ")&IF(AF48-SUM(I48:L48,O48:Q48,T48,W48,Z48,AD48:AE48)=0,"","Total products. ")&IF(AG48-SUM(AF48,H48)=0,"","Total oil.")) | AS48: KP | AT48: KOREADPR | DU48: EXPORTS | DV48: _Z | DW48: _Z | DX48: _Z | DY48: _Z | DZ48: _Z | EA48: KP | EB48: WEIGHT | EC48: _Z | ED48: KT
A49: Congo, Democratic Republic of the | B49: 42 | C49: 0 | D49: 0 | E49: 0 | F49: 0 | G49: 0 | H49: =ROUND(SUM(C49:G49),3) -> 0 | I49: 0 | J49: 0 | K49: 0 | L49: 0 | M49: 0 | N49: 0 | O49: 0 | P49: 0 | Q49: 0 | R49: 0 | S49: 0 | T49: 0 | U49: 0 | V49: 0 | W49: 0 | X49: 0 | Y49: 0 | Z49: 0 | AA49: 0 | AB49: 0 | AC49: 0 | AD49: 0 | AE49: 0 | AF49: =ROUND(SUM(I49:K49,L49,O49:Q49,T49,W49,Z49,AD49:AE49),3) -> 0 | AG49: =ROUND(SUM(H49,AF49),3) -> 0 | AH49: =IF(ROUND(H49-SUM(C49:G49),3)=0,0,1)+IF(ROUND(AF49-SUM(I49:L49,O49:Q49,T49,W49,Z49,AD49:AE49),3)=0,0,1)+IF(ROUND(AG49-SUM(AF49,H49),3)=0,0,1) -> 0 | AI49: =IF(AH49=0," ",IF(AH49=1,"A total is not equal to the sum of its components: ",AH49&" totals are not equal to the sum of their components: "))&IF(AH49=0,"",IF(H49-SUM(C49:G49)=0,"","Total (column F). ")&IF(AF49-SUM(I49:L49,O49:Q49,T49,W49,Z49,AD49:AE49)=0,"","Total products. ")&IF(AG49-SUM(AF49,H49)=0,"","Total oil.")) | AS49: CD | AT49: CONGOREP | DU49: EXPORTS | DV49: _Z | DW49: _Z | DX49: _Z | DY49: _Z | DZ49: _Z | EA49: CD | EB49: WEIGHT | EC49: _Z | ED49: KT
... A68: Guinea-Bissau | B68: 61 | C68: 0 | D68: 0 | E68: 0 | F68: 0 | G68: 0 | H68: =ROUND(SUM(C68:G68),3) -> 0 | I68: 0 | J68: 0 | K68: 0 | L68: 0 | M68: 0 | N68: 0 | O68: 0 | P68: 0 | Q68: 0 | R68: 0 | S68: 0 | T68: 0 | U68: 0 | V68: 0 | W68: 0 | X68: 0 | Y68: 0 | Z68: 0 | AA68: 0 | AB68: 0 | AC68: 0 | AD68: 0 | AE68: 0 | AF68: =ROUND(SUM(I68:K68,L68,O68:Q68,T68,W68,Z68,AD68:AE68),3) -> 0 | AG68: =ROUND(SUM(H68,AF68),3) -> 0 | AH68: =IF(ROUND(H68-SUM(C68:G68),3)=0,0,1)+IF(ROUND(AF68-SUM(I68:L68,O68:Q68,T68,W68,Z68,AD68:AE68),3)=0,0,1)+IF(ROUND(AG68-SUM(AF68,H68),3)=0,0,1) -> 0 | AI68: =IF(AH68=0," ",IF(AH68=1,"A total is not equal to the sum of its components: ",AH68&" totals are not equal to the sum of their components: "))&IF(AH68=0,"",IF(H68-SUM(C68:G68)=0,"","Total (column F). ")&IF(AF68-SUM(I68:L68,O68:Q68,T68,W68,Z68,AD68:AE68)=0,"","Total products. ")&IF(AG68-SUM(AF68,H68)=0,"","Total oil.")) | AS68: GW | AT68: GUINEABIS | DU68: EXPORTS | DV68: _Z | DW68: _Z | DX68: _Z | DY68: _Z | DZ68: _Z | EA68: GW | EB68: WEIGHT | EC68: _Z | ED68: KT
A69: Guyana | B69: 62 | C69: 0 | D69: 0 | E69: 0 | F69: 0 | G69: 0 | H69: =ROUND(SUM(C69:G69),3) -> 0 | I69: 0 | J69: 0 | K69: 0 | L69: 0 | M69: 0 | N69: 0 | O69: 0 | P69: 0 | Q69: 0 | R69: 0 | S69: 0 | T69: 0 | U69: 0 | V69: 0 | W69: 0 | X69: 0 | Y69: 0 | Z69: 0 | AA69: 0 | AB69: 0 | AC69: 0 | AD69: 0 | AE69: 0 | AF69: =ROUND(SUM(I69:K69,L69,O69:Q69,T69,W69,Z69,AD69:AE69),3) -> 0 | AG69: =ROUND(SUM(H69,AF69),3) -> 0 | AS69: GY | AT69: GUYANA | DU69: EXPORTS | DV69: _Z | DW69: _Z | DX69: _Z | DY69: _Z | DZ69: _Z | EA69: GY | EB69: WEIGHT | EC69: _Z | ED69: KT
A70: Honduras | B70: 63 | C70: 0 | D70: 0 | E70: 0 | F70: 0 | G70: 0 | H70: =ROUND(SUM(C70:G70),3) -> 0 | I70: 0 | J70: 0 | K70: 0 | L70: 0 | M70: 0 | N70: 0 | O70: 0 | P70: 0 | Q70: 0 | R70: 0 | S70: 0 | T70: 0 | U70: 0 | V70: 0 | W70: 0 | X70: 0 | Y70: 0 | Z70: 0 | AA70: 0 | AB70: 0 | AC70: 0 | AD70: 0 | AE70: 0 | AF70: =ROUND(SUM(I70:K70,L70,O70:Q70,T70,W70,Z70,AD70:AE70),3) -> 0 | AG70: =ROUND(SUM(H70,AF70),3) -> 0 | AH70: =IF(ROUND(H70-SUM(C70:G70),3)=0,0,1)+IF(ROUND(AF70-SUM(I70:L70,O70:Q70,T70,W70,Z70,AD70:AE70),3)=0,0,1)+IF(ROUND(AG70-SUM(AF70,H70),3)=0,0,1) -> 0 | AI70: =IF(AH70=0," ",IF(AH70=1,"A total is not equal to the sum of its components: ",AH70&" totals are not equal to the sum of their components: "))&IF(AH70=0,"",IF(H70-SUM(C70:G70)=0,"","Total (column F). ")&IF(AF70-SUM(I70:L70,O70:Q70,T70,W70,Z70,AD70:AE70)=0,"","Total products. ")&IF(AG70-SUM(AF70,H70)=0,"","Total oil.")) | AS70: HN | AT70: HONDURAS | DU70: EXPORTS | DV70: _Z | DW70: _Z | DX70: _Z | DY70: _Z | DZ70: _Z | EA70: HN | EB70: WEIGHT | EC70: _Z | ED70: KT
A71: Hong Kong, China | B71: 64 | C71: 0 | D71: 0 | E71: 0 | F71: 0 | G71: 0 | H71: =ROUND(SUM(C71:G71),3) -> 0 | I71: 0 | J71: 0 | K71: 0 | L71: 0 | M71: 0 | N71: 0 | O71: 0 | P71: 0 | Q71: 0 | R71: 0 | S71: 0 | T71: 0 | U71: 0 | V71: 0 | W71: 0 | X71: 0 | Y71: 0 | Z71: 0 | AA71: 0 | AB71: 0 | AC71: 0 | AD71: 0 | AE71: 0.019 | AF71: =ROUND(SUM(I71:K71,L71,O71:Q71,T71,W71,Z71,AD71:AE71),3) -> 0.019 | AG71: =ROUND(SUM(H71,AF71),3) -> 0.019 | AH71: =IF(ROUND(H71-SUM(C71:G71),3)=0,0,1)+IF(ROUND(AF71-SUM(I71:L71,O71:Q71,T71,W71,Z71,AD71:AE71),3)=0,0,1)+IF(ROUND(AG71-SUM(AF71,H71),3)=0,0,1) -> 0 | AI71: =IF(AH71=0," ",IF(AH71=1,"A total is not equal to the sum of its components: ",AH71&" totals are not equal to the sum of their components: "))&IF(AH71=0,"",IF(H71-SUM(C71:G71)=0,"","Total (column F). ")&IF(AF71-SUM(I71:L71,O71:Q71,T71,W71,Z71,AD71:AE71)=0,"","Total products. ")&IF(AG71-SUM(AF71,H71)=0,"","Total oil.")) | AS71: HK | AT71: HONGKONG | DU71: EXPORTS | DV71: _Z | DW71: _Z | DX71: _Z | DY71: _Z | DZ71: _Z | EA71: HK | EB71: WEIGHT | EC71: _Z | ED71: KT
A72: Hungary | B72: 65 | C72: 0 | D72: 0 | E72: 0 | F72: 0.919 | G72: 0 | H72: =ROUND(SUM(C72:G72),3) -> 0.919 | I72: 0 | J72: 0.001 | K72: 0 | L72: 0 | M72: 0 | N72: 0 | O72: 0 | P72: 0 | Q72: 0.001 | R72: 0 | S72: 0.001 | T72: 0 | U72: 0.002 | V72: 0.001 | W72: 0.003 | X72: 0 | Y72: 0.003 | Z72: 0.011 | AA72: 0.007 | AB72: 0 | AC72: 0.004 | AD72: 0 | AE72: 1.118 | AF72: =ROUND(SUM(I72:K72,L72,O72:Q72,T72,W72,Z72,AD72:AE72),3) -> 1.134 | AG72: =ROUND(SUM(H72,AF72),3) -> 2.053 | AH72: =IF(ROUND(H72-SUM(C72:G72),3)=0,0,1)+IF(ROUND(AF72-SUM(I72:L72,O72:Q72,T72,W72,Z72,AD72:AE72),3)=0,0,1)+IF(ROUND(AG72-SUM(AF72,H72),3)=0,0,1) -> 0 | AI72: =IF(AH72=0," ",IF(AH72=1,"A total is not equal to the sum of its components: ",AH72&" totals are not equal to the sum of their components: "))&IF(AH72=0,"",IF(H72-SUM(C72:G72)=0,"","Total (column F). ")&IF(AF72-SUM(I72:L72,O72:Q72,T72,W72,Z72,AD72:AE72)=0,"","Total products. ")&IF(AG72-SUM(AF72,H72)=0,"","Total oil.")) | AS72: HU | AT72: HUNGARY | DU72: EXPORTS | DV72: _Z | DW72: _Z | DX72: _Z | DY72: _Z | DZ72: _Z | EA72: HU | EB72: WEIGHT | EC72: _Z | ED72: KT
A73: Iceland | B73: 66 | C73: 0 | D73: 0 | E73: 0 | F73: 0 | G73: 0 | H73: =ROUND(SUM(C73:G73),3) -> 0 | I73: 0 | J73: 0.302 | K73: 0 | L73: 0 | M73: 0 | N73: 0 | O73: 0.021 | P73: 0 | Q73: 0 | R73: 0 | S73: 0 | T73: 0 | U73: 0 | V73: 0 | W73: 0 | X73: 0 | Y73: 0 | Z73: 0 | AA73: 0 | AB73: 0 | AC73: 0 | AD73: 2.899 | AE73: 0.172 | AF73: =ROUND(SUM(I73:K73,L73,O73:Q73,T73,W73,Z73,AD73:AE73),3) -> 3.394 | AG73: =ROUND(SUM(H73,AF73),3) -> 3.394 | AH73: =IF(ROUND(H73-SUM(C73:G73),3)=0,0,1)+IF(ROUND(AF73-SUM(I73:L73,O73:Q73,T73,W73,Z73,AD73:AE73),3)=0,0,1)+IF(ROUND(AG73-SUM(AF73,H73),3)=0,0,1) -> 0 | AI73: =IF(AH73=0," ",IF(AH73=1,"A total is not equal to the sum of its components: ",AH73&" totals are not equal to the sum of their components: "))&IF(AH73=0,"",IF(H73-SUM(C73:G73)=0,"","Total (column F). ")&IF(AF73-SUM(I73:L73,O73:Q73,T73,W73,Z73,AD73:AE73)=0,"","Total products. ")&IF(AG73-SUM(AF73,H73)=0,"","Total oil.")) | AS73: IS | AT73: ICELAND | DU73: EXPORTS | DV73: _Z | DW73: _Z | DX73: _Z | DY73: _Z | DZ73: _Z | EA73: IS | EB73: WEIGHT | EC73: _Z | ED73: KT
A74: India | B74: 67 | C74: 0 | D74: 0 | E74: 0 | F74: 0.125 | G74: 0 | H74: =ROUND(SUM(C74:G74),3) -> 0.125 | I74: 0 | J74: 0 | K74: 0 | L74: 0 | M74: 0 | N74: 0 | O74: 0 | P74: 0 | Q74: 0 | R74: 0 | S74: 0 | T74: 0 | U74: 0 | V74: 0 | W74: 0 | X74: 0 | Y74: 0 | Z74: 0 | AA74: 0 | AB74: 0 | AC74: 0 | AD74: 0 | AE74: 2.337 | AF74: =ROUND(SUM(I74:K74,L74,O74:Q74,T74,W74,Z74,AD74:AE74),3) -> 2.337 | AG74: =ROUND(SUM(H74,AF74),3) -> 2.462 | AH74: =IF(ROUND(H74-SUM(C74:G74),3)=0,0,1)+IF(ROUND(AF74-SUM(I74:L74,O74:Q74,T74,W74,Z74,AD74:AE74),3)=0,0,1)+IF(ROUND(AG74-SUM(AF74,H74),3)=0,0,1) -> 0 | AI74: =IF(AH74=0," ",IF(AH74=1,"A total is not equal to the sum of its components: ",AH74&" totals are not equal to the sum of their components: "))&IF(AH74=0,"",IF(H74-SUM(C74:G74)=0,"","Total (column F). ")&IF(AF74-SUM(I74:L74,O74:Q74,T74,W74,Z74,AD74:AE74)=0,"","Total products. ")&IF(AG74-SUM(AF74,H74)=0,"","Total oil.")) | AS74: IN | AT74: INDIA | DU74: EXPORTS | DV74: _Z | DW74: _Z | DX74: _Z | DY74: _Z | DZ74: _Z | EA74: IN | EB74: WEIGHT | EC74: _Z | ED74: KT
A75: Indonesia | B75: 68 | C75: 0 | D75: 0 | E75: 0 | F75: 0 | G75: 0 | H75: =ROUND(SUM(C75:G75),3) -> 0 | I75: 0 | J75: 0 | K75: 0 | L75: 0 | M75: 0 | N75: 0 | O75: 0 | P75: 0 | Q75: 0.002 | R75: 0 | S75: 0.002 | T75: 0 | U75: 0 | V75: 0 | W75: 0 | X75: 0 | Y75: 0 | Z75: 0 | AA75: 0 | AB75: 0 | AC75: 0 | AD75: 0 | AE75: 0.058 | AF75: =ROUND(SUM(I75:K75,L75,O75:Q75,T75,W75,Z75,AD75:AE75),3) -> 0.06 | AG75: =ROUND(SUM(H75,AF75),3) -> 0.06 | AH75: =IF(ROUND(H75-SUM(C75:G75),3)=0,0,1)+IF(ROUND(AF75-SUM(I75:L75,O75:Q75,T75,W75,Z75,AD75:AE75),3)=0,0,1)+IF(ROUND(AG75-SUM(AF75,H75),3)=0,0,1) -> 0 | AI75: =IF(AH75=0," ",IF(AH75=1,"A total is not equal to the sum of its components: ",AH75&" totals are not equal to the sum of their components: "))&IF(AH75=0,"",IF(H75-SUM(C75:G75)=0,"","Total (column F). ")&IF(AF75-SUM(I75:L75,O75:Q75,T75,W75,Z75,AD75:AE75)=0,"","Total products. ")&IF(AG75-SUM(AF75,H75)=0,"","Total oil.")) | AS75: ID | AT75: INDONESIA | DU75: EXPORTS | DV75: _Z | DW75: _Z | DX75: _Z | DY75: _Z | DZ75: _Z | EA75: ID | EB75: WEIGHT | EC75: _Z | ED75: KT
A76: Iran, Islamic Republic of | B76: 69 | C76: 0 | D76: 0 | E76: 0 | F76: 0 | G76: 0 | H76: =ROUND(SUM(C76:G76),3) -> 0 | I76: 0 | J76: 0 | K76: 0 | L76: 0 | M76: 0 | N76: 0 | O76: 0 | P76: 0 | Q76: 0 | R76: 0 | S76: 0 | T76: 0 | U76: 0 | V76: 0 | W76: 0 | X76: 0 | Y76: 0 | Z76: 0 | AA76: 0 | AB76: 0 | AC76: 0 | AD76: 0 | AE76: 0.002 | AF76: =ROUND(SUM(I76:K76,L76,O76:Q76,T76,W76,Z76,AD76:AE76),3) -> 0.002 | AG76: =ROUND(SUM(H76,AF76),3) -> 0.002 | AH76: =IF(ROUND(H76-SUM(C76:G76),3)=0,0,1)+IF(ROUND(AF76-SUM(I76:L76,O76:Q76,T76,W76,Z76,AD76:AE76),3)=0,0,1)+IF(ROUND(AG76-SUM(AF76,H76),3)=0,0,1) -> 0 | AI76: =IF(AH76=0," ",IF(AH76=1,"A total is not equal to the sum of its components: ",AH76&" totals are not equal to the sum of their components: "))&IF(AH76=0,"",IF(H76-SUM(C76:G76)=0,"","Total (column F). ")&IF(AF76-SUM(I76:L76,O76:Q76,T76,W76,Z76,AD76:AE76)=0,"","Total products. ")&IF(AG76-SUM(AF76,H76)=0,"","Total oil.")) | AS76: IR | AT76: IRAN | DU76: EXPORTS | DV76: _Z | DW76: _Z | DX76: _Z | DY76: _Z | DZ76: _Z | EA76: IR | EB76: WEIGHT | EC76: _Z | ED76: KT
A77: Iraq | B77: 70 | C77: 0 | D77: 0 | E77: 0 | F77: 0 | G77: 0 | H77: =ROUND(SUM(C77:G77),3) -> 0 | I77: 0 | J77: 0 | K77: 0 | L77: 0 | M77: 0 | N77: 0 | O77: 0 | P77: 0 | Q77: 0 | R77: 0 | S77: 0 | T77: 0 | U77: 0 | V77: 0 | W77: 0 | X77: 0 | Y77: 0 | Z77: 0 | AA77: 0 | AB77: 0 | AC77: 0 | AD77: 0 | AE77: 0.372 | AF77: =ROUND(SUM(I77:K77,L77,O77:Q77,T77,W77,Z77,AD77:AE77),3) -> 0.372 | AG77: =ROUND(SUM(H77,AF77),3) -> 0.372 | AH77: =IF(ROUND(H77-SUM(C77:G77),3)=0,0,1)+IF(ROUND(AF77-SUM(I77:L77,O77:Q77,T77,W77,Z77,AD77:AE77),3)=0,0,1)+IF(ROUND(AG77-SUM(AF77,H77),3)=0,0,1) -> 0 | AI77: =IF(AH77=0," ",IF(AH77=1,"A total is not equal to the sum of its components: ",AH77&" totals are not equal to the sum of their components: "))&IF(AH77=0,"",IF(H77-SUM(C77:G77)=0,"","Total (column F). ")&IF(AF77-SUM(I77:L77,O77:Q77,T77,W77,Z77,AD77:AE77)=0,"","Total products. ")&IF(AG77-SUM(AF77,H77)=0,"","Total oil.")) | AS77: IQ | AT77: IRAQ | DU77: EXPORTS | DV77: _Z | DW77: _Z | DX77: _Z | DY77: _Z | DZ77: _Z | EA77: IQ | EB77: WEIGHT | EC77: _Z | ED77: KT
A78: Ireland | B78: 71 | C78: 0 | D78: 0 | E78: 0 | F78: 0.167 | G78: 0 | H78: =ROUND(SUM(C78:G78),3) -> 0.167 | I78: 0 | J78: 7.53 | K78: 0.076 | L78: 0.116 | M78: 0 | N78: 0.116 | O78: 0.07 | P78: 0 | Q78: 0.328 | R78: 0 | S78: 0.328 | T78: 0.029 | U78: 68.612 | V78: 22.816 | W78: 91.428 | X78: 0 | Y78: 91.428 | Z78: 0 | AA78: 0 | AB78: 0 | AC78: 0 | AD78: 0 | AE78: 12.526 | AF78: =ROUND(SUM(I78:K78,L78,O78:Q78,T78,W78,Z78,AD78:AE78),3) -> 112.103 | AG78: =ROUND(SUM(H78,AF78),3) -> 112.27 | AH78: =IF(ROUND(H78-SUM(C78:G78),3)=0,0,1)+IF(ROUND(AF78-SUM(I78:L78,O78:Q78,T78,W78,Z78,AD78:AE78),3)=0,0,1)+IF(ROUND(AG78-SUM(AF78,H78),3)=0,0,1) -> 0 | AI78: =IF(AH78=0," ",IF(AH78=1,"A total is not equal to the sum of its components: ",AH78&" totals are not equal to the sum of their components: "))&IF(AH78=0,"",IF(H78-SUM(C78:G78)=0,"","Total (column F). ")&IF(AF78-SUM(I78:L78,O78:Q78,T78,W78,Z78,AD78:AE78)=0,"","Total products. ")&IF(AG78-SUM(AF78,H78)=0,"","Total oil.")) | AS78: IE | AT78: IRELAND | DU78: EXPORTS | DV78: _Z | DW78: _Z | DX78: _Z | DY78: _Z | DZ78: _Z | EA78: IE | EB78: WEIGHT | EC78: _Z | ED78: KT
A79: Israel | B79: 72 | C79: 0 | D79: 0 | E79: 0 | F79: 0.294 | G79: 0 | H79: =ROUND(SUM(C79:G79),3) -> 0.294 | I79: 0 | J79: 0 | K79: 0 | L79: 0 | M79: 0 | N79: 0 | O79: 0 | P79: 0 | Q79: 0 | R79: 0 | S79: 0 | T79: 0 | U79: 0 | V79: 0 | W79: 0 | X79: 0 | Y79: 0 | Z79: 0 | AA79: 0 | AB79: 0 | AC79: 0 | AD79: 0 | AE79: 0.781 | AF79: =ROUND(SUM(I79:K79,L79,O79:Q79,T79,W79,Z79,AD79:AE79),3) -> 0.781 | AG79: =ROUND(SUM(H79,AF79),3) -> 1.075 | AH79: =IF(ROUND(H79-SUM(C79:G79),3)=0,0,1)+IF(ROUND(AF79-SUM(I79:L79,O79:Q79,T79,W79,Z79,AD79:AE79),3)=0,0,1)+IF(ROUND(AG79-SUM(AF79,H79),3)=0,0,1) -> 0 | AI79: =IF(AH79=0," ",IF(AH79=1,"A total is not equal to the sum of its components: ",AH79&" totals are not equal to the sum of their components: "))&IF(AH79=0,"",IF(H79-SUM(C79:G79)=0,"","Total (column F). ")&IF(AF79-SUM(I79:L79,O79:Q79,T79,W79,Z79,AD79:AE79)=0,"","Total products. ")&IF(AG79-SUM(AF79,H79)=0,"","Total oil.")) | AS79: IL | AT79: ISRAEL | DU79: EXPORTS | DV79: _Z | DW79: _Z | DX79: _Z | DY79: _Z | DZ79: _Z | EA79: IL | EB79: WEIGHT | EC79: _Z | ED79: KT
A80: Italy | B80: 73 | C80: 0 | D80: 0 | E80: 0 | F80: 0.132 | G80: 0 | H80: =ROUND(SUM(C80:G80),3) -> 0.132 | I80: 0 | J80: 0.001 | K80: 0.412 | L80: 0.64 | M80: 0 | N80: 0.64 | O80: 0.135 | P80: 0 | Q80: 0.215 | R80: 0 | S80: 0.215 | T80: 0.019 | U80: 41.526 | V80: 13.809 | W80: 55.336 | X80: 0 | Y80: 55.336 | Z80: 14.61 | AA80: 9.356 | AB80: 0 | AC80: 5.254 | AD80: 0 | AE80: 15.213 | AF80: =ROUND(SUM(I80:K80,L80,O80:Q80,T80,W80,Z80,AD80:AE80),3) -> 86.581 | AG80: =ROUND(SUM(H80,AF80),3) -> 86.713 | AH80: =IF(ROUND(H80-SUM(C80:G80),3)=0,0,1)+IF(ROUND(AF80-SUM(I80:L80,O80:Q80,T80,W80,Z80,AD80:AE80),3)=0,0,1)+IF(ROUND(AG80-SUM(AF80,H80),3)=0,0,1) -> 0 | AI80: =IF(AH80=0," ",IF(AH80=1,"A total is not equal to the sum of its components: ",AH80&" totals are not equal to the sum of their components: "))&IF(AH80=0,"",IF(H80-SUM(C80:G80)=0,"","Total (column F). ")&IF(AF80-SUM(I80:L80,O80:Q80,T80,W80,Z80,AD80:AE80)=0,"","Total products. ")&IF(AG80-SUM(AF80,H80)=0,"","Total oil.")) | AS80: IT | AT80: ITALY | DU80: EXPORTS | DV80: _Z | DW80: _Z | DX80: _Z | DY80: _Z | DZ80: _Z | EA80: IT | EB80: WEIGHT | EC80: _Z | ED80: KT
A81: Jamaica | B81: 74 | C81: 0 | D81: 0 | E81: 0 | F81: 0.002 | G81: 0 | H81: =ROUND(SUM(C81:G81),3) -> 0.002 | I81: 0 | J81: 0 | K81: 0.004 | L81: 0.005 | M81: 0 | N81: 0.005 | O81: 0 | P81: 0 | Q81: 0 | R81: 0 | S81: 0 | T81: 0 | U81: 0 | V81: 0 | W81: 0 | X81: 0 | Y81: 0 | Z81: 0 | AA81: 0 | AB81: 0 | AC81: 0 | AD81: 0 | AE81: 0.404 | AF81: =ROUND(SUM(I81:K81,L81,O81:Q81,T81,W81,Z81,AD81:AE81),3) -> 0.413 | AG81: =ROUND(SUM(H81,AF81),3) -> 0.415 | AH81: =IF(ROUND(H81-SUM(C81:G81),3)=0,0,1)+IF(ROUND(AF81-SUM(I81:L81,O81:Q81,T81,W81,Z81,AD81:AE81),3)=0,0,1)+IF(ROUND(AG81-SUM(AF81,H81),3)=0,0,1) -> 0 | AI81: =IF(AH81=0," ",IF(AH81=1,"A total is not equal to the sum of its components: ",AH81&" totals are not equal to the sum of their components: "))&IF(AH81=0,"",IF(H81-SUM(C81:G81)=0,"","Total (column F). ")&IF(AF81-SUM(I81:L81,O81:Q81,T81,W81,Z81,AD81:AE81)=0,"","Total products. ")&IF(AG81-SUM(AF81,H81)=0,"","Total oil.")) | AS81: JM | AT81: JAMAICA | DU81: EXPORTS | DV81: _Z | DW81: _Z | DX81: _Z | DY81: _Z | DZ81: _Z | EA81: JM | EB81: WEIGHT | EC81: _Z | ED81: KT
... A101: Marshall Islands | B101: 94 | C101: 0 | D101: 0 | E101: 0 | F101: 0 | G101: 0 | H101: =ROUND(SUM(C101:G101),3) -> 0 | I101: 0 | J101: 0 | K101: 0 | L101: 0 | M101: 0 | N101: 0 | O101: 0 | P101: 0 | Q101: 0 | R101: 0 | S101: 0 | T101: 0 | U101: 0 | V101: 0 | W101: 0 | X101: 0 | Y101: 0 | Z101: 0 | AA101: 0 | AB101: 0 | AC101: 0 | AD101: 0 | AE101: 0 | AF101: =ROUND(SUM(I101:K101,L101,O101:Q101,T101,W101,Z101,AD101:AE101),3) -> 0 | AG101: =ROUND(SUM(H101,AF101),3) -> 0 | AH101: =IF(ROUND(H101-SUM(C101:G101),3)=0,0,1)+IF(ROUND(AF101-SUM(I101:L101,O101:Q101,T101,W101,Z101,AD101:AE101),3)=0,0,1)+IF(ROUND(AG101-SUM(AF101,H101),3)=0,0,1) -> 0 | AI101: =IF(AH101=0," ",IF(AH101=1,"A total is not equal to the sum of its components: ",AH101&" totals are not equal to the sum of their components: "))&IF(AH101=0,"",IF(H101-SUM(C101:G101)=0,"","Total (column F). ")&IF(AF101-SUM(I101:L101,O101:Q101,T101,W101,Z101,AD101:AE101)=0,"","Total products. ")&IF(AG101-SUM(AF101,H101)=0,"","Total oil.")) | AS101: MH | AT101: MARSHALL | DU101: EXPORTS | DV101: _Z | DW101: _Z | DX101: _Z | DY101: _Z | DZ101: _Z | EA101: MH | EB101: WEIGHT | EC101: _Z | ED101: KT
A102: Mauritania | B102: 95 | C102: 0 | D102: 0 | E102: 0 | F102: 0.031 | G102: 0 | H102: =ROUND(SUM(C102:G102),3) -> 0.031 | I102: 0 | J102: 0 | K102: 0 | L102: 0 | M102: 0 | N102: 0 | O102: 0 | P102: 0 | Q102: 0 | R102: 0 | S102: 0 | T102: 0 | U102: 0 | V102: 0 | W102: 0 | X102: 0 | Y102: 0 | Z102: 0 | AA102: 0 | AB102: 0 | AC102: 0 | AD102: 0 | AE102: 0.038 | AF102: =ROUND(SUM(I102:L102,O102:Q102,T102,W102,Z102,AD102:AE102),3) -> 0.038 | AG102: =ROUND(SUM(H102,AF102),3) -> 0.069 | AH102: =IF(ROUND(H102-SUM(C102:G102),3)=0,0,1)+IF(ROUND(AF102-SUM(I102:L102,O102:Q102,T102,W102,Z102,AD102:AE102),3)=0,0,1)+IF(ROUND(AG102-SUM(AF102,H102),3)=0,0,1) -> 0 | AI102: =IF(AH102=0," ",IF(AH102=1,"A total is not equal to the sum of its components: ",AH102&" totals are not equal to the sum of their components: "))&IF(AH102=0,"",IF(H102-SUM(C102:G102)=0,"","Total (column F). ")&IF(AF102-SUM(I102:L102,O102:Q102,T102,W102,Z102,AD102:AE102)=0,"","Total products. ")&IF(AG102-SUM(AF102,H102)=0,"","Total oil.")) | AS102: MR | AT102: MAURITANIA | DU102: EXPORTS | DV102: _Z | DW102: _Z | DX102: _Z | DY102: _Z | DZ102: _Z | EA102: MR | EB102: WEIGHT | EC102: _Z | ED102: KT
A103: Mauritius | B103: 96 | C103: 0 | D103: 0 | E103: 0 | F103: 0 | G103: 0 | H103: =ROUND(SUM(C103:G103),3) -> 0 | I103: 0 | J103: 0 | K103: 0 | L103: 0 | M103: 0 | N103: 0 | O103: 0 | P103: 0 | Q103: 0 | R103: 0 | S103: 0 | T103: 0 | U103: 0 | V103: 0 | W103: 0 | X103: 0 | Y103: 0 | Z103: 0 | AA103: 0 | AB103: 0 | AC103: 0 | AD103: 0 | AE103: 0.004 | AF103: =ROUND(SUM(I103:K103,L103,O103:Q103,T103,W103,Z103,AD103:AE103),3) -> 0.004 | AG103: =ROUND(SUM(H103,AF103),3) -> 0.004 | AH103: =IF(ROUND(H103-SUM(C103:G103),3)=0,0,1)+IF(ROUND(AF103-SUM(I103:L103,O103:Q103,T103,W103,Z103,AD103:AE103),3)=0,0,1)+IF(ROUND(AG103-SUM(AF103,H103),3)=0,0,1) -> 0 | AI103: =IF(AH103=0," ",IF(AH103=1,"A total is not equal to the sum of its components: ",AH103&" totals are not equal to the sum of their components: "))&IF(AH103=0,"",IF(H103-SUM(C103:G103)=0,"","Total (column F). ")&IF(AF103-SUM(I103:L103,O103:Q103,T103,W103,Z103,AD103:AE103)=0,"","Total products. ")&IF(AG103-SUM(AF103,H103)=0,"","Total oil.")) | AS103: MU | AT103: MAURITIUS | DU103: EXPORTS | DV103: _Z | DW103: _Z | DX103: _Z | DY103: _Z | DZ103: _Z | EA103: MU | EB103: WEIGHT | EC103: _Z | ED103: KT
A104: Mexico | B104: 97 | C104: 0 | D104: 0 | E104: 0 | F104: 0.019 | G104: 0 | H104: =ROUND(SUM(C104:G104),3) -> 0.019 | I104: 0 | J104: 0 | K104: 0 | L104: 0 | M104: 0 | N104: 0 | O104: 0 | P104: 0 | Q104: 0 | R104: 0 | S104: 0 | T104: 0 | U104: 0 | V104: 0 | W104: 0 | X104: 0 | Y104: 0 | Z104: 0 | AA104: 0 | AB104: 0 | AC104: 0 | AD104: 0 | AE104: 0.386 | AF104: =ROUND(SUM(I104:K104,L104,O104:Q104,T104,W104,Z104,AD104:AE104),3) -> 0.386 | AG104: =ROUND(SUM(H104,AF104),3) -> 0.405 | AH104: =IF(ROUND(H104-SUM(C104:G104),3)=0,0,1)+IF(ROUND(AF104-SUM(I104:L104,O104:Q104,T104,W104,Z104,AD104:AE104),3)=0,0,1)+IF(ROUND(AG104-SUM(AF104,H104),3)=0,0,1) -> 0 | AI104: =IF(AH104=0," ",IF(AH104=1,"A total is not equal to the sum of its components: ",AH104&" totals are not equal to the sum of their components: "))&IF(AH104=0,"",IF(H104-SUM(C104:G104)=0,"","Total (column F). ")&IF(AF104-SUM(I104:L104,O104:Q104,T104,W104,Z104,AD104:AE104)=0,"","Total products. ")&IF(AG104-SUM(AF104,H104)=0,"","Total oil.")) | AS104: MX | AT104: MEXICO | DU104: EXPORTS | DV104: _Z | DW104: _Z | DX104: _Z | DY104: _Z | DZ104: _Z | EA104: MX | EB104: WEIGHT | EC104: _Z | ED104: KT
A105: Moldova, Republic of | B105: 98 | C105: 0 | D105: 0 | E105: 0 | F105: 0 | G105: 0 | H105: =ROUND(SUM(C105:G105),3) -> 0 | I105: 0 | J105: 0 | K105: 0 | L105: 0 | M105: 0 | N105: 0 | O105: 0 | P105: 0 | Q105: 0 | R105: 0 | S105: 0 | T105: 0 | U105: 0 | V105: 0 | W105: 0 | X105: 0 | Y105: 0 | Z105: 0 | AA105: 0 | AB105: 0 | AC105: 0 | AD105: 0 | AE105: 0.056 | AF105: =ROUND(SUM(I105:K105,L105,O105:Q105,T105,W105,Z105,AD105:AE105),3) -> 0.056 | AG105: =ROUND(SUM(H105,AF105),3) -> 0.056 | AH105: =IF(ROUND(H105-SUM(C105:G105),3)=0,0,1)+IF(ROUND(AF105-SUM(I105:L105,O105:Q105,T105,W105,Z105,AD105:AE105),3)=0,0,1)+IF(ROUND(AG105-SUM(AF105,H105),3)=0,0,1) -> 0 | AI105: =IF(AH105=0," ",IF(AH105=1,"A total is not equal to the sum of its components: ",AH105&" totals are not equal to the sum of their components: "))&IF(AH105=0,"",IF(H105-SUM(C105:G105)=0,"","Total (column F). ")&IF(AF105-SUM(I105:L105,O105:Q105,T105,W105,Z105,AD105:AE105)=0,"","Total products. ")&IF(AG105-SUM(AF105,H105)=0,"","Total oil.")) | AS105: MD | AT105: MOLDOVA | DU105: EXPORTS | DV105: _Z | DW105: _Z | DX105: _Z | DY105: _Z | DZ105: _Z | EA105: MD | EB105: WEIGHT | EC105: _Z | ED105: KT
A106: Mongolia | B106: 99 | C106: 0 | D106: 0 | E106: 0 | F106: 0 | G106: 0 | H106: =ROUND(SUM(C106:G106),3) -> 0 | I106: 0 | J106: 0 | K106: 0 | L106: 0 | M106: 0 | N106: 0 | O106: 0 | P106: 0 | Q106: 0 | R106: 0 | S106: 0 | T106: 0 | U106: 0 | V106: 0 | W106: 0 | X106: 0 | Y106: 0 | Z106: 0 | AA106: 0 | AB106: 0 | AC106: 0 | AD106: 0 | AE106: 0.038 | AF106: =ROUND(SUM(I106:K106,L106,O106:Q106,T106,W106,Z106,AD106:AE106),3) -> 0.038 | AG106: =ROUND(SUM(H106,AF106),3) -> 0.038 | AH106: =IF(ROUND(H106-SUM(C106:G106),3)=0,0,1)+IF(ROUND(AF106-SUM(I106:L106,O106:Q106,T106,W106,Z106,AD106:AE106),3)=0,0,1)+IF(ROUND(AG106-SUM(AF106,H106),3)=0,0,1) -> 0 | AI106: =IF(AH106=0," ",IF(AH106=1,"A total is not equal to the sum of its components: ",AH106&" totals are not equal to the sum of their components: "))&IF(AH106=0,"",IF(H106-SUM(C106:G106)=0,"","Total (column F). ")&IF(AF106-SUM(I106:L106,O106:Q106,T106,W106,Z106,AD106:AE106)=0,"","Total products. ")&IF(AG106-SUM(AF106,H106)=0,"","Total oil.")) | AS106: MN | AT106: MONGOLIA | DU106: EXPORTS | DV106: _Z | DW106: _Z | DX106: _Z | DY106: _Z | DZ106: _Z | EA106: MN | EB106: WEIGHT | EC106: _Z | ED106: KT
A107: Montenegro | B107: 100 | C107: 0 | D107: 0 | E107: 0 | F107: 0 | G107: 0 | H107: =ROUND(SUM(C107:G107),3) -> 0 | I107: 0 | J107: 0 | K107: 0 | L107: 0 | M107: 0 | N107: 0 | O107: 0 | P107: 0 | Q107: 0 | R107: 0 | S107: 0 | T107: 0 | U107: 0 | V107: 0 | W107: 0 | X107: 0 | Y107: 0 | Z107: 0 | AA107: 0 | AB107: 0 | AC107: 0 | AD107: 0 | AE107: 0 | AF107: =ROUND(SUM(I107:K107,L107,O107:Q107,T107,W107,Z107,AD107:AE107),3) -> 0 | AG107: =ROUND(SUM(H107,AF107),3) -> 0 | AH107: =IF(ROUND(H107-SUM(C107:G107),3)=0,0,1)+IF(ROUND(AF107-SUM(I107:L107,O107:Q107,T107,W107,Z107,AD107:AE107),3)=0,0,1)+IF(ROUND(AG107-SUM(AF107,H107),3)=0,0,1) -> 0 | AI107: =IF(AH107=0," ",IF(AH107=1,"A total is not equal to the sum of its components: ",AH107&" totals are not equal to the sum of their components: "))&IF(AH107=0,"",IF(H107-SUM(C107:G107)=0,"","Total (column F). ")&IF(AF107-SUM(I107:L107,O107:Q107,T107,W107,Z107,AD107:AE107)=0,"","Total products. ")&IF(AG107-SUM(AF107,H107)=0,"","Total oil.")) | AS107: ME | AT107: MONTENEGRO | DU107: EXPORTS | DV107: _Z | DW107: _Z | DX107: _Z | DY107: _Z | DZ107: _Z | EA107: ME | EB107: WEIGHT | EC107: _Z | ED107: KT
A108: Morocco | B108: 101 | C108: 0 | D108: 0 | E108: 0 | F108: 0.027 | G108: 0 | H108: =ROUND(SUM(C108:G108),3) -> 0.027 | I108: 0 | J108: 0 | K108: 29.726 | L108: 46.043 | M108: 0 | N108: 46.043 | O108: 0.023 | P108: 0 | Q108: 0 | R108: 0 | S108: 0 | T108: 0 | U108: 10.244 | V108: 3.407 | W108: 13.651 | X108: 0 | Y108: 13.651 | Z108: 0 | AA108: 0 | AB108: 0 | AC108: 0 | AD108: 0.206 | AE108: 6.805 | AF108: =ROUND(SUM(I108:K108,L108,O108:Q108,T108,W108,Z108,AD108:AE108),3) -> 96.454 | AG108: =ROUND(SUM(H108,AF108),3) -> 96.481 | AH108: =IF(ROUND(H108-SUM(C108:G108),3)=0,0,1)+IF(ROUND(AF108-SUM(I108:L108,O108:Q108,T108,W108,Z108,AD108:AE108),3)=0,0,1)+IF(ROUND(AG108-SUM(AF108,H108),3)=0,0,1) -> 0 | AI108: =IF(AH108=0," ",IF(AH108=1,"A total is not equal to the sum of its components: ",AH108&" totals are not equal to the sum of their components: "))&IF(AH108=0,"",IF(H108-SUM(C108:G108)=0,"","Total (column F). ")&IF(AF108-SUM(I108:L108,O108:Q108,T108,W108,Z108,AD108:AE108)=0,"","Total products. ")&IF(AG108-SUM(AF108,H108)=0,"","Total oil.")) | AS108: MA | AT108: MOROCCO | DU108: EXPORTS | DV108: _Z | DW108: _Z | DX108: _Z | DY108: _Z | DZ108: _Z | EA108: MA | EB108: WEIGHT | EC108: _Z | ED108: KT
A109: Mozambique | B109: 102 | C109: 0 | D109: 0 | E109: 0 | F109: 0 | G109: 0 | H109: =ROUND(SUM(C109:G109),3) -> 0 | I109: 0 | J109: 0 | K109: 0 | L109: 0 | M109: 0 | N109: 0 | O109: 0 | P109: 0 | Q109: 0 | R109: 0 | S109: 0 | T109: 0 | U109: 0 | V109: 0 | W109: 0 | X109: 0 | Y109: 0 | Z109: 0 | AA109: 0 | AB109: 0 | AC109: 0 | AD109: 0 | AE109: 0.002 | AF109: =ROUND(SUM(I109:K109,L109,O109:Q109,T109,W109,Z109,AD109:AE109),3) -> 0.002 | AG109: =ROUND(SUM(H109,AF109),3) -> 0.002 | AH109: =IF(ROUND(H109-SUM(C109:G109),3)=0,0,1)+IF(ROUND(AF109-SUM(I109:L109,O109:Q109,T109,W109,Z109,AD109:AE109),3)=0,0,1)+IF(ROUND(AG109-SUM(AF109,H109),3)=0,0,1) -> 0 | AI109: =IF(AH109=0," ",IF(AH109=1,"A total is not equal to the sum of its components: ",AH109&" totals are not equal to the sum of their components: "))&IF(AH109=0,"",IF(H109-SUM(C109:G109)=0,"","Total (column F). ")&IF(AF109-SUM(I109:L109,O109:Q109,T109,W109,Z109,AD109:AE109)=0,"","Total products. ")&IF(AG109-SUM(AF109,H109)=0,"","Total oil.")) | AS109: MZ | AT109: MOZAMBIQUE | DU109: EXPORTS | DV109: _Z | DW109: _Z | DX109: _Z | DY109: _Z | DZ109: _Z | EA109: MZ | EB109: WEIGHT | EC109: _Z | ED109: KT
A110: Myanmar | B110: 103 | C110: 0 | D110: 0 | E110: 0 | F110: 0 | G110: 0 | H110: =ROUND(SUM(C110:G110),3) -> 0 | I110: 0 | J110: 0 | K110: 0 | L110: 0 | M110: 0 | N110: 0 | O110: 0 | P110: 0 | Q110: 0 | R110: 0 | S110: 0 | T110: 0 | U110: 0 | V110: 0 | W110: 0 | X110: 0 | Y110: 0 | Z110: 0 | AA110: 0 | AB110: 0 | AC110: 0 | AD110: 0 | AE110: 0 | AF110: =ROUND(SUM(I110:K110,L110,O110:Q110,T110,W110,Z110,AD110:AE110),3) -> 0 | AG110: =ROUND(SUM(H110,AF110),3) -> 0 | AH110: =IF(ROUND(H110-SUM(C110:G110),3)=0,0,1)+IF(ROUND(AF110-SUM(I110:L110,O110:Q110,T110,W110,Z110,AD110:AE110),3)=0,0,1)+IF(ROUND(AG110-SUM(AF110,H110),3)=0,0,1) -> 0 | AI110: =IF(AH110=0," ",IF(AH110=1,"A total is not equal to the sum of its components: ",AH110&" totals are not equal to the sum of their components: "))&IF(AH110=0,"",IF(H110-SUM(C110:G110)=0,"","Total (column F). ")&IF(AF110-SUM(I110:L110,O110:Q110,T110,W110,Z110,AD110:AE110)=0,"","Total products. ")&IF(AG110-SUM(AF110,H110)=0,"","Total oil.")) | AS110: MM | AT110: MYANMAR | DU110: EXPORTS | DV110: _Z | DW110: _Z | DX110: _Z | DY110: _Z | DZ110: _Z | EA110: MM | EB110: WEIGHT | EC110: _Z | ED110: KT
A111: Namibia | B111: 104 | C111: 0 | D111: 0 | E111: 0 | F111: 0 | G111: 0 | H111: =ROUND(SUM(C111:G111),3) -> 0 | I111: 0 | J111: 0 | K111: 0 | L111: 0 | M111: 0 | N111: 0 | O111: 0 | P111: 0 | Q111: 0 | R111: 0 | S111: 0 | T111: 0 | U111: 0 | V111: 0 | W111: 0 | X111: 0 | Y111: 0 | Z111: 0 | AA111: 0 | AB111: 0 | AC111: 0 | AD111: 0 | AE111: 0 | AF111: =ROUND(SUM(I111:K111,L111,O111:Q111,T111,W111,Z111,AD111:AE111),3) -> 0 | AG111: =ROUND(SUM(H111,AF111),3) -> 0 | AH111: =IF(ROUND(H111-SUM(C111:G111),3)=0,0,1)+IF(ROUND(AF111-SUM(I111:L111,O111:Q111,T111,W111,Z111,AD111:AE111),3)=0,0,1)+IF(ROUND(AG111-SUM(AF111,H111),3)=0,0,1) -> 0 | AI111: =IF(AH111=0," ",IF(AH111=1,"A total is not equal to the sum of its components: ",AH111&" totals are not equal to the sum of their components: "))&IF(AH111=0,"",IF(H111-SUM(C111:G111)=0,"","Total (column F). ")&IF(AF111-SUM(I111:L111,O111:Q111,T111,W111,Z111,AD111:AE111)=0,"","Total products. ")&IF(AG111-SUM(AF111,H111)=0,"","Total oil.")) | AS111: NA | AT111: NAMIBIA | DU111: EXPORTS | DV111: _Z | DW111: _Z | DX111: _Z | DY111: _Z | DZ111: _Z | EA111: NA | EB111: WEIGHT | EC111: _Z | ED111: KT
A112: Nepal | B112: 105 | C112: 0 | D112: 0 | E112: 0 | F112: 0 | G112: 0 | H112: =ROUND(SUM(C112:G112),3) -> 0 | I112: 0 | J112: 0 | K112: 0 | L112: 0 | M112: 0 | N112: 0 | O112: 0 | P112: 0 | Q112: 0 | R112: 0 | S112: 0 | T112: 0 | U112: 0 | V112: 0 | W112: 0 | X112: 0 | Y112: 0 | Z112: 0 | AA112: 0 | AB112: 0 | AC112: 0 | AD112: 0 | AE112: 0 | AF112: =ROUND(SUM(I112:K112,L112,O112:Q112,T112,W112,Z112,AD112:AE112),3) -> 0 | AG112: =ROUND(SUM(H112,AF112),3) -> 0 | AH112: =IF(ROUND(H112-SUM(C112:G112),3)=0,0,1)+IF(ROUND(AF112-SUM(I112:L112,O112:Q112,T112,W112,Z112,AD112:AE112),3)=0,0,1)+IF(ROUND(AG112-SUM(AF112,H112),3)=0,0,1) -> 0 | AI112: =IF(AH112=0," ",IF(AH112=1,"A total is not equal to the sum of its components: ",AH112&" totals are not equal to the sum of their components: "))&IF(AH112=0,"",IF(H112-SUM(C112:G112)=0,"","Total (column F). ")&IF(AF112-SUM(I112:L112,O112:Q112,T112,W112,Z112,AD112:AE112)=0,"","Total products. ")&IF(AG112-SUM(AF112,H112)=0,"","Total oil.")) | AS112: NP | AT112: NEPAL | DU112: EXPORTS | DV112: _Z | DW112: _Z | DX112: _Z | DY112: _Z | DZ112: _Z | EA112: NP | EB112: WEIGHT | EC112: _Z | ED112: KT
A113: Netherlands | B113: 106 | C113: 0 | D113: 0 | E113: 0 | F113: 0 | G113: 0 | H113: =ROUND(SUM(C113:G113),3) -> 0 | I113: 0 | J113: 0 | K113: 0 | L113: 0 | M113: 0 | N113: 0 | O113: 0 | P113: 0 | Q113: 0 | R113: 0 | S113: 0 | T113: 0 | U113: 0 | V113: 0 | W113: 0 | X113: 0 | Y113: 0 | Z113: 0 | AA113: 0 | AB113: 0 | AC113: 0 | AD113: 0 | AE113: 0 | AF113: =ROUND(SUM(I113:K113,L113,O113:Q113,T113,W113,Z113,AD113:AE113),3) -> 0 | AG113: =ROUND(SUM(H113,AF113),3) -> 0 | AH113: =IF(ROUND(H113-SUM(C113:G113),3)=0,0,1)+IF(ROUND(AF113-SUM(I113:L113,O113:Q113,T113,W113,Z113,AD113:AE113),3)=0,0,1)+IF(ROUND(AG113-SUM(AF113,H113),3)=0,0,1) -> 0 | AI113: =IF(AH113=0," ",IF(AH113=1,"A total is not equal to the sum of its components: ",AH113&" totals are not equal to the sum of their components: "))&IF(AH113=0,"",IF(H113-SUM(C113:G113)=0,"","Total (column F). ")&IF(AF113-SUM(I113:L113,O113:Q113,T113,W113,Z113,AD113:AE113)=0,"","Total products. ")&IF(AG113-SUM(AF113,H113)=0,"","Total oil.")) | AS113: NL | AT113: NETHLAND | DU113: EXPORTS | DV113: _Z | DW113: _Z | DX113: _Z | DY113: _Z | DZ113: _Z | EA113: NL | EB113: WEIGHT | EC113: _Z | ED113: KT
A114: New Caledonia | B114: 107 | C114: 0 | D114: 0 | E114: 0 | F114: 0 | G114: 0 | H114: =ROUND(SUM(C114:G114),3) -> 0 | I114: 0 | J114: 0 | K114: 0 | L114: 0 | M114: 0 | N114: 0 | O114: 0 | P114: 0 | Q114: 0 | R114: 0 | S114: 0 | T114: 0 | U114: 0 | V114: 0 | W114: 0 | X114: 0 | Y114: 0 | Z114: 0 | AA114: 0 | AB114: 0 | AC114: 0 | AD114: 0 | AE114: 0.016 | AF114: =ROUND(SUM(I114:K114,L114,O114:Q114,T114,W114,Z114,AD114:AE114),3) -> 0.016 | AG114: =ROUND(SUM(H114,AF114),3) -> 0.016 | AH114: =IF(ROUND(H114-SUM(C114:G114),3)=0,0,1)+IF(ROUND(AF114-SUM(I114:L114,O114:Q114,T114,W114,Z114,AD114:AE114),3)=0,0,1)+IF(ROUND(AG114-SUM(AF114,H114),3)=0,0,1) -> 0 | AI114: =IF(AH114=0," ",IF(AH114=1,"A total is not equal to the sum of its components: ",AH114&" totals are not equal to the sum of their components: "))&IF(AH114=0,"",IF(H114-SUM(C114:G114)=0,"","Total (column F). ")&IF(AF114-SUM(I114:L114,O114:Q114,T114,W114,Z114,AD114:AE114)=0,"","Total products. ")&IF(AG114-SUM(AF114,H114)=0,"","Total oil.")) | AS114: NC | AT114: NEWCALEDON | DU114: EXPORTS | DV114: _Z | DW114: _Z | DX114: _Z | DY114: _Z | DZ114: _Z | EA114: NC | EB114: WEIGHT | EC114: _Z | ED114: KT
... A173: Not elsewhere specified | B173: 166 | C173: 0 | D173: 0 | E173: 0 | F173: 0 | G173: 0 | H173: =ROUND(SUM(C173:G173),3) -> 0 | I173: 0 | J173: 0 | K173: 0 | L173: 0 | M173: 0 | N173: 0 | O173: 0 | P173: 0 | Q173: 0 | R173: 0 | S173: 0 | T173: 0 | U173: 0 | V173: 0 | W173: 0 | X173: 0 | Y173: 0 | Z173: 0 | AA173: 0 | AB173: 0 | AC173: 0 | AD173: 0 | AE173: 0 | AF173: =ROUND(SUM(I173:K173,L173,O173:Q173,T173,W173,Z173,AD173:AE173),3) -> 0 | AG173: =ROUND(SUM(H173,AF173),3) -> 0 | AH173: =IF(ROUND(H173-SUM(C173:G173),3)=0,0,1)+IF(ROUND(AF173-SUM(I173:L173,O173:Q173,T173,W173,Z173,AD173:AE173),3)=0,0,1)+IF(ROUND(AG173-SUM(AF173,H173),3)=0,0,1) -> 0 | AI173: =IF(AH173=0," ",IF(AH173=1,"A total is not equal to the sum of its components: ",AH173&" totals are not equal to the sum of their components: "))&IF(AH173=0,"",IF(H173-SUM(C173:G173)=0,"","Total (column F). ")&IF(AF173-SUM(I173:L173,O173:Q173,T173,W173,Z173,AD173:AE173)=0,"","Total products. ")&IF(AG173-SUM(AF173,H173)=0,"","Total oil.")) | AS173: Y3 | AT173: NONSPEC | DU173: EXPORTS | DV173: _Z | DW173: _Z | DX173: _Z | DY173: _Z | DZ173: _Z | EA173: _X | EB173: WEIGHT | EC173: _Z | ED173: KT
A174: Total Exports1 2 | B174: 167 | C174: =ROUND(SUM(C8:C173),3) -> 29.035 | D174: =ROUND(SUM(D8:D173),3) -> 10.33 | E174: =ROUND(SUM(E8:E173),3) -> 0 | F174: =ROUND(SUM(F8:F173),3) -> 139.796 | G174: =ROUND(SUM(G8:G173),3) -> 0 | H174: =ROUND(SUM(H8:H173),3) -> 179.161 | I174: =ROUND(SUM(I8:I173),3) -> 0 | J174: =ROUND(SUM(J8:J173),3) -> 134.663 | ... AG174: =ROUND(SUM(AG8:AG173),3) -> 9339.468 | AH174: =IF(ROUND(H174-SUM(C174:G174),3)=0,0,1)+IF(ROUND(AF174-SUM(I174:L174,O174:Q174,T174,W174,Z174,AD174:AE174),3)=0,0,1)+IF(ROUND(AG174-SUM(AF174,H174),3)=0,0,1) -> 0 | AI174: =IF(AH174=0," ",IF(AH174=1,"A total is not equal to the sum of its components: ",AH174&" totals are not equal to the sum of their components: "))&IF(AH174=0,"",IF(H174-SUM(C174:G174)=0,"","Total (column F). ")&IF(AF174-SUM(I174:L174,O174:Q174,T174,W174,Z174,AD174:AE174)=0,"","Total products. ")&IF(AG174-SUM(AF174,H174)=0,"","Total oil.")) | AS174: Y1 | AT174: TOTEXPST | DU174: EXPORTS | DV174: _Z | DW174: _Z | DX174: _Z | DY174: _Z | DZ174: _Z | EA174: _T | EB174: WEIGHT | EC174: _Z | ED174: KT
C175: =IF(MIN(C8:C174)<0,"Negative number","") | D175: =IF(MIN(D8:D174)<0,"Negative number","") | E175: =IF(MIN(E8:E174)<0,"Negative number","") | F175: =IF(MIN(F8:F174)<0,"Negative number","") | G175: =IF(MIN(G8:G174)<0,"Negative number","") | H175: =IF(MIN(H8:H174)<0,"Negative number","") | I175: =IF(MIN(I8:I174)<0,"Negative number","") | J175: =IF(MIN(J8:J174)<0,"Negative number","") | ... AA175: =IF(MIN(AA8:AA174)<0,"Negative number","") | AC175: =IF(MIN(AC8:AC174)<0,"Negative number","") | AD175: =IF(MIN(AD8:AD174)<0,"Negative number","") | AE175: =IF(MIN(AE8:AE174)<0,"Negative number","") | AF175: =IF(MIN(AF8:AF174)<0,"Negative number","") | AG175: =IF(MIN(AG8:AG174)<0,"Negative number","")
A177: 1. Total Exports of Total (F165) should be equal to Exports (Balance) of Total in Table 1 (G6) | H177: =ROUND(H174-'Table 1'!J19,3) -> -0.001 | I177: =IF(H177=0,"OK","Total Exports of Total is not equal to Exports (Balance) of Total in Table 1.") -> Total Exports of Total is not equal to Exports (Balance) of Total in Table 1.
A178: and Total Exports of Total products (AC165) should be equal to Exports (Balance) of Total products in Table 2 (Z6). | H178: =ROUND(AF174-'Table 2'!AD13,3) -> -0.196 | I178: =IF(H178=0,"OK","Total Exports of Total products is not equal to Exports (Balance) for Total products in Table 2.") -> Total Exports of Total products is not equal to Exports (Balance) for Total products in Table 2.
A179: 2. Total Exports should be equal to the sum of its components for Total (column F) | H179: =ROUND(H174-SUM(H8:H173),3) -> 0 | I179: =IF(H179=0,"OK","Total Exports is not equal to the sum of its components for Total (column F).") -> OK
A180: and for Total products (Column AC). | H180: =ROUND(AF174-SUM(AF8:AF173),3) -> 0 | I180: =IF(H180=0,"OK","Total Exports is not equal to the sum of its components for Total products.") -> OK
A181: 3. Trade with itself is not allowed | H181: =IF(MAX(IFERROR(OFFSET(C7,MATCH(CountryCode,$AT$8:$AT$173,0),0,1,30),0))>0,1,0)+IF(CountryCode=Param!$D$67,MAX(C167:AE167),0) -> 0 | I181: =IF(H181=0,"OK","Country is reporting export to itself") -> OK
A182: * This designation is without prejudice to positions on status, and is line with UNSCR 1244 and the ICJ Opinion on the Kosovo declaration of independence.
A201: Products è | C201: CRUDEOIL | D201: NGL | E201: REFFEEDS | F201: ADDITIVE | G201: NONCRUDE | H201: CRNGFEED | I201: ETHANE | J201: LPG | K201: NAPHTHA | L201: MOTORGAS | M201: BIOGASOL | N201: NONBIOGASO | O201: AVGAS | P201: JETGAS | Q201: JETKERO | R201: BIOJETKERO | S201: NONBIOJETK | T201: OTHKERO | U201: DIESEL | V201: HEATOIL | W201: GASDIES | X201: BIODIESEL | Y201: NONBIODIES | Z201: RESFUEL | AA201: LOWSULF | AB201: VLOWSULF | AC201: HIGHSULF | AD201: PETCOKE | AE201: OPRODS | AF201: TOTPRODS | AG201: TOTALOIL
A1000: ENERGY_PRODUCT | C1000: O4100 | D1000: O4200 | E1000: O4300 | F1000: O4400 | G1000: O4500 | H1000: O4A00 | I1000: O4620 | J1000: O4630 | K1000: O4640 | L1000: O4652 | M1000: R5212 | N1000: O4657 | O1000: O4651 | P1000: O4653 | Q1000: O4661 | R1000: R5232 | S1000: O4667 | T1000: O4669 | U1000: O4678 | V1000: O4679 | W1000: O4671 | X1000: R5222 | Y1000: O4677 | Z1000: O4680 | AA1000: O4681 | AB1000: O46811 | AC1000: O4682 | AD1000: O4694 | AE1000: O4690XO4694 | AF1000: O4600 | AG1000: O4000

Sheet Table 5
A1: MONTHLY OIL QUESTIONNAIRE
A2: =IF('Table 1'!D2=0,"",'Table 1'!D2) -> Netherlands
A3: =IF('Table 1'!D3=0,"",'Table 1'!D3 & " " & QuestYear) -> September 2026 | AT3: Datatype
A4: Table 5: STOCK LEVELS | E4: All opening stock levels should be equal to closing stock levels of the previous month | AI4: Unit: Thousand Metric Tons | AT4: BALANCE
D5: Crude oil | E5: Natural gas liquids | F5: Refinery feedstocks | G5: Additives / oxygenates | I5: Other hydro-carbons | J5: Total (A to F, excl. E) | K5: Ethane | L5: LPG | M5: Naphtha | N5: Total motor gasoline | Q5: Aviation gasoline | R5: Gasoline type jet fuel | S5: Total kerosene type jet fuel | V5: Other kerosene | Y5: Total gas/diesel oil | AB5: Total fuel oil | AF5: Petroleum coke | AG5: Other products | AH5: Total products | AI5: Total oil | AK5: Probate
H6: Of which Biofuels | O6: Biogasoline | P6: Non-biogasoline | T6: Bio jet kerosene | U6: Non-bio jet kerosene | W6: Road diesel | X6: Heating and other gas oil | Z6: Biodiesels | AA6: Non-bio gas/diesel oil | AC6: Fuel oil- low sulphur (<1%) | AD6: Of which: Fuel oil- very low sulphur (<0.5%) | AE6: Fuel oil- high sulphur (>=1%) | DS6: *** DSD codes ***
D7: A | E7: B | F7: C | G7: D | H7: E | I7: F | J7: G | K7: H | L7: I | M7: J | N7: K | O7: L | P7: M | Q7: N | R7: O | S7: P | T7: Q | U7: R | V7: S | W7: T | X7: U | Y7: V | Z7: W | AA7: X | AB7: Y | AC7: Z | AD7: AA | AE7: AB | AF7: AC | AG7: AD | AH7: AE | AI7: AF | AK7: AG | AT7: Item1 ê | DS7: REF_AREA | DT7: ENERGY_PRODUCT | DU7: MAIN_FLOW | DV7: FLOW_BREAKDOWN | DW7: PLANT_TECH | DX7: PLANT_TYPE | DY7: STOCKS | DZ7: INFRASTRUCTURE_IND | EA7: VIS_A_VIS_AREA | EB7: MEASURE_VALUE_TYPE | EC7: FACILITY_ID | ED7: UNIT_MEASURE | EE7: TIME_PERIOD
A8: (a) All stocks on | B8: Opening | C8: 1 | D8: =ROUND(D10+D12+D14+D16+D18+D20+D22+D24,3) -> 4459.351 | E8: =ROUND(E10+E12+E14+E16+E18+E20+E22+E24,3) -> 356.056 | F8: =ROUND(F10+F12+F14+F16+F18+F20+F22+F24,3) -> 0 | G8: =ROUND(G10+G12+G14+G16+G18+G20+G22+G24,3) -> 1312.722 | H8: =ROUND(H10+H12+H14+H16+H18+H20+H22+H24,3) -> 918.297 | I8: =ROUND(I10+I12+I14+I16+I18+I20+I22+I24,3) -> 0 | J8: =ROUND(J10+J12+J14+J16+J18+J20+J22+J24,3) -> 6128.129 | K8: =ROUND(K10+K12+K14+K16+K18+K20+K22+K24,3) -> 0 | ... AG8: =ROUND(AG10+AG12+AG14+AG16+AG18+AG20+AG22+AG24,3) -> 522.643 | AH8: =ROUND(SUM(K8:N8,Q8:S8,V8,Y8,AB8,AF8:AG8),3) -> 8173.687 | AI8: =ROUND(SUM(J8,AH8),3) -> 14301.816 | AJ8: =IF(ROUND(J8-SUM(D8:G8,I8),3)=0,0,1)+IF(ROUND(AH8-SUM(K8:N8,Q8:S8,V8,Y8,AB8,AF8:AG8),3)=0,0,1)+IF(ROUND(AI8-SUM(AH8,J8),3)=0,0,1) -> 0 | AK8: =IF(AJ8=0," ",IF(AJ8=1,"A total is not equal to the sum of its components: ",AJ8&" totals are not equal to the sum of their components: "))&IF(AJ8=0,"",IF(J8-SUM(D8:G8,I8)=0,"","Total crude. ")&IF(AH8-SUM(K8:N8,Q8:S8,V8,Y8,AB8,AF8:AG8)=0,"","Total products. ")&IF(AI8-SUM(AH8,J8)=0,"","Total oil.")) | AT8: OSNATTER | DS8: =VLOOKUP(CountryUser, Param!$C$9:$E$67, 3, 0) -> NL | DT8: Row 1000 | DU8: STOCKS | DV8: OPESTLV | DW8: _Z | DX8: _Z | DY8: NATTER | DZ8: _Z | EA8: _Z | EB8: WEIGHT | EC8: _Z | ED8: KT | EE8: =QuestYear&"-"&TEXT(MATCH(FirstMonth, Param!C71:C82,0), "00") -> 2026-09
A9: national territory (b+c+d+e+f+g+h+i) 1 | B9: Closing | C9: 2 | D9: =ROUND(D11+D13+D15+D17+D19+D21+D23+D25,3) -> 4624.005 | E9: =ROUND(E11+E13+E15+E17+E19+E21+E23+E25,3) -> 242.645 | F9: =ROUND(F11+F13+F15+F17+F19+F21+F23+F25,3) -> 0 | G9: =ROUND(G11+G13+G15+G17+G19+G21+G23+G25,3) -> 1315.344 | H9: =ROUND(H11+H13+H15+H17+H19+H21+H23+H25,3) -> 930.195 | I9: =ROUND(I11+I13+I15+I17+I19+I21+I23+I25,3) -> 0 | J9: =ROUND(J11+J13+J15+J17+J19+J21+J23+J25,3) -> 6181.994 | K9: =ROUND(K11+K13+K15+K17+K19+K21+K23+K25,3) -> 0 | ... AG9: =ROUND(AG11+AG13+AG15+AG17+AG19+AG21+AG23+AG25,3) -> 522.751 | AH9: =ROUND(SUM(K9:N9,Q9:S9,V9,Y9,AB9,AF9:AG9),3) -> 8504.551 | AI9: =ROUND(SUM(J9,AH9),3) -> 14686.545 | AJ9: =IF(ROUND(J9-SUM(D9:G9,I9),3)=0,0,1)+IF(ROUND(AH9-SUM(K9:N9,Q9:S9,V9,Y9,AB9,AF9:AG9),3)=0,0,1)+IF(ROUND(AI9-SUM(AH9,J9),3)=0,0,1) -> 0 | AK9: =IF(AJ9=0," ",IF(AJ9=1,"A total is not equal to the sum of its components: ",AJ9&" totals are not equal to the sum of their components: "))&IF(AJ9=0,"",IF(J9-SUM(D9:G9,I9)=0,"","Total crude. ")&IF(AH9-SUM(K9:N9,Q9:S9,V9,Y9,AB9,AF9:AG9)=0,"","Total products. ")&IF(AI9-SUM(AH9,J9)=0,"","Total oil.")) | AT9: CSNATTER | DU9: STOCKS | DV9: CLOSTLV | DW9: _Z | DX9: _Z | DY9: NATTER | DZ9: _Z | EA9: _Z | EB9: WEIGHT | EC9: _Z | ED9: KT
A10: (b) Stocks held for other countries | B10: Opening | C10: 3 | D10: 1707 | E10: 0 | F10: 0 | G10: 0 | H10: 0 | I10: 0 | J10: =ROUND(SUM(D10:G10,I10),3) -> 1707 | K10: 0 | L10: 0 | M10: 0 | N10: 156 | O10: 0 | P10: 156 | Q10: 0 | R10: 0 | S10: 83 | T10: 0 | U10: 83 | V10: 0 | W10: 234 | X10: 0 | Y10: 234 | Z10: 0 | AA10: 234 | AB10: 304 | AC10: 60 | AD10: 0 | AE10: 244 | AF10: 38 | AG10: 300 | AH10: =ROUND(SUM(K10:N10,Q10:S10,V10,Y10,AB10,AF10:AG10),3) -> 1115 | AI10: =ROUND(SUM(J10,AH10),3) -> 2822 | AJ10: =IF(ROUND(J10-SUM(D10:G10,I10),3)=0,0,1)+IF(ROUND(AH10-SUM(K10:N10,Q10:S10,V10,Y10,AB10,AF10:AG10),3)=0,0,1)+IF(ROUND(AI10-SUM(AH10,J10),3)=0,0,1) -> 0 | AK10: =IF(AJ10=0," ",IF(AJ10=1,"A total is not equal to the sum of its components: ",AJ10&" totals are not equal to the sum of their components: "))&IF(AJ10=0,"",IF(J10-SUM(D10:G10,I10)=0,"","Total crude. ")&IF(AH10-SUM(K10:N10,Q10:S10,V10,Y10,AB10,AF10:AG10)=0,"","Total products. ")&IF(AI10-SUM(AH10,J10)=0,"","Total oil.")) | AT10: OSOTHBIL | DU10: STOCKS | DV10: OPESTLV | DW10: _Z | DX10: _Z | DY10: FOTHBIL | DZ10: _Z | EA10: _Z | EB10: WEIGHT | EC10: _Z | ED10: KT
A11: under official agreement | B11: Closing 2 | C11: 4 | D11: 1707 | E11: 0 | F11: 0 | G11: 0 | H11: 0 | I11: 0 | J11: =ROUND(SUM(D11:G11,I11),3) -> 1707 | K11: 0 | L11: 0 | M11: 0 | N11: 156 | O11: 0 | P11: 156 | Q11: 0 | R11: 0 | S11: 83 | T11: 0 | U11: 83 | V11: 0 | W11: 234 | X11: 0 | Y11: 234 | Z11: 0 | AA11: 234 | AB11: 304 | AC11: 60 | AD11: 0 | AE11: 244 | AF11: 38 | AG11: 300 | AH11: =ROUND(SUM(K11:N11,Q11:S11,V11,Y11,AB11,AF11:AG11),3) -> 1115 | AI11: =ROUND(SUM(J11,AH11),3) -> 2822 | AJ11: =IF(ROUND(J11-SUM(D11:G11,I11),3)=0,0,1)+IF(ROUND(AH11-SUM(K11:N11,Q11:S11,V11,Y11,AB11,AF11:AG11),3)=0,0,1)+IF(ROUND(AI11-SUM(AH11,J11),3)=0,0,1) -> 0 | AK11: =IF(AJ11=0," ",IF(AJ11=1,"A total is not equal to the sum of its components: ",AJ11&" totals are not equal to the sum of their components: "))&IF(AJ11=0,"",IF(J11-SUM(D11:G11,I11)=0,"","Total crude. ")&IF(AH11-SUM(K11:N11,Q11:S11,V11,Y11,AB11,AF11:AG11)=0,"","Total products. ")&IF(AI11-SUM(AH11,J11)=0,"","Total oil.")) | AT11: CSOTHBIL | DU11: STOCKS | DV11: CLOSTLV | DW11: _Z | DX11: _Z | DY11: FOTHBIL | DZ11: _Z | EA11: _Z | EB11: WEIGHT | EC11: _Z | ED11: KT
A12: (c) Stocks with known | B12: Opening | C12: 5 | D12: 0 | E12: 0 | F12: 0 | G12: 0 | H12: 0 | I12: 0 | J12: =ROUND(SUM(D12:G12,I12),3) -> 0 | K12: 0 | L12: 0 | M12: 0 | N12: 0 | O12: 0 | P12: 0 | Q12: 0 | R12: 0 | S12: 0 | T12: 0 | U12: 0 | V12: 0 | W12: 0 | X12: 0 | Y12: 0 | Z12: 0 | AA12: 0 | AB12: 0 | AC12: 0 | AD12: 0 | AE12: 0 | AF12: 0 | AG12: 0 | AH12: =ROUND(SUM(K12:N12,Q12:S12,V12,Y12,AB12,AF12:AG12),3) -> 0 | AI12: =ROUND(SUM(J12,AH12),3) -> 0 | AJ12: =IF(ROUND(J12-SUM(D12:G12,I12),3)=0,0,1)+IF(ROUND(AH12-SUM(K12:N12,Q12:S12,V12,Y12,AB12,AF12:AG12),3)=0,0,1)+IF(ROUND(AI12-SUM(AH12,J12),3)=0,0,1) -> 0 | AK12: =IF(AJ12=0," ",IF(AJ12=1,"A total is not equal to the sum of its components: ",AJ12&" totals are not equal to the sum of their components: "))&IF(AJ12=0,"",IF(J12-SUM(D12:G12,I12)=0,"","Total crude. ")&IF(AH12-SUM(K12:N12,Q12:S12,V12,Y12,AB12,AF12:AG12)=0,"","Total products. ")&IF(AI12-SUM(AH12,J12)=0,"","Total oil.")) | AT12: OSOTHFOR | DU12: STOCKS | DV12: OPESTLV | DW12: _Z | DX12: _Z | DY12: FOTHEXP | DZ12: _Z | EA12: _Z | EB12: WEIGHT | EC12: _Z | ED12: KT
A13: foreign destination | B13: Closing 3 | C13: 6 | D13: 0 | E13: 0 | F13: 0 | G13: 0 | H13: 0 | I13: 0 | J13: =ROUND(SUM(D13:G13,I13),3) -> 0 | K13: 0 | L13: 0 | M13: 0 | N13: 0 | O13: 0 | P13: 0 | Q13: 0 | R13: 0 | S13: 0 | T13: 0 | U13: 0 | V13: 0 | W13: 0 | X13: 0 | Y13: 0 | Z13: 0 | AA13: 0 | AB13: 0 | AC13: 0 | AD13: 0 | AE13: 0 | AF13: 0 | AG13: 0 | AH13: =ROUND(SUM(K13:N13,Q13:S13,V13,Y13,AB13,AF13:AG13),3) -> 0 | AI13: =ROUND(SUM(J13,AH13),3) -> 0 | AJ13: =IF(ROUND(J13-SUM(D13:G13,I13),3)=0,0,1)+IF(ROUND(AH13-SUM(K13:N13,Q13:S13,V13,Y13,AB13,AF13:AG13),3)=0,0,1)+IF(ROUND(AI13-SUM(AH13,J13),3)=0,0,1) -> 0 | AK13: =IF(AJ13=0," ",IF(AJ13=1,"A total is not equal to the sum of its components: ",AJ13&" totals are not equal to the sum of their components: "))&IF(AJ13=0,"",IF(J13-SUM(D13:G13,I13)=0,"","Total crude. ")&IF(AH13-SUM(K13:N13,Q13:S13,V13,Y13,AB13,AF13:AG13)=0,"","Total products. ")&IF(AI13-SUM(AH13,J13)=0,"","Total oil.")) | AT13: CSOTHFOR | DU13: STOCKS | DV13: CLOSTLV | DW13: _Z | DX13: _Z | DY13: FOTHEXP | DZ13: _Z | EA13: _Z | EB13: WEIGHT | EC13: _Z | ED13: KT
A14: (d) Stocks held in bonded areas | B14: Opening | C14: 7 | D14: 0 | E14: 0 | F14: 0 | G14: 0 | H14: 0 | I14: 0 | J14: =ROUND(SUM(D14:G14,I14),3) -> 0 | K14: 0 | L14: 0 | M14: 0 | N14: 0 | O14: 0 | P14: 0 | Q14: 0 | R14: 0 | S14: 0 | T14: 0 | U14: 0 | V14: 0 | W14: 0 | X14: 0 | Y14: 0 | Z14: 0 | AA14: 0 | AB14: 0 | AC14: 0 | AD14: 0 | AE14: 0 | AF14: 0 | AG14: 0 | AH14: =ROUND(SUM(K14:N14,Q14:S14,V14,Y14,AB14,AF14:AG14),3) -> 0 | AI14: =ROUND(SUM(J14,AH14),3) -> 0 | AJ14: =IF(ROUND(J14-SUM(D14:G14,I14),3)=0,0,1)+IF(ROUND(AH14-SUM(K14:N14,Q14:S14,V14,Y14,AB14,AF14:AG14),3)=0,0,1)+IF(ROUND(AI14-SUM(AH14,J14),3)=0,0,1) -> 0 | AK14: =IF(AJ14=0," ",IF(AJ14=1,"A total is not equal to the sum of its components: ",AJ14&" totals are not equal to the sum of their components: "))&IF(AJ14=0,"",IF(J14-SUM(D14:G14,I14)=0,"","Total crude. ")&IF(AH14-SUM(K14:N14,Q14:S14,V14,Y14,AB14,AF14:AG14)=0,"","Total products. ")&IF(AI14-SUM(AH14,J14)=0,"","Total oil.")) | AT14: OSBONDED | DU14: STOCKS | DV14: OPESTLV | DW14: _Z | DX14: _Z | DY14: BONDED | DZ14: _Z | EA14: _Z | EB14: WEIGHT | EC14: _Z | ED14: KT
A15: and not included in (b) or (c) | B15: Closing | C15: 8 | D15: 0 | E15: 0 | F15: 0 | G15: 0 | H15: 0 | I15: 0 | J15: =ROUND(SUM(D15:G15,I15),3) -> 0 | K15: 0 | L15: 0 | M15: 0 | N15: 0 | O15: 0 | P15: 0 | Q15: 0 | R15: 0 | S15: 0 | T15: 0 | U15: 0 | V15: 0 | W15: 0 | X15: 0 | Y15: 0 | Z15: 0 | AA15: 0 | AB15: 0 | AC15: 0 | AD15: 0 | AE15: 0 | AF15: 0 | AG15: 0 | AH15: =ROUND(SUM(K15:N15,Q15:S15,V15,Y15,AB15,AF15:AG15),3) -> 0 | AI15: =ROUND(SUM(J15,AH15),3) -> 0 | AJ15: =IF(ROUND(J15-SUM(D15:G15,I15),3)=0,0,1)+IF(ROUND(AH15-SUM(K15:N15,Q15:S15,V15,Y15,AB15,AF15:AG15),3)=0,0,1)+IF(ROUND(AI15-SUM(AH15,J15),3)=0,0,1) -> 0 | AK15: =IF(AJ15=0," ",IF(AJ15=1,"A total is not equal to the sum of its components: ",AJ15&" totals are not equal to the sum of their components: "))&IF(AJ15=0,"",IF(J15-SUM(D15:G15,I15)=0,"","Total crude. ")&IF(AH15-SUM(K15:N15,Q15:S15,V15,Y15,AB15,AF15:AG15)=0,"","Total products. ")&IF(AI15-SUM(AH15,J15)=0,"","Total oil.")) | AT15: CSBONDED | DU15: STOCKS | DV15: CLOSTLV | DW15: _Z | DX15: _Z | DY15: BONDED | DZ15: _Z | EA15: _Z | EB15: WEIGHT | EC15: _Z | ED15: KT
A16: (e) Stocks held by major consumers, | B16: Opening | C16: 9 | D16: 0 | E16: 0 | F16: 0 | G16: 0 | H16: 0 | I16: 0 | J16: =ROUND(SUM(D16:G16,I16),3) -> 0 | K16: 0 | L16: 0 | M16: 0 | N16: 0 | O16: 0 | P16: 0 | Q16: 0 | R16: 0 | S16: 0 | T16: 0 | U16: 0 | V16: 0 | W16: 0 | X16: 0 | Y16: 0 | Z16: 0 | AA16: 0 | AB16: 0 | AC16: 0 | AD16: 0 | AE16: 0 | AF16: 0 | AG16: 0 | AH16: =ROUND(SUM(K16:N16,Q16:S16,V16,Y16,AB16,AF16:AG16),3) -> 0 | AI16: =ROUND(SUM(J16,AH16),3) -> 0 | AJ16: =IF(ROUND(J16-SUM(D16:G16,I16),3)=0,0,1)+IF(ROUND(AH16-SUM(K16:N16,Q16:S16,V16,Y16,AB16,AF16:AG16),3)=0,0,1)+IF(ROUND(AI16-SUM(AH16,J16),3)=0,0,1) -> 0 | AK16: =IF(AJ16=0," ",IF(AJ16=1,"A total is not equal to the sum of its components: ",AJ16&" totals are not equal to the sum of their components: "))&IF(AJ16=0,"",IF(J16-SUM(D16:G16,I16)=0,"","Total crude. ")&IF(AH16-SUM(K16:N16,Q16:S16,V16,Y16,AB16,AF16:AG16)=0,"","Total products. ")&IF(AI16-SUM(AH16,J16)=0,"","Total oil.")) | AT16: OSMAJCON | DU16: STOCKS | DV16: OPESTLV | DW16: _Z | DX16: _Z | DY16: MAJCON | DZ16: _Z | EA16: _Z | EB16: WEIGHT | EC16: _Z | ED16: KT
A17: obligated by law | B17: Closing | C17: 10 | D17: 0 | E17: 0 | F17: 0 | G17: 0 | H17: 0 | I17: 0 | J17: =ROUND(SUM(D17:G17,I17),3) -> 0 | K17: 0 | L17: 0 | M17: 0 | N17: 0 | O17: 0 | P17: 0 | Q17: 0 | R17: 0 | S17: 0 | T17: 0 | U17: 0 | V17: 0 | W17: 0 | X17: 0 | Y17: 0 | Z17: 0 | AA17: 0 | AB17: 0 | AC17: 0 | AD17: 0 | AE17: 0 | AF17: 0 | AG17: 0 | AH17: =ROUND(SUM(K17:N17,Q17:S17,V17,Y17,AB17,AF17:AG17),3) -> 0 | AI17: =ROUND(SUM(J17,AH17),3) -> 0 | AJ17: =IF(ROUND(J17-SUM(D17:G17,I17),3)=0,0,1)+IF(ROUND(AH17-SUM(K17:N17,Q17:S17,V17,Y17,AB17,AF17:AG17),3)=0,0,1)+IF(ROUND(AI17-SUM(AH17,J17),3)=0,0,1) -> 0 | AK17: =IF(AJ17=0," ",IF(AJ17=1,"A total is not equal to the sum of its components: ",AJ17&" totals are not equal to the sum of their components: "))&IF(AJ17=0,"",IF(J17-SUM(D17:G17,I17)=0,"","Total crude. ")&IF(AH17-SUM(K17:N17,Q17:S17,V17,Y17,AB17,AF17:AG17)=0,"","Total products. ")&IF(AI17-SUM(AH17,J17)=0,"","Total oil.")) | AT17: CSMAJCON | DU17: STOCKS | DV17: CLOSTLV | DW17: _Z | DX17: _Z | DY17: MAJCON | DZ17: _Z | EA17: _Z | EB17: WEIGHT | EC17: _Z | ED17: KT
A18: (f) Stocks held on board incoming | B18: Opening | C18: 11 | D18: 0 | E18: 0 | F18: 0 | G18: 0 | H18: 0 | I18: 0 | J18: =ROUND(SUM(D18:G18,I18),3) -> 0 | K18: 0 | L18: 0 | M18: 0 | N18: 0 | O18: 0 | P18: 0 | Q18: 0 | R18: 0 | S18: 0 | T18: 0 | U18: 0 | V18: 0 | W18: 0 | X18: 0 | Y18: 0 | Z18: 0 | AA18: 0 | AB18: 0 | AC18: 0 | AD18: 0 | AE18: 0 | AF18: 0 | AG18: 0 | AH18: =ROUND(SUM(K18:N18,Q18:S18,V18,Y18,AB18,AF18:AG18),3) -> 0 | AI18: =ROUND(SUM(J18,AH18),3) -> 0 | AJ18: =IF(ROUND(J18-SUM(D18:G18,I18),3)=0,0,1)+IF(ROUND(AH18-SUM(K18:N18,Q18:S18,V18,Y18,AB18,AF18:AG18),3)=0,0,1)+IF(ROUND(AI18-SUM(AH18,J18),3)=0,0,1) -> 0 | AK18: =IF(AJ18=0," ",IF(AJ18=1,"A total is not equal to the sum of its components: ",AJ18&" totals are not equal to the sum of their components: "))&IF(AJ18=0,"",IF(J18-SUM(D18:G18,I18)=0,"","Total crude. ")&IF(AH18-SUM(K18:N18,Q18:S18,V18,Y18,AB18,AF18:AG18)=0,"","Total products. ")&IF(AI18-SUM(AH18,J18)=0,"","Total oil.")) | AT18: OSVESSEL | DU18: STOCKS | DV18: OPESTLV | DW18: _Z | DX18: _Z | DY18: VESSEL | DZ18: _Z | EA18: _Z | EB18: WEIGHT | EC18: _Z | ED18: KT
A19: ocean vessels in port or at mooring | B19: Closing | C19: 12 | D19: 0 | E19: 0 | F19: 0 | G19: 0 | H19: 0 | I19: 0 | J19: =ROUND(SUM(D19:G19,I19),3) -> 0 | K19: 0 | L19: 0 | M19: 0 | N19: 0 | O19: 0 | P19: 0 | Q19: 0 | R19: 0 | S19: 0 | T19: 0 | U19: 0 | V19: 0 | W19: 0 | X19: 0 | Y19: 0 | Z19: 0 | AA19: 0 | AB19: 0 | AC19: 0 | AD19: 0 | AE19: 0 | AF19: 0 | AG19: 0 | AH19: =ROUND(SUM(K19:N19,Q19:S19,V19,Y19,AB19,AF19:AG19),3) -> 0 | AI19: =ROUND(SUM(J19,AH19),3) -> 0 | AJ19: =IF(ROUND(J19-SUM(D19:G19,I19),3)=0,0,1)+IF(ROUND(AH19-SUM(K19:N19,Q19:S19,V19,Y19,AB19,AF19:AG19),3)=0,0,1)+IF(ROUND(AI19-SUM(AH19,J19),3)=0,0,1) -> 0 | AK19: =IF(AJ19=0," ",IF(AJ19=1,"A total is not equal to the sum of its components: ",AJ19&" totals are not equal to the sum of their components: "))&IF(AJ19=0,"",IF(J19-SUM(D19:G19,I19)=0,"","Total crude. ")&IF(AH19-SUM(K19:N19,Q19:S19,V19,Y19,AB19,AF19:AG19)=0,"","Total products. ")&IF(AI19-SUM(AH19,J19)=0,"","Total oil.")) | AT19: CSVESSEL | DU19: STOCKS | DV19: CLOSTLV | DW19: _Z | DX19: _Z | DY19: VESSEL | DZ19: _Z | EA19: _Z | EB19: WEIGHT | EC19: _Z | ED19: KT
A20: (g) Stocks held by government | B20: Opening | C20: 13 | D20: 0 | E20: 0 | F20: 0 | G20: 0 | H20: 0 | I20: 0 | J20: =ROUND(SUM(D20:G20,I20),3) -> 0 | K20: 0 | L20: 0 | M20: 0 | N20: 0 | O20: 0 | P20: 0 | Q20: 0 | R20: 0 | S20: 0 | T20: 0 | U20: 0 | V20: 0 | W20: 0 | X20: 0 | Y20: 0 | Z20: 0 | AA20: 0 | AB20: 0 | AC20: 0 | AD20: 0 | AE20: 0 | AF20: 0 | AG20: 0 | AH20: =ROUND(SUM(K20:N20,Q20:S20,V20,Y20,AB20,AF20:AG20),3) -> 0 | AI20: =ROUND(SUM(J20,AH20),3) -> 0 | AJ20: =IF(ROUND(J20-SUM(D20:G20,I20),3)=0,0,1)+IF(ROUND(AH20-SUM(K20:N20,Q20:S20,V20,Y20,AB20,AF20:AG20),3)=0,0,1)+IF(ROUND(AI20-SUM(AH20,J20),3)=0,0,1) -> 0 | AK20: =IF(AJ20=0," ",IF(AJ20=1,"A total is not equal to the sum of its components: ",AJ20&" totals are not equal to the sum of their components: "))&IF(AJ20=0,"",IF(J20-SUM(D20:G20,I20)=0,"","Total crude. ")&IF(AH20-SUM(K20:N20,Q20:S20,V20,Y20,AB20,AF20:AG20)=0,"","Total products. ")&IF(AI20-SUM(AH20,J20)=0,"","Total oil.")) | AT20: OSGOVT | DU20: STOCKS | DV20: OPESTLV | DW20: _Z | DX20: _Z | DY20: GVNAT | DZ20: _Z | EA20: _Z | EB20: WEIGHT | EC20: _Z | ED20: KT
A21: on national territory | B21: Closing | C21: 14 | D21: 0 | E21: 0 | F21: 0 | G21: 0 | H21: 0 | I21: 0 | J21: =ROUND(SUM(D21:G21,I21),3) -> 0 | K21: 0 | L21: 0 | M21: 0 | N21: 0 | O21: 0 | P21: 0 | Q21: 0 | R21: 0 | S21: 0 | T21: 0 | U21: 0 | V21: 0 | W21: 0 | X21: 0 | Y21: 0 | Z21: 0 | AA21: 0 | AB21: 0 | AC21: 0 | AD21: 0 | AE21: 0 | AF21: 0 | AG21: 0 | AH21: =ROUND(SUM(K21:N21,Q21:S21,V21,Y21,AB21,AF21:AG21),3) -> 0 | AI21: =ROUND(SUM(J21,AH21),3) -> 0 | AJ21: =IF(ROUND(J21-SUM(D21:G21,I21),3)=0,0,1)+IF(ROUND(AH21-SUM(K21:N21,Q21:S21,V21,Y21,AB21,AF21:AG21),3)=0,0,1)+IF(ROUND(AI21-SUM(AH21,J21),3)=0,0,1) -> 0 | AK21: =IF(AJ21=0," ",IF(AJ21=1,"A total is not equal to the sum of its components: ",AJ21&" totals are not equal to the sum of their components: "))&IF(AJ21=0,"",IF(J21-SUM(D21:G21,I21)=0,"","Total crude. ")&IF(AH21-SUM(K21:N21,Q21:S21,V21,Y21,AB21,AF21:AG21)=0,"","Total products. ")&IF(AI21-SUM(AH21,J21)=0,"","Total oil.")) | AT21: CSGOVT | DU21: STOCKS | DV21: CLOSTLV | DW21: _Z | DX21: _Z | DY21: GVNAT | DZ21: _Z | EA21: _Z | EB21: WEIGHT | EC21: _Z | ED21: KT
... A25: national territory | B25: Closing | C25: 18 | D25: 2377.005 | E25: 242.645 | F25: 0 | G25: 1315.344 | H25: 930.195 | I25: 0 | J25: =ROUND(SUM(D25:G25,I25),3) -> 3934.994 | K25: 0 | L25: 95.194 | M25: 1488.132 | N25: 344.583 | O25: 0 | P25: 344.583 | Q25: 19.254 | R25: 0 | S25: 410.025 | T25: 0 | U25: 410.025 | V25: 91.738 | W25: 1391.439 | X25: 547.973 | Y25: 1939.412 | Z25: 0 | AA25: 1939.412 | AB25: 1881.867 | AC25: 1092.196 | AD25: 0 | AE25: 789.671 | AF25: 17.595 | AG25: 222.751 | AH25: =ROUND(SUM(K25:N25,Q25:S25,V25,Y25,AB25,AF25:AG25),3) -> 6510.551 | AI25: =ROUND(SUM(J25,AH25),3) -> 10445.545 | AJ25: =IF(ROUND(J25-SUM(D25:G25,I25),3)=0,0,1)+IF(ROUND(AH25-SUM(K25:N25,Q25:S25,V25,Y25,AB25,AF25:AG25),3)=0,0,1)+IF(ROUND(AI25-SUM(AH25,J25),3)=0,0,1) -> 0 | AK25: =IF(AJ25=0," ",IF(AJ25=1,"A total is not equal to the sum of its components: ",AJ25&" totals are not equal to the sum of their components: "))&IF(AJ25=0,"",IF(J25-SUM(D25:G25,I25)=0,"","Total crude. ")&IF(AH25-SUM(K25:N25,Q25:S25,V25,Y25,AB25,AF25:AG25)=0,"","Total products. ")&IF(AI25-SUM(AH25,J25)=0,"","Total oil.")) | AT25: CSALLOTH | DU25: STOCKS | DV25: CLOSTLV | DW25: _Z | DX25: _Z | DY25: ALLOTHER | DZ25: _Z | EA25: _Z | EB25: WEIGHT | EC25: _Z | ED25: KT
A26: (io) Of which: obligated industry stocks | B26: Opening | C26: 19 | D26: 0 | E26: 0 | F26: 0 | G26: 0 | H26: 0 | I26: 0 | J26: =ROUND(SUM(D26:G26,I26),3) -> 0 | K26: 0 | L26: 0 | M26: 0 | N26: 0 | O26: 0 | P26: 0 | Q26: 0 | R26: 0 | S26: 0 | T26: 0 | U26: 0 | V26: 0 | W26: 0 | X26: 0 | Y26: 0 | Z26: 0 | AA26: 0 | AB26: 0 | AC26: 0 | AD26: 0 | AE26: 0 | AF26: 0 | AG26: 0 | AH26: =ROUND(SUM(K26:N26,Q26:S26,V26,Y26,AB26,AF26:AG26),3) -> 0 | AI26: =ROUND(SUM(J26,AH26),3) -> 0 | AT26: OSINDOBL | DU26: STOCKS | DV26: OPESTLV | DW26: _Z | DX26: _Z | DY26: INDNAT | DZ26: _Z | EA26: _Z | EB26: WEIGHT | EC26: _Z | ED26: KT
B27: Closing | C27: 20 | D27: 176 | E27: 0 | F27: 0 | G27: 0 | H27: 0 | I27: 0 | J27: =ROUND(SUM(D27:G27,I27),3) -> 176 | K27: 0 | L27: 0 | M27: 0 | N27: 0 | O27: 0 | P27: 0 | Q27: 0 | R27: 0 | S27: 0 | T27: 0 | U27: 0 | V27: 0 | W27: 0 | X27: 0 | Y27: 0 | Z27: 0 | AA27: 0 | AB27: 0 | AC27: 0 | AD27: 0 | AE27: 0 | AF27: 0 | AG27: 0 | AH27: =ROUND(SUM(K27:N27,Q27:S27,V27,Y27,AB27,AF27:AG27),3) -> 0 | AI27: =ROUND(SUM(J27,AH27),3) -> 176 | AT27: CSINDOBL | DU27: STOCKS | DV27: CLOSTLV | DW27: _Z | DX27: _Z | DY27: INDNAT | DZ27: _Z | EA27: _Z | EB27: WEIGHT | EC27: _Z | ED27: KT
A28: (j) Stocks held abroad under | B28: Opening | C28: 21 | D28: 117 | E28: 0 | F28: 0 | G28: 0 | H28: 0 | I28: 0 | J28: =ROUND(SUM(D28:G28,I28),3) -> 117 | K28: 0 | L28: 0 | M28: 0 | N28: 202 | O28: 0 | P28: 202 | Q28: 0 | R28: 0 | S28: 100 | T28: 0 | U28: 100 | V28: 0 | W28: 45 | X28: 0 | Y28: 45 | Z28: 0 | AA28: 45 | AB28: 2 | AC28: 2 | AD28: 0 | AE28: 0 | AF28: 0 | AG28: 0 | AH28: =ROUND(SUM(K28:N28,Q28:S28,V28,Y28,AB28,AF28:AG28),3) -> 349 | AI28: =ROUND(SUM(J28,AH28),3) -> 466 | AJ28: =IF(ROUND(J28-SUM(D28:G28,I28),3)=0,0,1)+IF(ROUND(AH28-SUM(K28:N28,Q28:S28,V28,Y28,AB28,AF28:AG28),3)=0,0,1)+IF(ROUND(AI28-SUM(AH28,J28),3)=0,0,1) -> 0 | AK28: =IF(AJ28=0," ",IF(AJ28=1,"A total is not equal to the sum of its components: ",AJ28&" totals are not equal to the sum of their components: "))&IF(AJ28=0,"",IF(J28-SUM(D28:G28,I28)=0,"","Total crude. ")&IF(AH28-SUM(K28:N28,Q28:S28,V28,Y28,AB28,AF28:AG28)=0,"","Total products. ")&IF(AI28-SUM(AH28,J28)=0,"","Total oil.")) | AT28: OSABRBIL | DU28: STOCKS | DV28: OPESTLV | DW28: _Z | DX28: _Z | DY28: ABRBIL | DZ28: _Z | EA28: _Z | EB28: WEIGHT | EC28: _Z | ED28: KT
A29: official agreement (o+p+q)* | B29: Closing 4 | C29: 22 | D29: 117 | E29: 0 | F29: 0 | G29: 0 | H29: 0 | I29: 0 | J29: =ROUND(SUM(D29:G29,I29),3) -> 117 | K29: 0 | L29: 0 | M29: 0 | N29: 202 | O29: 0 | P29: 202 | Q29: 0 | R29: 0 | S29: 100 | T29: 0 | U29: 100 | V29: 0 | W29: 45 | X29: 0 | Y29: 45 | Z29: 0 | AA29: 45 | AB29: 2 | AC29: 2 | AD29: 0 | AE29: 0 | AF29: 0 | AG29: 0 | AH29: =ROUND(SUM(K29:N29,Q29:S29,V29,Y29,AB29,AF29:AG29),3) -> 349 | AI29: =ROUND(SUM(J29,AH29),3) -> 466 | AJ29: =IF(ROUND(J29-SUM(D29:G29,I29),3)=0,0,1)+IF(ROUND(AH29-SUM(K29:N29,Q29:S29,V29,Y29,AB29,AF29:AG29),3)=0,0,1)+IF(ROUND(AI29-SUM(AH29,J29),3)=0,0,1) -> 0 | AK29: =IF(AJ29=0," ",IF(AJ29=1,"A total is not equal to the sum of its components: ",AJ29&" totals are not equal to the sum of their components: "))&IF(AJ29=0,"",IF(J29-SUM(D29:G29,I29)=0,"","Total crude. ")&IF(AH29-SUM(K29:N29,Q29:S29,V29,Y29,AB29,AF29:AG29)=0,"","Total products. ")&IF(AI29-SUM(AH29,J29)=0,"","Total oil.")) | AT29: CSABRBIL | DU29: STOCKS | DV29: CLOSTLV | DW29: _Z | DX29: _Z | DY29: ABRBIL | DZ29: _Z | EA29: _Z | EB29: WEIGHT | EC29: _Z | ED29: KT
A30: (k) Stocks held abroad designated definitely | B30: Opening | C30: 23 | D30: 0 | E30: 0 | F30: 0 | G30: 0 | H30: 0 | I30: 0 | J30: =ROUND(SUM(D30:G30,I30),3) -> 0 | K30: 0 | L30: 0 | M30: 0 | N30: 0 | O30: 0 | P30: 0 | Q30: 0 | R30: 0 | S30: 0 | T30: 0 | U30: 0 | V30: 0 | W30: 0 | X30: 0 | Y30: 0 | Z30: 0 | AA30: 0 | AB30: 0 | AC30: 0 | AD30: 0 | AE30: 0 | AF30: 0 | AG30: 0 | AH30: =ROUND(SUM(K30:N30,Q30:S30,V30,Y30,AB30,AF30:AG30),3) -> 0 | AI30: =ROUND(SUM(J30,AH30),3) -> 0 | AJ30: =IF(ROUND(J30-SUM(D30:G30,I30),3)=0,0,1)+IF(ROUND(AH30-SUM(K30:N30,Q30:S30,V30,Y30,AB30,AF30:AG30),3)=0,0,1)+IF(ROUND(AI30-SUM(AH30,J30),3)=0,0,1) -> 0 | AK30: =IF(AJ30=0," ",IF(AJ30=1,"A total is not equal to the sum of its components: ",AJ30&" totals are not equal to the sum of their components: "))&IF(AJ30=0,"",IF(J30-SUM(D30:G30,I30)=0,"","Total crude. ")&IF(AH30-SUM(K30:N30,Q30:S30,V30,Y30,AB30,AF30:AG30)=0,"","Total products. ")&IF(AI30-SUM(AH30,J30)=0,"","Total oil.")) | AT30: OSABRFOR | DU30: STOCKS | DV30: OPESTLV | DW30: _Z | DX30: _Z | DY30: ABRIMP | DZ30: _Z | EA30: _Z | EB30: WEIGHT | EC30: _Z | ED30: KT
A31: for import into your country | B31: Closing 5 | C31: 24 | D31: 0 | E31: 0 | F31: 0 | G31: 0 | H31: 0 | I31: 0 | J31: =ROUND(SUM(D31:G31,I31),3) -> 0 | K31: 0 | L31: 0 | M31: 0 | N31: 0 | O31: 0 | P31: 0 | Q31: 0 | R31: 0 | S31: 0 | T31: 0 | U31: 0 | V31: 0 | W31: 0 | X31: 0 | Y31: 0 | Z31: 0 | AA31: 0 | AB31: 0 | AC31: 0 | AD31: 0 | AE31: 0 | AF31: 0 | AG31: 0 | AH31: =ROUND(SUM(K31:N31,Q31:S31,V31,Y31,AB31,AF31:AG31),3) -> 0 | AI31: =ROUND(SUM(J31,AH31),3) -> 0 | AJ31: =IF(ROUND(J31-SUM(D31:G31,I31),3)=0,0,1)+IF(ROUND(AH31-SUM(K31:N31,Q31:S31,V31,Y31,AB31,AF31:AG31),3)=0,0,1)+IF(ROUND(AI31-SUM(AH31,J31),3)=0,0,1) -> 0 | AK31: =IF(AJ31=0," ",IF(AJ31=1,"A total is not equal to the sum of its components: ",AJ31&" totals are not equal to the sum of their components: "))&IF(AJ31=0,"",IF(J31-SUM(D31:G31,I31)=0,"","Total crude. ")&IF(AH31-SUM(K31:N31,Q31:S31,V31,Y31,AB31,AF31:AG31)=0,"","Total products. ")&IF(AI31-SUM(AH31,J31)=0,"","Total oil.")) | AT31: CSABRFOR | DU31: STOCKS | DV31: CLOSTLV | DW31: _Z | DX31: _Z | DY31: ABRIMP | DZ31: _Z | EA31: _Z | EB31: WEIGHT | EC31: _Z | ED31: KT
A32: (l) Total | B32: Opening | C32: 25 | D32: =ROUND(D8-D10-D12+D28+D30,3) -> 2869.351 | E32: =ROUND(E8-E10-E12+E28+E30,3) -> 356.056 | F32: =ROUND(F8-F10-F12+F28+F30,3) -> 0 | G32: =ROUND(G8-G10-G12+G28+G30,3) -> 1312.722 | H32: =ROUND(H8-H10-H12+H28+H30,3) -> 918.297 | I32: =ROUND(I8-I10-I12+I28+I30,3) -> 0 | J32: =ROUND(J8-J10-J12+J28+J30,3) -> 4538.129 | K32: =ROUND(K8-K10-K12+K28+K30,3) -> 0 | ... AG32: =ROUND(AG8-AG10-AG12+AG28+AG30,3) -> 222.643 | AH32: =ROUND(SUM(K32:N32,Q32:S32,V32,Y32,AB32,AF32:AG32),3) -> 7407.687 | AI32: =ROUND(SUM(J32,AH32),3) -> 11945.816 | AJ32: =IF(ROUND(J32-SUM(D32:G32,I32),3)=0,0,1)+IF(ROUND(AH32-SUM(K32:N32,Q32:S32,V32,Y32,AB32,AF32:AG32),3)=0,0,1)+IF(ROUND(AI32-SUM(AH32,J32),3)=0,0,1) -> 0 | AK32: =IF(AJ32=0," ",IF(AJ32=1,"A total is not equal to the sum of its components: ",AJ32&" totals are not equal to the sum of their components: "))&IF(AJ32=0,"",IF(J32-SUM(D32:G32,I32)=0,"","Total crude. ")&IF(AH32-SUM(K32:N32,Q32:S32,V32,Y32,AB32,AF32:AG32)=0,"","Total products. ")&IF(AI32-SUM(AH32,J32)=0,"","Total oil.")) | AT32: OSTOTAL | DU32: STOCKS | DV32: OPESTLV | DW32: _Z | DX32: _Z | DY32: IEACOV | DZ32: _Z | EA32: _Z | EB32: WEIGHT | EC32: _Z | ED32: KT
A33: stocks (a-b-c+j+k) | B33: Closing | C33: 26 | D33: =ROUND(D9-D11-D13+D29+D31,3) -> 3034.005 | E33: =ROUND(E9-E11-E13+E29+E31,3) -> 242.645 | F33: =ROUND(F9-F11-F13+F29+F31,3) -> 0 | G33: =ROUND(G9-G11-G13+G29+G31,3) -> 1315.344 | H33: =ROUND(H9-H11-H13+H29+H31,3) -> 930.195 | I33: =ROUND(I9-I11-I13+I29+I31,3) -> 0 | J33: =ROUND(J9-J11-J13+J29+J31,3) -> 4591.994 | K33: =ROUND(K9-K11-K13+K29+K31,3) -> 0 | ... AG33: =ROUND(AG9-AG11-AG13+AG29+AG31,3) -> 222.751 | AH33: =ROUND(SUM(K33:N33,Q33:S33,V33,Y33,AB33,AF33:AG33),3) -> 7738.551 | AI33: =ROUND(SUM(J33,AH33),3) -> 12330.545 | AJ33: =IF(ROUND(J33-SUM(D33:G33,I33),3)=0,0,1)+IF(ROUND(AH33-SUM(K33:N33,Q33:S33,V33,Y33,AB33,AF33:AG33),3)=0,0,1)+IF(ROUND(AI33-SUM(AH33,J33),3)=0,0,1) -> 0 | AK33: =IF(AJ33=0," ",IF(AJ33=1,"A total is not equal to the sum of its components: ",AJ33&" totals are not equal to the sum of their components: "))&IF(AJ33=0,"",IF(J33-SUM(D33:G33,I33)=0,"","Total crude. ")&IF(AH33-SUM(K33:N33,Q33:S33,V33,Y33,AB33,AF33:AG33)=0,"","Total products. ")&IF(AI33-SUM(AH33,J33)=0,"","Total oil.")) | AT33: CSTOTAL | DU33: STOCKS | DV33: CLOSTLV | DW33: _Z | DX33: _Z | DY33: IEACOV | DZ33: _Z | EA33: _Z | EB33: WEIGHT | EC33: _Z | ED33: KT
A34: (m) Other stocks in | B34: Opening | C34: 27 | D34: 1442.022 | E34: 0.113 | F34: 0 | G34: 0 | H34: 0 | I34: 0 | J34: =ROUND(SUM(D34:G34,I34),3) -> 1442.135 | K34: 0 | L34: 0 | M34: 0 | N34: 0 | O34: 0 | P34: 0 | Q34: 0 | R34: 0 | S34: 0 | T34: 0 | U34: 0 | V34: 0 | W34: 0 | X34: 0 | Y34: 0 | Z34: 0 | AA34: 0 | AB34: 0 | AC34: 0 | AD34: 0 | AE34: 0 | AF34: 0 | AG34: 0 | AH34: =ROUND(SUM(K34:N34,Q34:S34,V34,Y34,AB34,AF34:AG34),3) -> 0 | AI34: =ROUND(SUM(J34,AH34),3) -> 1442.135 | AJ34: =IF(ROUND(J34-SUM(D34:G34,I34),3)=0,0,1)+IF(ROUND(AH34-SUM(K34:N34,Q34:S34,V34,Y34,AB34,AF34:AG34),3)=0,0,1)+IF(ROUND(AI34-SUM(AH34,J34),3)=0,0,1) -> 0 | AK34: =IF(AJ34=0," ",IF(AJ34=1,"A total is not equal to the sum of its components: ",AJ34&" totals are not equal to the sum of their components: "))&IF(AJ34=0,"",IF(J34-SUM(D34:G34,I34)=0,"","Total crude. ")&IF(AH34-SUM(K34:N34,Q34:S34,V34,Y34,AB34,AF34:AG34)=0,"","Total products. ")&IF(AI34-SUM(AH34,J34)=0,"","Total oil.")) | AT34: OSOTHBON | DU34: STOCKS | DV34: OPESTLV | DW34: _Z | DX34: _Z | DY34: OBONDED | DZ34: _Z | EA34: _Z | EB34: WEIGHT | EC34: _Z | ED34: KT
A35: bonded areas | B35: Closing | C35: 28 | D35: 1488.647 | E35: 27.6 | F35: 0 | G35: 0 | H35: 0 | I35: 0 | J35: =ROUND(SUM(D35:G35,I35),3) -> 1516.247 | K35: 0 | L35: 0 | M35: 0 | N35: 0 | O35: 0 | P35: 0 | Q35: 0 | R35: 0 | S35: 0 | T35: 0 | U35: 0 | V35: 0 | W35: 0 | X35: 0 | Y35: 0 | Z35: 0 | AA35: 0 | AB35: 0 | AC35: 0 | AD35: 0 | AE35: 0 | AF35: 0 | AG35: 0 | AH35: =ROUND(SUM(K35:N35,Q35:S35,V35,Y35,AB35,AF35:AG35),3) -> 0 | AI35: =ROUND(SUM(J35,AH35),3) -> 1516.247 | AJ35: =IF(ROUND(J35-SUM(D35:G35,I35),3)=0,0,1)+IF(ROUND(AH35-SUM(K35:N35,Q35:S35,V35,Y35,AB35,AF35:AG35),3)=0,0,1)+IF(ROUND(AI35-SUM(AH35,J35),3)=0,0,1) -> 0 | AK35: =IF(AJ35=0," ",IF(AJ35=1,"A total is not equal to the sum of its components: ",AJ35&" totals are not equal to the sum of their components: "))&IF(AJ35=0,"",IF(J35-SUM(D35:G35,I35)=0,"","Total crude. ")&IF(AH35-SUM(K35:N35,Q35:S35,V35,Y35,AB35,AF35:AG35)=0,"","Total products. ")&IF(AI35-SUM(AH35,J35)=0,"","Total oil.")) | AT35: CSOTHBON | DU35: STOCKS | DV35: CLOSTLV | DW35: _Z | DX35: _Z | DY35: OBONDED | DZ35: _Z | EA35: _Z | EB35: WEIGHT | EC35: _Z | ED35: KT
A36: (n) Pipeline | B36: Opening | C36: 29 | D36: 0 | E36: 0 | F36: 0 | G36: 0 | H36: 0 | I36: 0 | J36: =ROUND(SUM(D36:G36,I36),3) -> 0 | K36: 0 | L36: 0 | M36: 0 | N36: 0 | O36: 0 | P36: 0 | Q36: 0 | R36: 0 | S36: 0 | T36: 0 | U36: 0 | V36: 0 | W36: 0 | X36: 0 | Y36: 0 | Z36: 0 | AA36: 0 | AB36: 0 | AC36: 0 | AD36: 0 | AE36: 0 | AF36: 0 | AG36: 0 | AH36: =ROUND(SUM(K36:N36,Q36:S36,V36,Y36,AB36,AF36:AG36),3) -> 0 | AI36: =ROUND(SUM(J36,AH36),3) -> 0 | AJ36: =IF(ROUND(J36-SUM(D36:G36,I36),3)=0,0,1)+IF(ROUND(AH36-SUM(K36:N36,Q36:S36,V36,Y36,AB36,AF36:AG36),3)=0,0,1)+IF(ROUND(AI36-SUM(AH36,J36),3)=0,0,1) -> 0 | AK36: =IF(AJ36=0," ",IF(AJ36=1,"A total is not equal to the sum of its components: ",AJ36&" totals are not equal to the sum of their components: "))&IF(AJ36=0,"",IF(J36-SUM(D36:G36,I36)=0,"","Total crude. ")&IF(AH36-SUM(K36:N36,Q36:S36,V36,Y36,AB36,AF36:AG36)=0,"","Total products. ")&IF(AI36-SUM(AH36,J36)=0,"","Total oil.")) | AT36: OSPIPE | DU36: STOCKS | DV36: OPESTLV | DW36: _Z | DX36: _Z | DY36: PIPE | DZ36: _Z | EA36: _Z | EB36: WEIGHT | EC36: _Z | ED36: KT
